{"text_format":"1","workbook":"xlsx","n_sheets":49,"sheets":["Explanation","Results phase A","Total phase B","Total phase C","Explanation phase A","phase A","explanation phase B","phase B1","phase B2","phase B3","phase B4","phase B5","phase B6","phase B7","phase B8","phase B9","phase B10","phase B11","phase B12","phase B13","phase B14","phase B15","phase B16","phase B17","phase B18","phase B19","phase B20","explanation phase C","phase C1","phase C2","phase C3","phase C4","phase C5","phase C6","phase C7","phase C8","phase C9","phase C10","phase C11","phase C12","phase C13","phase C14","phase C15","phase C16","phase C17","phase C18","phase C19","phase C20","Blad1"],"not_rendered":{"charts":0,"images":0,"macros":1,"external_links":0,"defined_names":42,"comments":41,"pivot_tables":0},"unopened":[],"bounds":{"document_bytes":16777216,"sheet_cells":100000,"rows_first":2000,"rows_last":500,"rows_between":2000,"halvings":0,"cell_chars":16384,"cell_head_chars":4096},"cells_cut":0,"cells_raw":0,"read":"whole","date_system":"1900"}

{"sheet":"Explanation","index":0,"n_rows":0,"n_cols":0,"rows_kept":0,"cut":false,"hidden":false,"merged":[]}

{"sheet":"Results phase A","index":1,"n_rows":59,"n_cols":6,"rows_kept":59,"cut":false,"hidden":false,"merged":[[0,1,0,4]]}
[null,"Ranking order of all assessed infectious diseases in phase A"]
[null,"ranking order phase A","total score","infectious disease","go to phase B"]
[null,{"$f":"'phase A'!N15","v":1},{"$f":"'phase A'!M15","v":59},{"$f":"'phase A'!B15","v":"legionellosis"},null,"Ja"]
[null,{"$f":"'phase A'!N11","v":4},{"$f":"'phase A'!M11","v":48},{"$f":"'phase A'!B11","v":"invasive streptococcal inf."},null,"Nee"]
[null,{"$f":"'phase A'!N6","v":6},{"$f":"'phase A'!M6","v":47},{"$f":"'phase A'!B6","v":"gastroenteritis"}]
[null,{"$f":"'phase A'!N23","v":8},{"$f":"'phase A'!M23","v":43},{"$f":"'phase A'!B23","v":"RS-virus"}]
[null,{"$f":"'phase A'!N13","v":10},{"$f":"'phase A'!M13","v":42},{"$f":"'phase A'!B13","v":"impetigo"}]
[null,{"$f":"'phase A'!N20","v":15},{"$f":"'phase A'!M20","v":35},{"$f":"'phase A'!B20","v":"MRSA (staphylococcus aureus)"}]
[null,{"$f":"'phase A'!N4","v":16},{"$f":"'phase A'!M4","v":34},{"$f":"'phase A'!B4","v":"mumps"}]
[null,{"$f":"'phase A'!N17","v":17},{"$f":"'phase A'!M17","v":33},{"$f":"'phase A'!B17","v":"malaria"}]
[null,{"$f":"'phase A'!N21","v":19},{"$f":"'phase A'!M21","v":31},{"$f":"'phase A'!B21","v":"psittacosis"}]
[null,{"$f":"'phase A'!N5","v":21},{"$f":"'phase A'!M5","v":30},{"$f":"'phase A'!B5","v":"erythema inf."}]
[null,{"$f":"'phase A'!N12","v":101},{"$f":"'phase A'!M12","v":55},{"$f":"'phase A'!B12","v":"influenza"}]
[null,{"$f":"'phase A'!N14","v":101},{"$f":"'phase A'!M14","v":50},{"$f":"'phase A'!B14","v":"whooping cough"}]
[null,{"$f":"'phase A'!N24","v":101},{"$f":"'phase A'!M24","v":48},{"$f":"'phase A'!B24","v":"rabies"}]
[null,{"$f":"'phase A'!N19","v":101},{"$f":"'phase A'!M19","v":44},{"$f":"'phase A'!B19","v":"meningococcal disease"}]
[null,{"$f":"'phase A'!N10","v":101},{"$f":"'phase A'!M10","v":43},{"$f":"'phase A'!B10","v":"hepatitis C"}]
[null,{"$f":"'phase A'!N9","v":101},{"$f":"'phase A'!M9","v":39},{"$f":"'phase A'!B9","v":"hepatitis B"}]
[null,{"$f":"'phase A'!N8","v":101},{"$f":"'phase A'!M8","v":39},{"$f":"'phase A'!B8","v":"hepatitis A"}]
[null,{"$f":"'phase A'!N22","v":101},{"$f":"'phase A'!M22","v":39},{"$f":"'phase A'!B22","v":"Q fever"}]
[null,{"$f":"'phase A'!N28","v":101},{"$f":"'phase A'!M28","v":39},{"$f":"'phase A'!B28","v":"chickenpox"}]
[null,{"$f":"'phase A'!N7","v":101},{"$f":"'phase A'!M7","v":32},{"$f":"'phase A'!B7","v":"hantavirus"}]
[null,{"$f":"'phase A'!N27","v":101},{"$f":"'phase A'!M27","v":31},{"$f":"'phase A'!B27","v":"shigellosis "}]
[null,{"$f":"'phase A'!N18","v":101},{"$f":"'phase A'!M18","v":29},{"$f":"'phase A'!B18","v":"measles"}]
[null,{"$f":"'phase A'!N16","v":101},{"$f":"'phase A'!M16","v":27},{"$f":"'phase A'!B16","v":"lyme disease"}]
[null,{"$f":"'phase A'!N26","v":101},{"$f":"'phase A'!M26","v":24},{"$f":"'phase A'!B26","v":"scabies"}]
[null,{"$f":"'phase A'!N25","v":101},{"$f":"'phase A'!M25","v":16},{"$f":"'phase A'!B25","v":"rubella"}]
[null,{"$f":"'phase A'!N29","v":101},{"$f":"'phase A'!M29","v":0},{"$f":"'phase A'!B29","v":0}]
[null,{"$f":"'phase A'!N30","v":101},{"$f":"'phase A'!M30","v":0},{"$f":"'phase A'!B30","v":0}]
[null,{"$f":"'phase A'!N31","v":101},{"$f":"'phase A'!M31","v":0},{"$f":"'phase A'!B31","v":0}]
[null,{"$f":"'phase A'!N32","v":101},{"$f":"'phase A'!M32","v":0},{"$f":"'phase A'!B32","v":0}]
[null,{"$f":"'phase A'!N33","v":101},{"$f":"'phase A'!M33","v":0},{"$f":"'phase A'!B33","v":0}]
[null,{"$f":"'phase A'!N34","v":101},{"$f":"'phase A'!M34","v":0},{"$f":"'phase A'!B34","v":0}]
[null,{"$f":"'phase A'!N35","v":101},{"$f":"'phase A'!M35","v":0},{"$f":"'phase A'!B35","v":0}]
[null,{"$f":"'phase A'!N36","v":101},{"$f":"'phase A'!M36","v":0},{"$f":"'phase A'!B36","v":0}]
[null,{"$f":"'phase A'!N37","v":101},{"$f":"'phase A'!M37","v":0},{"$f":"'phase A'!B37","v":0}]
[null,{"$f":"'phase A'!N38","v":101},{"$f":"'phase A'!M38","v":0},{"$f":"'phase A'!B38","v":0}]
[null,{"$f":"'phase A'!N39","v":101},{"$f":"'phase A'!M39","v":0},{"$f":"'phase A'!B39","v":0}]
[null,{"$f":"'phase A'!N40","v":101},{"$f":"'phase A'!M40","v":0},{"$f":"'phase A'!B40","v":0}]
[null,{"$f":"'phase A'!N41","v":101},{"$f":"'phase A'!M41","v":0},{"$f":"'phase A'!B41","v":0}]
[null,{"$f":"'phase A'!N42","v":101},{"$f":"'phase A'!M42","v":0},{"$f":"'phase A'!B42","v":0}]
[null,{"$f":"'phase A'!N43","v":101},{"$f":"'phase A'!M43","v":0},{"$f":"'phase A'!B43","v":0}]
[null,{"$f":"'phase A'!N44","v":101},{"$f":"'phase A'!M44","v":0},{"$f":"'phase A'!B44","v":0}]
[null,{"$f":"'phase A'!N45","v":101},{"$f":"'phase A'!M45","v":0},{"$f":"'phase A'!B45","v":0}]
[null,{"$f":"'phase A'!N46","v":101},{"$f":"'phase A'!M46","v":0},{"$f":"'phase A'!B46","v":0}]
[null,{"$f":"'phase A'!N47","v":101},{"$f":"'phase A'!M47","v":0},{"$f":"'phase A'!B47","v":0}]
[null,{"$f":"'phase A'!N48","v":101},{"$f":"'phase A'!M48","v":0},{"$f":"'phase A'!B48","v":0}]
[null,{"$f":"'phase A'!N49","v":101},{"$f":"'phase A'!M49","v":0},{"$f":"'phase A'!B49","v":0}]
[null,{"$f":"'phase A'!N50","v":101},{"$f":"'phase A'!M50","v":0},{"$f":"'phase A'!B50","v":0}]
[null,{"$f":"'phase A'!N51","v":101},{"$f":"'phase A'!M51","v":0},{"$f":"'phase A'!B51","v":0}]
[null,{"$f":"'phase A'!N52","v":101},{"$f":"'phase A'!M52","v":0},{"$f":"'phase A'!B52","v":0}]
[null,{"$f":"'phase A'!N53","v":101},{"$f":"'phase A'!M53","v":0},{"$f":"'phase A'!B53","v":0}]
[null,{"$f":"'phase A'!N54","v":101},{"$f":"'phase A'!M54","v":0},{"$f":"'phase A'!B54","v":0}]
[null,{"$f":"'phase A'!N55","v":101},{"$f":"'phase A'!M55","v":0},{"$f":"'phase A'!B55","v":0}]
[null,{"$f":"'phase A'!N56","v":101},{"$f":"'phase A'!M56","v":0},{"$f":"'phase A'!B56","v":0}]
[null,{"$f":"'phase A'!N57","v":101},{"$f":"'phase A'!M57","v":0},{"$f":"'phase A'!B57","v":0}]
[null,{"$f":"'phase A'!N58","v":101},{"$f":"'phase A'!M58","v":0},{"$f":"'phase A'!B58","v":0}]
[null,{"$f":"'phase A'!N59","v":101},{"$f":"'phase A'!M59","v":0},{"$f":"'phase A'!B59","v":0}]
[null,{"$f":"'phase A'!N60","v":101},{"$f":"'phase A'!M60","v":0},{"$f":"'phase A'!B60","v":0}]

{"sheet":"Total phase B","index":2,"n_rows":402,"n_cols":7,"rows_kept":402,"cut":false,"hidden":false,"merged":[]}
[null,"Ranking order of all assessed groups at risk in phase B"]
[null,"group at risk","infectious disease","tab","total score","ranking ","faseBx rang"]
[null,{"$f":"IF(E3<>0,'phase B1'!B9,\"\")","v":""},{"$f":"IF(E3<>0,'phase B1'!$G$1,\"\")","v":""},{"$f":"IF(E3<>0,'phase B1'!$B$1,\"\")","v":""},{"$f":"'phase B1'!L9","v":0},{"$f":"IF(E3=0,401,RANK(E3,$E$3:$E$402))","v":401},{"$f":"'phase B1'!M9","v":101}]
[null,{"$f":"IF(E4<>0,'phase B8'!B23,\"\")","v":""},{"$f":"IF(E4<>0,'phase B8'!$G$1,\"\")","v":""},{"$f":"IF(E4<>0,'phase B8'!$B$1,\"\")","v":""},{"$f":"'phase B8'!L23","v":0},401,{"$f":"'phase B8'!M23","v":101}]
[null,{"$f":"IF(E5<>0,'phase B3'!B7,\"\")","v":""},{"$f":"IF(E5<>0,'phase B3'!$G$1,\"\")","v":""},{"$f":"IF(E5<>0,'phase B3'!$B$1,\"\")","v":""},{"$f":"'phase B3'!L7","v":0},401,{"$f":"'phase B3'!M7","v":101}]
[null,{"$f":"IF(E6<>0,'phase B2'!B24,\"\")","v":""},{"$f":"IF(E6<>0,'phase B2'!$G$1,\"\")","v":""},{"$f":"IF(E6<>0,'phase B2'!$B$1,\"\")","v":""},{"$f":"'phase B2'!L24","v":0},401,{"$f":"'phase B2'!M24","v":101}]
[null,{"$f":"IF(E7<>0,'phase B1'!B10,\"\")","v":""},{"$f":"IF(E7<>0,'phase B1'!$G$1,\"\")","v":""},{"$f":"IF(E7<>0,'phase B1'!$B$1,\"\")","v":""},{"$f":"'phase B1'!L10","v":0},401,{"$f":"'phase B1'!M10","v":101}]
[null,{"$f":"IF(E8<>0,'phase B4'!B23,\"\")","v":""},{"$f":"IF(E8<>0,'phase B4'!$G$1,\"\")","v":""},{"$f":"IF(E8<>0,'phase B4'!$B$1,\"\")","v":""},{"$f":"'phase B4'!L23","v":0},401,{"$f":"'phase B4'!M23","v":101}]
[null,{"$f":"IF(E9<>0,'phase B20'!B24,\"\")","v":""},{"$f":"IF(E9<>0,'phase B20'!$G$1,\"\")","v":""},{"$f":"IF(E9<>0,'phase B20'!$B$1,\"\")","v":""},{"$f":"'phase B20'!L24","v":0},401,{"$f":"'phase B20'!M24","v":101}]
[null,{"$f":"IF(E10<>0,'phase B2'!B5,\"\")","v":""},{"$f":"IF(E10<>0,'phase B2'!$G$1,\"\")","v":""},{"$f":"IF(E10<>0,'phase B2'!$B$1,\"\")","v":""},{"$f":"'phase B2'!L5","v":0},401,{"$f":"'phase B2'!M5","v":101}]
[null,{"$f":"IF(E11<>0,'phase B5'!B17,\"\")","v":""},{"$f":"IF(E11<>0,'phase B5'!$G$1,\"\")","v":""},{"$f":"IF(E11<>0,'phase B5'!$B$1,\"\")","v":""},{"$f":"'phase B5'!L17","v":0},401,{"$f":"'phase B5'!M17","v":101}]
[null,{"$f":"IF(E12<>0,'phase B1'!B5,\"\")","v":""},{"$f":"IF(E12<>0,'phase B1'!$G$1,\"\")","v":""},{"$f":"IF(E12<>0,'phase B1'!$B$1,\"\")","v":""},{"$f":"'phase B1'!L5","v":0},401,{"$f":"'phase B1'!M5","v":101}]
[null,{"$f":"IF(E13<>0,'phase B1'!B6,\"\")","v":""},{"$f":"IF(E13<>0,'phase B1'!$G$1,\"\")","v":""},{"$f":"IF(E13<>0,'phase B1'!$B$1,\"\")","v":""},{"$f":"'phase B1'!L6","v":0},401,{"$f":"'phase B1'!M6","v":101}]
[null,{"$f":"IF(E14<>0,'phase B1'!B7,\"\")","v":""},{"$f":"IF(E14<>0,'phase B1'!$G$1,\"\")","v":""},{"$f":"IF(E14<>0,'phase B1'!$B$1,\"\")","v":""},{"$f":"'phase B1'!L7","v":0},401,{"$f":"'phase B1'!M7","v":101}]
[null,{"$f":"IF(E15<>0,'phase B1'!B8,\"\")","v":""},{"$f":"IF(E15<>0,'phase B1'!$G$1,\"\")","v":""},{"$f":"IF(E15<>0,'phase B1'!$B$1,\"\")","v":""},{"$f":"'phase B1'!L8","v":0},401,{"$f":"'phase B1'!M8","v":101}]
[null,{"$f":"IF(E16<>0,'phase B1'!B11,\"\")","v":""},{"$f":"IF(E16<>0,'phase B1'!$G$1,\"\")","v":""},{"$f":"IF(E16<>0,'phase B1'!$B$1,\"\")","v":""},{"$f":"'phase B1'!L11","v":0},401,{"$f":"'phase B1'!M11","v":101}]
[null,{"$f":"IF(E17<>0,'phase B1'!B12,\"\")","v":""},{"$f":"IF(E17<>0,'phase B1'!$G$1,\"\")","v":""},{"$f":"IF(E17<>0,'phase B1'!$B$1,\"\")","v":""},{"$f":"'phase B1'!L12","v":0},401,{"$f":"'phase B1'!M12","v":101}]
[null,{"$f":"IF(E18<>0,'phase B1'!B13,\"\")","v":""},{"$f":"IF(E18<>0,'phase B1'!$G$1,\"\")","v":""},{"$f":"IF(E18<>0,'phase B1'!$B$1,\"\")","v":""},{"$f":"'phase B1'!L13","v":0},401,{"$f":"'phase B1'!M13","v":101}]
[null,{"$f":"IF(E19<>0,'phase B1'!B14,\"\")","v":""},{"$f":"IF(E19<>0,'phase B1'!$G$1,\"\")","v":""},{"$f":"IF(E19<>0,'phase B1'!$B$1,\"\")","v":""},{"$f":"'phase B1'!L14","v":0},401,{"$f":"'phase B1'!M14","v":101}]
[null,{"$f":"IF(E20<>0,'phase B1'!B15,\"\")","v":""},{"$f":"IF(E20<>0,'phase B1'!$G$1,\"\")","v":""},{"$f":"IF(E20<>0,'phase B1'!$B$1,\"\")","v":""},{"$f":"'phase B1'!L15","v":0},401,{"$f":"'phase B1'!M15","v":101}]
[null,{"$f":"IF(E21<>0,'phase B1'!B16,\"\")","v":""},{"$f":"IF(E21<>0,'phase B1'!$G$1,\"\")","v":""},{"$f":"IF(E21<>0,'phase B1'!$B$1,\"\")","v":""},{"$f":"'phase B1'!L16","v":0},401,{"$f":"'phase B1'!M16","v":101}]
[null,{"$f":"IF(E22<>0,'phase B1'!B17,\"\")","v":""},{"$f":"IF(E22<>0,'phase B1'!$G$1,\"\")","v":""},{"$f":"IF(E22<>0,'phase B1'!$B$1,\"\")","v":""},{"$f":"'phase B1'!L17","v":0},401,{"$f":"'phase B1'!M17","v":101}]
[null,{"$f":"IF(E23<>0,'phase B1'!B18,\"\")","v":""},{"$f":"IF(E23<>0,'phase B1'!$G$1,\"\")","v":""},{"$f":"IF(E23<>0,'phase B1'!$B$1,\"\")","v":""},{"$f":"'phase B1'!L18","v":0},401,{"$f":"'phase B1'!M18","v":101}]
[null,{"$f":"IF(E24<>0,'phase B1'!B19,\"\")","v":""},{"$f":"IF(E24<>0,'phase B1'!$G$1,\"\")","v":""},{"$f":"IF(E24<>0,'phase B1'!$B$1,\"\")","v":""},{"$f":"'phase B1'!L19","v":0},401,{"$f":"'phase B1'!M19","v":101}]
[null,{"$f":"IF(E25<>0,'phase B1'!B20,\"\")","v":""},{"$f":"IF(E25<>0,'phase B1'!$G$1,\"\")","v":""},{"$f":"IF(E25<>0,'phase B1'!$B$1,\"\")","v":""},{"$f":"'phase B1'!L20","v":0},401,{"$f":"'phase B1'!M20","v":101}]
[null,{"$f":"IF(E26<>0,'phase B1'!B21,\"\")","v":""},{"$f":"IF(E26<>0,'phase B1'!$G$1,\"\")","v":""},{"$f":"IF(E26<>0,'phase B1'!$B$1,\"\")","v":""},{"$f":"'phase B1'!L21","v":0},401,{"$f":"'phase B1'!M21","v":101}]
[null,{"$f":"IF(E27<>0,'phase B1'!B22,\"\")","v":""},{"$f":"IF(E27<>0,'phase B1'!$G$1,\"\")","v":""},{"$f":"IF(E27<>0,'phase B1'!$B$1,\"\")","v":""},{"$f":"'phase B1'!L22","v":0},401,{"$f":"'phase B1'!M22","v":101}]
[null,{"$f":"IF(E28<>0,'phase B1'!B23,\"\")","v":""},{"$f":"IF(E28<>0,'phase B1'!$G$1,\"\")","v":""},{"$f":"IF(E28<>0,'phase B1'!$B$1,\"\")","v":""},{"$f":"'phase B1'!L23","v":0},401,{"$f":"'phase B1'!M23","v":101}]
[null,{"$f":"IF(E29<>0,'phase B1'!B24,\"\")","v":""},{"$f":"IF(E29<>0,'phase B1'!$G$1,\"\")","v":""},{"$f":"IF(E29<>0,'phase B1'!$B$1,\"\")","v":""},{"$f":"'phase B1'!L24","v":0},401,{"$f":"'phase B1'!M24","v":101}]
[null,{"$f":"IF(E30<>0,'phase B2'!B6,\"\")","v":""},{"$f":"IF(E30<>0,'phase B2'!$G$1,\"\")","v":""},{"$f":"IF(E30<>0,'phase B2'!$B$1,\"\")","v":""},{"$f":"'phase B2'!L6","v":0},401,{"$f":"'phase B2'!M6","v":101}]
[null,{"$f":"IF(E31<>0,'phase B2'!B7,\"\")","v":""},{"$f":"IF(E31<>0,'phase B2'!$G$1,\"\")","v":""},{"$f":"IF(E31<>0,'phase B2'!$B$1,\"\")","v":""},{"$f":"'phase B2'!L7","v":0},401,{"$f":"'phase B2'!M7","v":101}]
[null,{"$f":"IF(E32<>0,'phase B2'!B8,\"\")","v":""},{"$f":"IF(E32<>0,'phase B2'!$G$1,\"\")","v":""},{"$f":"IF(E32<>0,'phase B2'!$B$1,\"\")","v":""},{"$f":"'phase B2'!L8","v":0},401,{"$f":"'phase B2'!M8","v":101}]
[null,{"$f":"IF(E33<>0,'phase B2'!B9,\"\")","v":""},{"$f":"IF(E33<>0,'phase B2'!$G$1,\"\")","v":""},{"$f":"IF(E33<>0,'phase B2'!$B$1,\"\")","v":""},{"$f":"'phase B2'!L9","v":0},401,{"$f":"'phase B2'!M9","v":101}]
[null,{"$f":"IF(E34<>0,'phase B2'!B10,\"\")","v":""},{"$f":"IF(E34<>0,'phase B2'!$G$1,\"\")","v":""},{"$f":"IF(E34<>0,'phase B2'!$B$1,\"\")","v":""},{"$f":"'phase B2'!L10","v":0},401,{"$f":"'phase B2'!M10","v":101}]
[null,{"$f":"IF(E35<>0,'phase B2'!B11,\"\")","v":""},{"$f":"IF(E35<>0,'phase B2'!$G$1,\"\")","v":""},{"$f":"IF(E35<>0,'phase B2'!$B$1,\"\")","v":""},{"$f":"'phase B2'!L11","v":0},401,{"$f":"'phase B2'!M11","v":101}]
[null,{"$f":"IF(E36<>0,'phase B2'!B12,\"\")","v":""},{"$f":"IF(E36<>0,'phase B2'!$G$1,\"\")","v":""},{"$f":"IF(E36<>0,'phase B2'!$B$1,\"\")","v":""},{"$f":"'phase B2'!L12","v":0},401,{"$f":"'phase B2'!M12","v":101}]
[null,{"$f":"IF(E37<>0,'phase B2'!B13,\"\")","v":""},{"$f":"IF(E37<>0,'phase B2'!$G$1,\"\")","v":""},{"$f":"IF(E37<>0,'phase B2'!$B$1,\"\")","v":""},{"$f":"'phase B2'!L13","v":0},401,{"$f":"'phase B2'!M13","v":101}]
[null,{"$f":"IF(E38<>0,'phase B2'!B14,\"\")","v":""},{"$f":"IF(E38<>0,'phase B2'!$G$1,\"\")","v":""},{"$f":"IF(E38<>0,'phase B2'!$B$1,\"\")","v":""},{"$f":"'phase B2'!L14","v":0},401,{"$f":"'phase B2'!M14","v":101}]
[null,{"$f":"IF(E39<>0,'phase B2'!B15,\"\")","v":""},{"$f":"IF(E39<>0,'phase B2'!$G$1,\"\")","v":""},{"$f":"IF(E39<>0,'phase B2'!$B$1,\"\")","v":""},{"$f":"'phase B2'!L15","v":0},401,{"$f":"'phase B2'!M15","v":101}]
[null,{"$f":"IF(E40<>0,'phase B2'!B16,\"\")","v":""},{"$f":"IF(E40<>0,'phase B2'!$G$1,\"\")","v":""},{"$f":"IF(E40<>0,'phase B2'!$B$1,\"\")","v":""},{"$f":"'phase B2'!L16","v":0},401,{"$f":"'phase B2'!M16","v":101}]
[null,{"$f":"IF(E41<>0,'phase B2'!B17,\"\")","v":""},{"$f":"IF(E41<>0,'phase B2'!$G$1,\"\")","v":""},{"$f":"IF(E41<>0,'phase B2'!$B$1,\"\")","v":""},{"$f":"'phase B2'!L17","v":0},401,{"$f":"'phase B2'!M17","v":101}]
[null,{"$f":"IF(E42<>0,'phase B2'!B18,\"\")","v":""},{"$f":"IF(E42<>0,'phase B2'!$G$1,\"\")","v":""},{"$f":"IF(E42<>0,'phase B2'!$B$1,\"\")","v":""},{"$f":"'phase B2'!L18","v":0},401,{"$f":"'phase B2'!M18","v":101}]
[null,{"$f":"IF(E43<>0,'phase B2'!B19,\"\")","v":""},{"$f":"IF(E43<>0,'phase B2'!$G$1,\"\")","v":""},{"$f":"IF(E43<>0,'phase B2'!$B$1,\"\")","v":""},{"$f":"'phase B2'!L19","v":0},401,{"$f":"'phase B2'!M19","v":101}]
[null,{"$f":"IF(E44<>0,'phase B2'!B20,\"\")","v":""},{"$f":"IF(E44<>0,'phase B2'!$G$1,\"\")","v":""},{"$f":"IF(E44<>0,'phase B2'!$B$1,\"\")","v":""},{"$f":"'phase B2'!L20","v":0},401,{"$f":"'phase B2'!M20","v":101}]
[null,{"$f":"IF(E45<>0,'phase B2'!B21,\"\")","v":""},{"$f":"IF(E45<>0,'phase B2'!$G$1,\"\")","v":""},{"$f":"IF(E45<>0,'phase B2'!$B$1,\"\")","v":""},{"$f":"'phase B2'!L21","v":0},401,{"$f":"'phase B2'!M21","v":101}]
[null,{"$f":"IF(E46<>0,'phase B2'!B22,\"\")","v":""},{"$f":"IF(E46<>0,'phase B2'!$G$1,\"\")","v":""},{"$f":"IF(E46<>0,'phase B2'!$B$1,\"\")","v":""},{"$f":"'phase B2'!L22","v":0},401,{"$f":"'phase B2'!M22","v":101}]
[null,{"$f":"IF(E47<>0,'phase B2'!B23,\"\")","v":""},{"$f":"IF(E47<>0,'phase B2'!$G$1,\"\")","v":""},{"$f":"IF(E47<>0,'phase B2'!$B$1,\"\")","v":""},{"$f":"'phase B2'!L23","v":0},401,{"$f":"'phase B2'!M23","v":101}]
[null,{"$f":"IF(E48<>0,'phase B3'!B5,\"\")","v":""},{"$f":"IF(E48<>0,'phase B3'!$G$1,\"\")","v":""},{"$f":"IF(E48<>0,'phase B3'!$B$1,\"\")","v":""},{"$f":"'phase B3'!L5","v":0},401,{"$f":"'phase B3'!M5","v":101}]
[null,{"$f":"IF(E49<>0,'phase B3'!B6,\"\")","v":""},{"$f":"IF(E49<>0,'phase B3'!$G$1,\"\")","v":""},{"$f":"IF(E49<>0,'phase B3'!$B$1,\"\")","v":""},{"$f":"'phase B3'!L6","v":0},401,{"$f":"'phase B3'!M6","v":101}]
[null,{"$f":"IF(E50<>0,'phase B3'!B8,\"\")","v":""},{"$f":"IF(E50<>0,'phase B3'!$G$1,\"\")","v":""},{"$f":"IF(E50<>0,'phase B3'!$B$1,\"\")","v":""},{"$f":"'phase B3'!L8","v":0},401,{"$f":"'phase B3'!M8","v":101}]
[null,{"$f":"IF(E51<>0,'phase B3'!B9,\"\")","v":""},{"$f":"IF(E51<>0,'phase B3'!$G$1,\"\")","v":""},{"$f":"IF(E51<>0,'phase B3'!$B$1,\"\")","v":""},{"$f":"'phase B3'!L9","v":0},401,{"$f":"'phase B3'!M9","v":101}]
[null,{"$f":"IF(E52<>0,'phase B3'!B10,\"\")","v":""},{"$f":"IF(E52<>0,'phase B3'!$G$1,\"\")","v":""},{"$f":"IF(E52<>0,'phase B3'!$B$1,\"\")","v":""},{"$f":"'phase B3'!L10","v":0},401,{"$f":"'phase B3'!M10","v":101}]
[null,{"$f":"IF(E53<>0,'phase B3'!B11,\"\")","v":""},{"$f":"IF(E53<>0,'phase B3'!$G$1,\"\")","v":""},{"$f":"IF(E53<>0,'phase B3'!$B$1,\"\")","v":""},{"$f":"'phase B3'!L11","v":0},401,{"$f":"'phase B3'!M11","v":101}]
[null,{"$f":"IF(E54<>0,'phase B3'!B12,\"\")","v":""},{"$f":"IF(E54<>0,'phase B3'!$G$1,\"\")","v":""},{"$f":"IF(E54<>0,'phase B3'!$B$1,\"\")","v":""},{"$f":"'phase B3'!L12","v":0},401,{"$f":"'phase B3'!M12","v":101}]
[null,{"$f":"IF(E55<>0,'phase B3'!B13,\"\")","v":""},{"$f":"IF(E55<>0,'phase B3'!$G$1,\"\")","v":""},{"$f":"IF(E55<>0,'phase B3'!$B$1,\"\")","v":""},{"$f":"'phase B3'!L13","v":0},401,{"$f":"'phase B3'!M13","v":101}]
[null,{"$f":"IF(E56<>0,'phase B3'!B14,\"\")","v":""},{"$f":"IF(E56<>0,'phase B3'!$G$1,\"\")","v":""},{"$f":"IF(E56<>0,'phase B3'!$B$1,\"\")","v":""},{"$f":"'phase B3'!L14","v":0},401,{"$f":"'phase B3'!M14","v":101}]
[null,{"$f":"IF(E57<>0,'phase B3'!B15,\"\")","v":""},{"$f":"IF(E57<>0,'phase B3'!$G$1,\"\")","v":""},{"$f":"IF(E57<>0,'phase B3'!$B$1,\"\")","v":""},{"$f":"'phase B3'!L15","v":0},401,{"$f":"'phase B3'!M15","v":101}]
[null,{"$f":"IF(E58<>0,'phase B3'!B16,\"\")","v":""},{"$f":"IF(E58<>0,'phase B3'!$G$1,\"\")","v":""},{"$f":"IF(E58<>0,'phase B3'!$B$1,\"\")","v":""},{"$f":"'phase B3'!L16","v":0},401,{"$f":"'phase B3'!M16","v":101}]
[null,{"$f":"IF(E59<>0,'phase B3'!B17,\"\")","v":""},{"$f":"IF(E59<>0,'phase B3'!$G$1,\"\")","v":""},{"$f":"IF(E59<>0,'phase B3'!$B$1,\"\")","v":""},{"$f":"'phase B3'!L17","v":0},401,{"$f":"'phase B3'!M17","v":101}]
[null,{"$f":"IF(E60<>0,'phase B3'!B18,\"\")","v":""},{"$f":"IF(E60<>0,'phase B3'!$G$1,\"\")","v":""},{"$f":"IF(E60<>0,'phase B3'!$B$1,\"\")","v":""},{"$f":"'phase B3'!L18","v":0},401,{"$f":"'phase B3'!M18","v":101}]
[null,{"$f":"IF(E61<>0,'phase B3'!B19,\"\")","v":""},{"$f":"IF(E61<>0,'phase B3'!$G$1,\"\")","v":""},{"$f":"IF(E61<>0,'phase B3'!$B$1,\"\")","v":""},{"$f":"'phase B3'!L19","v":0},401,{"$f":"'phase B3'!M19","v":101}]
[null,{"$f":"IF(E62<>0,'phase B3'!B20,\"\")","v":""},{"$f":"IF(E62<>0,'phase B3'!$G$1,\"\")","v":""},{"$f":"IF(E62<>0,'phase B3'!$B$1,\"\")","v":""},{"$f":"'phase B3'!L20","v":0},401,{"$f":"'phase B3'!M20","v":101}]
[null,{"$f":"IF(E63<>0,'phase B3'!B21,\"\")","v":""},{"$f":"IF(E63<>0,'phase B3'!$G$1,\"\")","v":""},{"$f":"IF(E63<>0,'phase B3'!$B$1,\"\")","v":""},{"$f":"'phase B3'!L21","v":0},401,{"$f":"'phase B3'!M21","v":101}]
[null,{"$f":"IF(E64<>0,'phase B3'!B22,\"\")","v":""},{"$f":"IF(E64<>0,'phase B3'!$G$1,\"\")","v":""},{"$f":"IF(E64<>0,'phase B3'!$B$1,\"\")","v":""},{"$f":"'phase B3'!L22","v":0},401,{"$f":"'phase B3'!M22","v":101}]
[null,{"$f":"IF(E65<>0,'phase B3'!B23,\"\")","v":""},{"$f":"IF(E65<>0,'phase B3'!$G$1,\"\")","v":""},{"$f":"IF(E65<>0,'phase B3'!$B$1,\"\")","v":""},{"$f":"'phase B3'!L23","v":0},401,{"$f":"'phase B3'!M23","v":101}]
[null,{"$f":"IF(E66<>0,'phase B3'!B24,\"\")","v":""},{"$f":"IF(E66<>0,'phase B3'!$G$1,\"\")","v":""},{"$f":"IF(E66<>0,'phase B3'!$B$1,\"\")","v":""},{"$f":"'phase B3'!L24","v":0},401,{"$f":"'phase B3'!M24","v":101}]
[null,{"$f":"IF(E67<>0,'phase B4'!B5,\"\")","v":""},{"$f":"IF(E67<>0,'phase B4'!$G$1,\"\")","v":""},{"$f":"IF(E67<>0,'phase B4'!$B$1,\"\")","v":""},{"$f":"'phase B4'!L5","v":0},{"$f":"IF(E67=0,401,RANK(E67,$E$3:$E$402))","v":401},{"$f":"'phase B4'!M5","v":101}]
[null,{"$f":"IF(E68<>0,'phase B4'!B6,\"\")","v":""},{"$f":"IF(E68<>0,'phase B4'!$G$1,\"\")","v":""},{"$f":"IF(E68<>0,'phase B4'!$B$1,\"\")","v":""},{"$f":"'phase B4'!L6","v":0},401,{"$f":"'phase B4'!M6","v":101}]
[null,{"$f":"IF(E69<>0,'phase B4'!B7,\"\")","v":""},{"$f":"IF(E69<>0,'phase B4'!$G$1,\"\")","v":""},{"$f":"IF(E69<>0,'phase B4'!$B$1,\"\")","v":""},{"$f":"'phase B4'!L7","v":0},401,{"$f":"'phase B4'!M7","v":101}]
[null,{"$f":"IF(E70<>0,'phase B4'!B8,\"\")","v":""},{"$f":"IF(E70<>0,'phase B4'!$G$1,\"\")","v":""},{"$f":"IF(E70<>0,'phase B4'!$B$1,\"\")","v":""},{"$f":"'phase B4'!L8","v":0},401,{"$f":"'phase B4'!M8","v":101}]
[null,{"$f":"IF(E71<>0,'phase B4'!B9,\"\")","v":""},{"$f":"IF(E71<>0,'phase B4'!$G$1,\"\")","v":""},{"$f":"IF(E71<>0,'phase B4'!$B$1,\"\")","v":""},{"$f":"'phase B4'!L9","v":0},401,{"$f":"'phase B4'!M9","v":101}]
[null,{"$f":"IF(E72<>0,'phase B4'!B10,\"\")","v":""},{"$f":"IF(E72<>0,'phase B4'!$G$1,\"\")","v":""},{"$f":"IF(E72<>0,'phase B4'!$B$1,\"\")","v":""},{"$f":"'phase B4'!L10","v":0},401,{"$f":"'phase B4'!M10","v":101}]
[null,{"$f":"IF(E73<>0,'phase B4'!B11,\"\")","v":""},{"$f":"IF(E73<>0,'phase B4'!$G$1,\"\")","v":""},{"$f":"IF(E73<>0,'phase B4'!$B$1,\"\")","v":""},{"$f":"'phase B4'!L11","v":0},401,{"$f":"'phase B4'!M11","v":101}]
[null,{"$f":"IF(E74<>0,'phase B4'!B12,\"\")","v":""},{"$f":"IF(E74<>0,'phase B4'!$G$1,\"\")","v":""},{"$f":"IF(E74<>0,'phase B4'!$B$1,\"\")","v":""},{"$f":"'phase B4'!L12","v":0},401,{"$f":"'phase B4'!M12","v":101}]
[null,{"$f":"IF(E75<>0,'phase B4'!B13,\"\")","v":""},{"$f":"IF(E75<>0,'phase B4'!$G$1,\"\")","v":""},{"$f":"IF(E75<>0,'phase B4'!$B$1,\"\")","v":""},{"$f":"'phase B4'!L13","v":0},401,{"$f":"'phase B4'!M13","v":101}]
[null,{"$f":"IF(E76<>0,'phase B4'!B14,\"\")","v":""},{"$f":"IF(E76<>0,'phase B4'!$G$1,\"\")","v":""},{"$f":"IF(E76<>0,'phase B4'!$B$1,\"\")","v":""},{"$f":"'phase B4'!L14","v":0},401,{"$f":"'phase B4'!M14","v":101}]
[null,{"$f":"IF(E77<>0,'phase B4'!B15,\"\")","v":""},{"$f":"IF(E77<>0,'phase B4'!$G$1,\"\")","v":""},{"$f":"IF(E77<>0,'phase B4'!$B$1,\"\")","v":""},{"$f":"'phase B4'!L15","v":0},401,{"$f":"'phase B4'!M15","v":101}]
[null,{"$f":"IF(E78<>0,'phase B4'!B16,\"\")","v":""},{"$f":"IF(E78<>0,'phase B4'!$G$1,\"\")","v":""},{"$f":"IF(E78<>0,'phase B4'!$B$1,\"\")","v":""},{"$f":"'phase B4'!L16","v":0},401,{"$f":"'phase B4'!M16","v":101}]
[null,{"$f":"IF(E79<>0,'phase B4'!B17,\"\")","v":""},{"$f":"IF(E79<>0,'phase B4'!$G$1,\"\")","v":""},{"$f":"IF(E79<>0,'phase B4'!$B$1,\"\")","v":""},{"$f":"'phase B4'!L17","v":0},401,{"$f":"'phase B4'!M17","v":101}]
[null,{"$f":"IF(E80<>0,'phase B4'!B18,\"\")","v":""},{"$f":"IF(E80<>0,'phase B4'!$G$1,\"\")","v":""},{"$f":"IF(E80<>0,'phase B4'!$B$1,\"\")","v":""},{"$f":"'phase B4'!L18","v":0},401,{"$f":"'phase B4'!M18","v":101}]
[null,{"$f":"IF(E81<>0,'phase B4'!B19,\"\")","v":""},{"$f":"IF(E81<>0,'phase B4'!$G$1,\"\")","v":""},{"$f":"IF(E81<>0,'phase B4'!$B$1,\"\")","v":""},{"$f":"'phase B4'!L19","v":0},401,{"$f":"'phase B4'!M19","v":101}]
[null,{"$f":"IF(E82<>0,'phase B4'!B20,\"\")","v":""},{"$f":"IF(E82<>0,'phase B4'!$G$1,\"\")","v":""},{"$f":"IF(E82<>0,'phase B4'!$B$1,\"\")","v":""},{"$f":"'phase B4'!L20","v":0},401,{"$f":"'phase B4'!M20","v":101}]
[null,{"$f":"IF(E83<>0,'phase B4'!B21,\"\")","v":""},{"$f":"IF(E83<>0,'phase B4'!$G$1,\"\")","v":""},{"$f":"IF(E83<>0,'phase B4'!$B$1,\"\")","v":""},{"$f":"'phase B4'!L21","v":0},401,{"$f":"'phase B4'!M21","v":101}]
[null,{"$f":"IF(E84<>0,'phase B4'!B22,\"\")","v":""},{"$f":"IF(E84<>0,'phase B4'!$G$1,\"\")","v":""},{"$f":"IF(E84<>0,'phase B4'!$B$1,\"\")","v":""},{"$f":"'phase B4'!L22","v":0},401,{"$f":"'phase B4'!M22","v":101}]
[null,{"$f":"IF(E85<>0,'phase B4'!B24,\"\")","v":""},{"$f":"IF(E85<>0,'phase B4'!$G$1,\"\")","v":""},{"$f":"IF(E85<>0,'phase B4'!$B$1,\"\")","v":""},{"$f":"'phase B4'!L24","v":0},401,{"$f":"'phase B4'!M24","v":101}]
[null,{"$f":"IF(E86<>0,'phase B5'!B5,\"\")","v":""},{"$f":"IF(E86<>0,'phase B5'!$G$1,\"\")","v":""},{"$f":"IF(E86<>0,'phase B5'!$B$1,\"\")","v":""},{"$f":"'phase B5'!L5","v":0},401,{"$f":"'phase B5'!M5","v":101}]
[null,{"$f":"IF(E87<>0,'phase B5'!B6,\"\")","v":""},{"$f":"IF(E87<>0,'phase B5'!$G$1,\"\")","v":""},{"$f":"IF(E87<>0,'phase B5'!$B$1,\"\")","v":""},{"$f":"'phase B5'!L6","v":0},401,{"$f":"'phase B5'!M6","v":101}]
[null,{"$f":"IF(E88<>0,'phase B5'!B7,\"\")","v":""},{"$f":"IF(E88<>0,'phase B5'!$G$1,\"\")","v":""},{"$f":"IF(E88<>0,'phase B5'!$B$1,\"\")","v":""},{"$f":"'phase B5'!L7","v":0},401,{"$f":"'phase B5'!M7","v":101}]
[null,{"$f":"IF(E89<>0,'phase B5'!B8,\"\")","v":""},{"$f":"IF(E89<>0,'phase B5'!$G$1,\"\")","v":""},{"$f":"IF(E89<>0,'phase B5'!$B$1,\"\")","v":""},{"$f":"'phase B5'!L8","v":0},401,{"$f":"'phase B5'!M8","v":101}]
[null,{"$f":"IF(E90<>0,'phase B5'!B9,\"\")","v":""},{"$f":"IF(E90<>0,'phase B5'!$G$1,\"\")","v":""},{"$f":"IF(E90<>0,'phase B5'!$B$1,\"\")","v":""},{"$f":"'phase B5'!L9","v":0},401,{"$f":"'phase B5'!M9","v":101}]
[null,{"$f":"IF(E91<>0,'phase B5'!B10,\"\")","v":""},{"$f":"IF(E91<>0,'phase B5'!$G$1,\"\")","v":""},{"$f":"IF(E91<>0,'phase B5'!$B$1,\"\")","v":""},{"$f":"'phase B5'!L10","v":0},401,{"$f":"'phase B5'!M10","v":101}]
[null,{"$f":"IF(E92<>0,'phase B5'!B11,\"\")","v":""},{"$f":"IF(E92<>0,'phase B5'!$G$1,\"\")","v":""},{"$f":"IF(E92<>0,'phase B5'!$B$1,\"\")","v":""},{"$f":"'phase B5'!L11","v":0},401,{"$f":"'phase B5'!M11","v":101}]
[null,{"$f":"IF(E93<>0,'phase B5'!B12,\"\")","v":""},{"$f":"IF(E93<>0,'phase B5'!$G$1,\"\")","v":""},{"$f":"IF(E93<>0,'phase B5'!$B$1,\"\")","v":""},{"$f":"'phase B5'!L12","v":0},401,{"$f":"'phase B5'!M12","v":101}]
[null,{"$f":"IF(E94<>0,'phase B5'!B13,\"\")","v":""},{"$f":"IF(E94<>0,'phase B5'!$G$1,\"\")","v":""},{"$f":"IF(E94<>0,'phase B5'!$B$1,\"\")","v":""},{"$f":"'phase B5'!L13","v":0},401,{"$f":"'phase B5'!M13","v":101}]
[null,{"$f":"IF(E95<>0,'phase B5'!B14,\"\")","v":""},{"$f":"IF(E95<>0,'phase B5'!$G$1,\"\")","v":""},{"$f":"IF(E95<>0,'phase B5'!$B$1,\"\")","v":""},{"$f":"'phase B5'!L14","v":0},401,{"$f":"'phase B5'!M14","v":101}]
[null,{"$f":"IF(E96<>0,'phase B5'!B15,\"\")","v":""},{"$f":"IF(E96<>0,'phase B5'!$G$1,\"\")","v":""},{"$f":"IF(E96<>0,'phase B5'!$B$1,\"\")","v":""},{"$f":"'phase B5'!L15","v":0},401,{"$f":"'phase B5'!M15","v":101}]
[null,{"$f":"IF(E97<>0,'phase B5'!B16,\"\")","v":""},{"$f":"IF(E97<>0,'phase B5'!$G$1,\"\")","v":""},{"$f":"IF(E97<>0,'phase B5'!$B$1,\"\")","v":""},{"$f":"'phase B5'!L16","v":0},401,{"$f":"'phase B5'!M16","v":101}]
[null,{"$f":"IF(E98<>0,'phase B5'!B18,\"\")","v":""},{"$f":"IF(E98<>0,'phase B5'!$G$1,\"\")","v":""},{"$f":"IF(E98<>0,'phase B5'!$B$1,\"\")","v":""},{"$f":"'phase B5'!L18","v":0},401,{"$f":"'phase B5'!M18","v":101}]
[null,{"$f":"IF(E99<>0,'phase B5'!B19,\"\")","v":""},{"$f":"IF(E99<>0,'phase B5'!$G$1,\"\")","v":""},{"$f":"IF(E99<>0,'phase B5'!$B$1,\"\")","v":""},{"$f":"'phase B5'!L19","v":0},401,{"$f":"'phase B5'!M19","v":101}]
[null,{"$f":"IF(E100<>0,'phase B5'!B20,\"\")","v":""},{"$f":"IF(E100<>0,'phase B5'!$G$1,\"\")","v":""},{"$f":"IF(E100<>0,'phase B5'!$B$1,\"\")","v":""},{"$f":"'phase B5'!L20","v":0},401,{"$f":"'phase B5'!M20","v":101}]
[null,{"$f":"IF(E101<>0,'phase B5'!B21,\"\")","v":""},{"$f":"IF(E101<>0,'phase B5'!$G$1,\"\")","v":""},{"$f":"IF(E101<>0,'phase B5'!$B$1,\"\")","v":""},{"$f":"'phase B5'!L21","v":0},401,{"$f":"'phase B5'!M21","v":101}]
[null,{"$f":"IF(E102<>0,'phase B5'!B22,\"\")","v":""},{"$f":"IF(E102<>0,'phase B5'!$G$1,\"\")","v":""},{"$f":"IF(E102<>0,'phase B5'!$B$1,\"\")","v":""},{"$f":"'phase B5'!L22","v":0},401,{"$f":"'phase B5'!M22","v":101}]
[null,{"$f":"IF(E103<>0,'phase B5'!B23,\"\")","v":""},{"$f":"IF(E103<>0,'phase B5'!$G$1,\"\")","v":""},{"$f":"IF(E103<>0,'phase B5'!$B$1,\"\")","v":""},{"$f":"'phase B5'!L23","v":0},401,{"$f":"'phase B5'!M23","v":101}]
[null,{"$f":"IF(E104<>0,'phase B5'!B24,\"\")","v":""},{"$f":"IF(E104<>0,'phase B5'!$G$1,\"\")","v":""},{"$f":"IF(E104<>0,'phase B5'!$B$1,\"\")","v":""},{"$f":"'phase B5'!L24","v":0},401,{"$f":"'phase B5'!M24","v":101}]
[null,{"$f":"IF(E105<>0,'phase B6'!B5,\"\")","v":""},{"$f":"IF(E105<>0,'phase B6'!$G$1,\"\")","v":""},{"$f":"IF(E105<>0,'phase B6'!$B$1,\"\")","v":""},{"$f":"'phase B6'!L5","v":0},401,{"$f":"'phase B6'!M5","v":101}]
[null,{"$f":"IF(E106<>0,'phase B6'!B6,\"\")","v":""},{"$f":"IF(E106<>0,'phase B6'!$G$1,\"\")","v":""},{"$f":"IF(E106<>0,'phase B6'!$B$1,\"\")","v":""},{"$f":"'phase B6'!L6","v":0},401,{"$f":"'phase B6'!M6","v":101}]
[null,{"$f":"IF(E107<>0,'phase B6'!B7,\"\")","v":""},{"$f":"IF(E107<>0,'phase B6'!$G$1,\"\")","v":""},{"$f":"IF(E107<>0,'phase B6'!$B$1,\"\")","v":""},{"$f":"'phase B6'!L7","v":0},401,{"$f":"'phase B6'!M7","v":101}]
[null,{"$f":"IF(E108<>0,'phase B6'!B8,\"\")","v":""},{"$f":"IF(E108<>0,'phase B6'!$G$1,\"\")","v":""},{"$f":"IF(E108<>0,'phase B6'!$B$1,\"\")","v":""},{"$f":"'phase B6'!L8","v":0},401,{"$f":"'phase B6'!M8","v":101}]
[null,{"$f":"IF(E109<>0,'phase B6'!B9,\"\")","v":""},{"$f":"IF(E109<>0,'phase B6'!$G$1,\"\")","v":""},{"$f":"IF(E109<>0,'phase B6'!$B$1,\"\")","v":""},{"$f":"'phase B6'!L9","v":0},401,{"$f":"'phase B6'!M9","v":101}]
[null,{"$f":"IF(E110<>0,'phase B6'!B10,\"\")","v":""},{"$f":"IF(E110<>0,'phase B6'!$G$1,\"\")","v":""},{"$f":"IF(E110<>0,'phase B6'!$B$1,\"\")","v":""},{"$f":"'phase B6'!L10","v":0},401,{"$f":"'phase B6'!M10","v":101}]
[null,{"$f":"IF(E111<>0,'phase B6'!B11,\"\")","v":""},{"$f":"IF(E111<>0,'phase B6'!$G$1,\"\")","v":""},{"$f":"IF(E111<>0,'phase B6'!$B$1,\"\")","v":""},{"$f":"'phase B6'!L11","v":0},401,{"$f":"'phase B6'!M11","v":101}]
[null,{"$f":"IF(E112<>0,'phase B6'!B12,\"\")","v":""},{"$f":"IF(E112<>0,'phase B6'!$G$1,\"\")","v":""},{"$f":"IF(E112<>0,'phase B6'!$B$1,\"\")","v":""},{"$f":"'phase B6'!L12","v":0},401,{"$f":"'phase B6'!M12","v":101}]
[null,{"$f":"IF(E113<>0,'phase B6'!B13,\"\")","v":""},{"$f":"IF(E113<>0,'phase B6'!$G$1,\"\")","v":""},{"$f":"IF(E113<>0,'phase B6'!$B$1,\"\")","v":""},{"$f":"'phase B6'!L13","v":0},401,{"$f":"'phase B6'!M13","v":101}]
[null,{"$f":"IF(E114<>0,'phase B6'!B14,\"\")","v":""},{"$f":"IF(E114<>0,'phase B6'!$G$1,\"\")","v":""},{"$f":"IF(E114<>0,'phase B6'!$B$1,\"\")","v":""},{"$f":"'phase B6'!L14","v":0},401,{"$f":"'phase B6'!M14","v":101}]
[null,{"$f":"IF(E115<>0,'phase B6'!B15,\"\")","v":""},{"$f":"IF(E115<>0,'phase B6'!$G$1,\"\")","v":""},{"$f":"IF(E115<>0,'phase B6'!$B$1,\"\")","v":""},{"$f":"'phase B6'!L15","v":0},401,{"$f":"'phase B6'!M15","v":101}]
[null,{"$f":"IF(E116<>0,'phase B6'!B16,\"\")","v":""},{"$f":"IF(E116<>0,'phase B6'!$G$1,\"\")","v":""},{"$f":"IF(E116<>0,'phase B6'!$B$1,\"\")","v":""},{"$f":"'phase B6'!L16","v":0},401,{"$f":"'phase B6'!M16","v":101}]
[null,{"$f":"IF(E117<>0,'phase B6'!B17,\"\")","v":""},{"$f":"IF(E117<>0,'phase B6'!$G$1,\"\")","v":""},{"$f":"IF(E117<>0,'phase B6'!$B$1,\"\")","v":""},{"$f":"'phase B6'!L17","v":0},401,{"$f":"'phase B6'!M17","v":101}]
[null,{"$f":"IF(E118<>0,'phase B6'!B18,\"\")","v":""},{"$f":"IF(E118<>0,'phase B6'!$G$1,\"\")","v":""},{"$f":"IF(E118<>0,'phase B6'!$B$1,\"\")","v":""},{"$f":"'phase B6'!L18","v":0},401,{"$f":"'phase B6'!M18","v":101}]
[null,{"$f":"IF(E119<>0,'phase B6'!B19,\"\")","v":""},{"$f":"IF(E119<>0,'phase B6'!$G$1,\"\")","v":""},{"$f":"IF(E119<>0,'phase B6'!$B$1,\"\")","v":""},{"$f":"'phase B6'!L19","v":0},401,{"$f":"'phase B6'!M19","v":101}]
[null,{"$f":"IF(E120<>0,'phase B6'!B20,\"\")","v":""},{"$f":"IF(E120<>0,'phase B6'!$G$1,\"\")","v":""},{"$f":"IF(E120<>0,'phase B6'!$B$1,\"\")","v":""},{"$f":"'phase B6'!L20","v":0},401,{"$f":"'phase B6'!M20","v":101}]
[null,{"$f":"IF(E121<>0,'phase B6'!B21,\"\")","v":""},{"$f":"IF(E121<>0,'phase B6'!$G$1,\"\")","v":""},{"$f":"IF(E121<>0,'phase B6'!$B$1,\"\")","v":""},{"$f":"'phase B6'!L21","v":0},401,{"$f":"'phase B6'!M21","v":101}]
[null,{"$f":"IF(E122<>0,'phase B6'!B22,\"\")","v":""},{"$f":"IF(E122<>0,'phase B6'!$G$1,\"\")","v":""},{"$f":"IF(E122<>0,'phase B6'!$B$1,\"\")","v":""},{"$f":"'phase B6'!L22","v":0},401,{"$f":"'phase B6'!M22","v":101}]
[null,{"$f":"IF(E123<>0,'phase B6'!B23,\"\")","v":""},{"$f":"IF(E123<>0,'phase B6'!$G$1,\"\")","v":""},{"$f":"IF(E123<>0,'phase B6'!$B$1,\"\")","v":""},{"$f":"'phase B6'!L23","v":0},401,{"$f":"'phase B6'!M23","v":101}]
[null,{"$f":"IF(E124<>0,'phase B6'!B24,\"\")","v":""},{"$f":"IF(E124<>0,'phase B6'!$G$1,\"\")","v":""},{"$f":"IF(E124<>0,'phase B6'!$B$1,\"\")","v":""},{"$f":"'phase B6'!L24","v":0},401,{"$f":"'phase B6'!M24","v":101}]
[null,{"$f":"IF(E125<>0,'phase B7'!B5,\"\")","v":""},{"$f":"IF(E125<>0,'phase B7'!$G$1,\"\")","v":""},{"$f":"IF(E125<>0,'phase B7'!$B$1,\"\")","v":""},{"$f":"'phase B7'!L5","v":0},401,{"$f":"'phase B7'!M5","v":101}]
[null,{"$f":"IF(E126<>0,'phase B7'!B6,\"\")","v":""},{"$f":"IF(E126<>0,'phase B7'!$G$1,\"\")","v":""},{"$f":"IF(E126<>0,'phase B7'!$B$1,\"\")","v":""},{"$f":"'phase B7'!L6","v":0},401,{"$f":"'phase B7'!M6","v":101}]
[null,{"$f":"IF(E127<>0,'phase B7'!B7,\"\")","v":""},{"$f":"IF(E127<>0,'phase B7'!$G$1,\"\")","v":""},{"$f":"IF(E127<>0,'phase B7'!$B$1,\"\")","v":""},{"$f":"'phase B7'!L7","v":0},401,{"$f":"'phase B7'!M7","v":101}]
[null,{"$f":"IF(E128<>0,'phase B7'!B8,\"\")","v":""},{"$f":"IF(E128<>0,'phase B7'!$G$1,\"\")","v":""},{"$f":"IF(E128<>0,'phase B7'!$B$1,\"\")","v":""},{"$f":"'phase B7'!L8","v":0},401,{"$f":"'phase B7'!M8","v":101}]
[null,{"$f":"IF(E129<>0,'phase B7'!B9,\"\")","v":""},{"$f":"IF(E129<>0,'phase B7'!$G$1,\"\")","v":""},{"$f":"IF(E129<>0,'phase B7'!$B$1,\"\")","v":""},{"$f":"'phase B7'!L9","v":0},401,{"$f":"'phase B7'!M9","v":101}]
[null,{"$f":"IF(E130<>0,'phase B7'!B10,\"\")","v":""},{"$f":"IF(E130<>0,'phase B7'!$G$1,\"\")","v":""},{"$f":"IF(E130<>0,'phase B7'!$B$1,\"\")","v":""},{"$f":"'phase B7'!L10","v":0},401,{"$f":"'phase B7'!M10","v":101}]
[null,{"$f":"IF(E131<>0,'phase B7'!B11,\"\")","v":""},{"$f":"IF(E131<>0,'phase B7'!$G$1,\"\")","v":""},{"$f":"IF(E131<>0,'phase B7'!$B$1,\"\")","v":""},{"$f":"'phase B7'!L11","v":0},{"$f":"IF(E131=0,401,RANK(E131,$E$3:$E$402))","v":401},{"$f":"'phase B7'!M11","v":101}]
[null,{"$f":"IF(E132<>0,'phase B7'!B12,\"\")","v":""},{"$f":"IF(E132<>0,'phase B7'!$G$1,\"\")","v":""},{"$f":"IF(E132<>0,'phase B7'!$B$1,\"\")","v":""},{"$f":"'phase B7'!L12","v":0},401,{"$f":"'phase B7'!M12","v":101}]
[null,{"$f":"IF(E133<>0,'phase B7'!B13,\"\")","v":""},{"$f":"IF(E133<>0,'phase B7'!$G$1,\"\")","v":""},{"$f":"IF(E133<>0,'phase B7'!$B$1,\"\")","v":""},{"$f":"'phase B7'!L13","v":0},401,{"$f":"'phase B7'!M13","v":101}]
[null,{"$f":"IF(E134<>0,'phase B7'!B14,\"\")","v":""},{"$f":"IF(E134<>0,'phase B7'!$G$1,\"\")","v":""},{"$f":"IF(E134<>0,'phase B7'!$B$1,\"\")","v":""},{"$f":"'phase B7'!L14","v":0},401,{"$f":"'phase B7'!M14","v":101}]
[null,{"$f":"IF(E135<>0,'phase B7'!B15,\"\")","v":""},{"$f":"IF(E135<>0,'phase B7'!$G$1,\"\")","v":""},{"$f":"IF(E135<>0,'phase B7'!$B$1,\"\")","v":""},{"$f":"'phase B7'!L15","v":0},401,{"$f":"'phase B7'!M15","v":101}]
[null,{"$f":"IF(E136<>0,'phase B7'!B16,\"\")","v":""},{"$f":"IF(E136<>0,'phase B7'!$G$1,\"\")","v":""},{"$f":"IF(E136<>0,'phase B7'!$B$1,\"\")","v":""},{"$f":"'phase B7'!L16","v":0},401,{"$f":"'phase B7'!M16","v":101}]
[null,{"$f":"IF(E137<>0,'phase B7'!B17,\"\")","v":""},{"$f":"IF(E137<>0,'phase B7'!$G$1,\"\")","v":""},{"$f":"IF(E137<>0,'phase B7'!$B$1,\"\")","v":""},{"$f":"'phase B7'!L17","v":0},401,{"$f":"'phase B7'!M17","v":101}]
[null,{"$f":"IF(E138<>0,'phase B7'!B18,\"\")","v":""},{"$f":"IF(E138<>0,'phase B7'!$G$1,\"\")","v":""},{"$f":"IF(E138<>0,'phase B7'!$B$1,\"\")","v":""},{"$f":"'phase B7'!L18","v":0},401,{"$f":"'phase B7'!M18","v":101}]
[null,{"$f":"IF(E139<>0,'phase B7'!B19,\"\")","v":""},{"$f":"IF(E139<>0,'phase B7'!$G$1,\"\")","v":""},{"$f":"IF(E139<>0,'phase B7'!$B$1,\"\")","v":""},{"$f":"'phase B7'!L19","v":0},401,{"$f":"'phase B7'!M19","v":101}]
[null,{"$f":"IF(E140<>0,'phase B7'!B20,\"\")","v":""},{"$f":"IF(E140<>0,'phase B7'!$G$1,\"\")","v":""},{"$f":"IF(E140<>0,'phase B7'!$B$1,\"\")","v":""},{"$f":"'phase B7'!L20","v":0},401,{"$f":"'phase B7'!M20","v":101}]
[null,{"$f":"IF(E141<>0,'phase B7'!B21,\"\")","v":""},{"$f":"IF(E141<>0,'phase B7'!$G$1,\"\")","v":""},{"$f":"IF(E141<>0,'phase B7'!$B$1,\"\")","v":""},{"$f":"'phase B7'!L21","v":0},401,{"$f":"'phase B7'!M21","v":101}]
[null,{"$f":"IF(E142<>0,'phase B7'!B22,\"\")","v":""},{"$f":"IF(E142<>0,'phase B7'!$G$1,\"\")","v":""},{"$f":"IF(E142<>0,'phase B7'!$B$1,\"\")","v":""},{"$f":"'phase B7'!L22","v":0},401,{"$f":"'phase B7'!M22","v":101}]
[null,{"$f":"IF(E143<>0,'phase B7'!B23,\"\")","v":""},{"$f":"IF(E143<>0,'phase B7'!$G$1,\"\")","v":""},{"$f":"IF(E143<>0,'phase B7'!$B$1,\"\")","v":""},{"$f":"'phase B7'!L23","v":0},401,{"$f":"'phase B7'!M23","v":101}]
[null,{"$f":"IF(E144<>0,'phase B7'!B24,\"\")","v":""},{"$f":"IF(E144<>0,'phase B7'!$G$1,\"\")","v":""},{"$f":"IF(E144<>0,'phase B7'!$B$1,\"\")","v":""},{"$f":"'phase B7'!L24","v":0},401,{"$f":"'phase B7'!M24","v":101}]
[null,{"$f":"IF(E145<>0,'phase B8'!B5,\"\")","v":""},{"$f":"IF(E145<>0,'phase B8'!$G$1,\"\")","v":""},{"$f":"IF(E145<>0,'phase B8'!$B$1,\"\")","v":""},{"$f":"'phase B8'!L5","v":0},401,{"$f":"'phase B8'!M5","v":101}]
[null,{"$f":"IF(E146<>0,'phase B8'!B6,\"\")","v":""},{"$f":"IF(E146<>0,'phase B8'!$G$1,\"\")","v":""},{"$f":"IF(E146<>0,'phase B8'!$B$1,\"\")","v":""},{"$f":"'phase B8'!L6","v":0},401,{"$f":"'phase B8'!M6","v":101}]
[null,{"$f":"IF(E147<>0,'phase B8'!B7,\"\")","v":""},{"$f":"IF(E147<>0,'phase B8'!$G$1,\"\")","v":""},{"$f":"IF(E147<>0,'phase B8'!$B$1,\"\")","v":""},{"$f":"'phase B8'!L7","v":0},401,{"$f":"'phase B8'!M7","v":101}]
[null,{"$f":"IF(E148<>0,'phase B8'!B8,\"\")","v":""},{"$f":"IF(E148<>0,'phase B8'!$G$1,\"\")","v":""},{"$f":"IF(E148<>0,'phase B8'!$B$1,\"\")","v":""},{"$f":"'phase B8'!L8","v":0},401,{"$f":"'phase B8'!M8","v":101}]
[null,{"$f":"IF(E149<>0,'phase B8'!B9,\"\")","v":""},{"$f":"IF(E149<>0,'phase B8'!$G$1,\"\")","v":""},{"$f":"IF(E149<>0,'phase B8'!$B$1,\"\")","v":""},{"$f":"'phase B8'!L9","v":0},401,{"$f":"'phase B8'!M9","v":101}]
[null,{"$f":"IF(E150<>0,'phase B8'!B10,\"\")","v":""},{"$f":"IF(E150<>0,'phase B8'!$G$1,\"\")","v":""},{"$f":"IF(E150<>0,'phase B8'!$B$1,\"\")","v":""},{"$f":"'phase B8'!L10","v":0},401,{"$f":"'phase B8'!M10","v":101}]
[null,{"$f":"IF(E151<>0,'phase B8'!B11,\"\")","v":""},{"$f":"IF(E151<>0,'phase B8'!$G$1,\"\")","v":""},{"$f":"IF(E151<>0,'phase B8'!$B$1,\"\")","v":""},{"$f":"'phase B8'!L11","v":0},401,{"$f":"'phase B8'!M11","v":101}]
[null,{"$f":"IF(E152<>0,'phase B8'!B12,\"\")","v":""},{"$f":"IF(E152<>0,'phase B8'!$G$1,\"\")","v":""},{"$f":"IF(E152<>0,'phase B8'!$B$1,\"\")","v":""},{"$f":"'phase B8'!L12","v":0},401,{"$f":"'phase B8'!M12","v":101}]
[null,{"$f":"IF(E153<>0,'phase B8'!B13,\"\")","v":""},{"$f":"IF(E153<>0,'phase B8'!$G$1,\"\")","v":""},{"$f":"IF(E153<>0,'phase B8'!$B$1,\"\")","v":""},{"$f":"'phase B8'!L13","v":0},401,{"$f":"'phase B8'!M13","v":101}]
[null,{"$f":"IF(E154<>0,'phase B8'!B14,\"\")","v":""},{"$f":"IF(E154<>0,'phase B8'!$G$1,\"\")","v":""},{"$f":"IF(E154<>0,'phase B8'!$B$1,\"\")","v":""},{"$f":"'phase B8'!L14","v":0},401,{"$f":"'phase B8'!M14","v":101}]
[null,{"$f":"IF(E155<>0,'phase B8'!B15,\"\")","v":""},{"$f":"IF(E155<>0,'phase B8'!$G$1,\"\")","v":""},{"$f":"IF(E155<>0,'phase B8'!$B$1,\"\")","v":""},{"$f":"'phase B8'!L15","v":0},401,{"$f":"'phase B8'!M15","v":101}]
[null,{"$f":"IF(E156<>0,'phase B8'!B16,\"\")","v":""},{"$f":"IF(E156<>0,'phase B8'!$G$1,\"\")","v":""},{"$f":"IF(E156<>0,'phase B8'!$B$1,\"\")","v":""},{"$f":"'phase B8'!L16","v":0},401,{"$f":"'phase B8'!M16","v":101}]
[null,{"$f":"IF(E157<>0,'phase B8'!B17,\"\")","v":""},{"$f":"IF(E157<>0,'phase B8'!$G$1,\"\")","v":""},{"$f":"IF(E157<>0,'phase B8'!$B$1,\"\")","v":""},{"$f":"'phase B8'!L17","v":0},401,{"$f":"'phase B8'!M17","v":101}]
[null,{"$f":"IF(E158<>0,'phase B8'!B18,\"\")","v":""},{"$f":"IF(E158<>0,'phase B8'!$G$1,\"\")","v":""},{"$f":"IF(E158<>0,'phase B8'!$B$1,\"\")","v":""},{"$f":"'phase B8'!L18","v":0},401,{"$f":"'phase B8'!M18","v":101}]
[null,{"$f":"IF(E159<>0,'phase B8'!B19,\"\")","v":""},{"$f":"IF(E159<>0,'phase B8'!$G$1,\"\")","v":""},{"$f":"IF(E159<>0,'phase B8'!$B$1,\"\")","v":""},{"$f":"'phase B8'!L19","v":0},401,{"$f":"'phase B8'!M19","v":101}]
[null,{"$f":"IF(E160<>0,'phase B8'!B20,\"\")","v":""},{"$f":"IF(E160<>0,'phase B8'!$G$1,\"\")","v":""},{"$f":"IF(E160<>0,'phase B8'!$B$1,\"\")","v":""},{"$f":"'phase B8'!L20","v":0},401,{"$f":"'phase B8'!M20","v":101}]
[null,{"$f":"IF(E161<>0,'phase B8'!B21,\"\")","v":""},{"$f":"IF(E161<>0,'phase B8'!$G$1,\"\")","v":""},{"$f":"IF(E161<>0,'phase B8'!$B$1,\"\")","v":""},{"$f":"'phase B8'!L21","v":0},401,{"$f":"'phase B8'!M21","v":101}]
[null,{"$f":"IF(E162<>0,'phase B8'!B22,\"\")","v":""},{"$f":"IF(E162<>0,'phase B8'!$G$1,\"\")","v":""},{"$f":"IF(E162<>0,'phase B8'!$B$1,\"\")","v":""},{"$f":"'phase B8'!L22","v":0},401,{"$f":"'phase B8'!M22","v":101}]
[null,{"$f":"IF(E163<>0,'phase B8'!B24,\"\")","v":""},{"$f":"IF(E163<>0,'phase B8'!$G$1,\"\")","v":""},{"$f":"IF(E163<>0,'phase B8'!$B$1,\"\")","v":""},{"$f":"'phase B8'!L24","v":0},401,{"$f":"'phase B8'!M24","v":101}]
[null,{"$f":"IF(E164<>0,'phase B9'!B5,\"\")","v":""},{"$f":"IF(E164<>0,'phase B9'!$G$1,\"\")","v":""},{"$f":"IF(E164<>0,'phase B9'!$B$1,\"\")","v":""},{"$f":"'phase B9'!L5","v":0},401,{"$f":"'phase B9'!M5","v":101}]
[null,{"$f":"IF(E165<>0,'phase B9'!B6,\"\")","v":""},{"$f":"IF(E165<>0,'phase B9'!$G$1,\"\")","v":""},{"$f":"IF(E165<>0,'phase B9'!$B$1,\"\")","v":""},{"$f":"'phase B9'!L6","v":0},401,{"$f":"'phase B9'!M6","v":101}]
[null,{"$f":"IF(E166<>0,'phase B9'!B7,\"\")","v":""},{"$f":"IF(E166<>0,'phase B9'!$G$1,\"\")","v":""},{"$f":"IF(E166<>0,'phase B9'!$B$1,\"\")","v":""},{"$f":"'phase B9'!L7","v":0},401,{"$f":"'phase B9'!M7","v":101}]
[null,{"$f":"IF(E167<>0,'phase B9'!B8,\"\")","v":""},{"$f":"IF(E167<>0,'phase B9'!$G$1,\"\")","v":""},{"$f":"IF(E167<>0,'phase B9'!$B$1,\"\")","v":""},{"$f":"'phase B9'!L8","v":0},401,{"$f":"'phase B9'!M8","v":101}]
[null,{"$f":"IF(E168<>0,'phase B9'!B9,\"\")","v":""},{"$f":"IF(E168<>0,'phase B9'!$G$1,\"\")","v":""},{"$f":"IF(E168<>0,'phase B9'!$B$1,\"\")","v":""},{"$f":"'phase B9'!L9","v":0},401,{"$f":"'phase B9'!M9","v":101}]
[null,{"$f":"IF(E169<>0,'phase B9'!B10,\"\")","v":""},{"$f":"IF(E169<>0,'phase B9'!$G$1,\"\")","v":""},{"$f":"IF(E169<>0,'phase B9'!$B$1,\"\")","v":""},{"$f":"'phase B9'!L10","v":0},401,{"$f":"'phase B9'!M10","v":101}]
[null,{"$f":"IF(E170<>0,'phase B9'!B11,\"\")","v":""},{"$f":"IF(E170<>0,'phase B9'!$G$1,\"\")","v":""},{"$f":"IF(E170<>0,'phase B9'!$B$1,\"\")","v":""},{"$f":"'phase B9'!L11","v":0},401,{"$f":"'phase B9'!M11","v":101}]
[null,{"$f":"IF(E171<>0,'phase B9'!B12,\"\")","v":""},{"$f":"IF(E171<>0,'phase B9'!$G$1,\"\")","v":""},{"$f":"IF(E171<>0,'phase B9'!$B$1,\"\")","v":""},{"$f":"'phase B9'!L12","v":0},401,{"$f":"'phase B9'!M12","v":101}]
[null,{"$f":"IF(E172<>0,'phase B9'!B13,\"\")","v":""},{"$f":"IF(E172<>0,'phase B9'!$G$1,\"\")","v":""},{"$f":"IF(E172<>0,'phase B9'!$B$1,\"\")","v":""},{"$f":"'phase B9'!L13","v":0},401,{"$f":"'phase B9'!M13","v":101}]
[null,{"$f":"IF(E173<>0,'phase B9'!B14,\"\")","v":""},{"$f":"IF(E173<>0,'phase B9'!$G$1,\"\")","v":""},{"$f":"IF(E173<>0,'phase B9'!$B$1,\"\")","v":""},{"$f":"'phase B9'!L14","v":0},401,{"$f":"'phase B9'!M14","v":101}]
[null,{"$f":"IF(E174<>0,'phase B9'!B15,\"\")","v":""},{"$f":"IF(E174<>0,'phase B9'!$G$1,\"\")","v":""},{"$f":"IF(E174<>0,'phase B9'!$B$1,\"\")","v":""},{"$f":"'phase B9'!L15","v":0},401,{"$f":"'phase B9'!M15","v":101}]
[null,{"$f":"IF(E175<>0,'phase B9'!B16,\"\")","v":""},{"$f":"IF(E175<>0,'phase B9'!$G$1,\"\")","v":""},{"$f":"IF(E175<>0,'phase B9'!$B$1,\"\")","v":""},{"$f":"'phase B9'!L16","v":0},401,{"$f":"'phase B9'!M16","v":101}]
[null,{"$f":"IF(E176<>0,'phase B9'!B17,\"\")","v":""},{"$f":"IF(E176<>0,'phase B9'!$G$1,\"\")","v":""},{"$f":"IF(E176<>0,'phase B9'!$B$1,\"\")","v":""},{"$f":"'phase B9'!L17","v":0},401,{"$f":"'phase B9'!M17","v":101}]
[null,{"$f":"IF(E177<>0,'phase B9'!B18,\"\")","v":""},{"$f":"IF(E177<>0,'phase B9'!$G$1,\"\")","v":""},{"$f":"IF(E177<>0,'phase B9'!$B$1,\"\")","v":""},{"$f":"'phase B9'!L18","v":0},401,{"$f":"'phase B9'!M18","v":101}]
[null,{"$f":"IF(E178<>0,'phase B9'!B19,\"\")","v":""},{"$f":"IF(E178<>0,'phase B9'!$G$1,\"\")","v":""},{"$f":"IF(E178<>0,'phase B9'!$B$1,\"\")","v":""},{"$f":"'phase B9'!L19","v":0},401,{"$f":"'phase B9'!M19","v":101}]
[null,{"$f":"IF(E179<>0,'phase B9'!B20,\"\")","v":""},{"$f":"IF(E179<>0,'phase B9'!$G$1,\"\")","v":""},{"$f":"IF(E179<>0,'phase B9'!$B$1,\"\")","v":""},{"$f":"'phase B9'!L20","v":0},401,{"$f":"'phase B9'!M20","v":101}]
[null,{"$f":"IF(E180<>0,'phase B9'!B21,\"\")","v":""},{"$f":"IF(E180<>0,'phase B9'!$G$1,\"\")","v":""},{"$f":"IF(E180<>0,'phase B9'!$B$1,\"\")","v":""},{"$f":"'phase B9'!L21","v":0},401,{"$f":"'phase B9'!M21","v":101}]
[null,{"$f":"IF(E181<>0,'phase B9'!B22,\"\")","v":""},{"$f":"IF(E181<>0,'phase B9'!$G$1,\"\")","v":""},{"$f":"IF(E181<>0,'phase B9'!$B$1,\"\")","v":""},{"$f":"'phase B9'!L22","v":0},401,{"$f":"'phase B9'!M22","v":101}]
[null,{"$f":"IF(E182<>0,'phase B9'!B23,\"\")","v":""},{"$f":"IF(E182<>0,'phase B9'!$G$1,\"\")","v":""},{"$f":"IF(E182<>0,'phase B9'!$B$1,\"\")","v":""},{"$f":"'phase B9'!L23","v":0},401,{"$f":"'phase B9'!M23","v":101}]
[null,{"$f":"IF(E183<>0,'phase B9'!B24,\"\")","v":""},{"$f":"IF(E183<>0,'phase B9'!$G$1,\"\")","v":""},{"$f":"IF(E183<>0,'phase B9'!$B$1,\"\")","v":""},{"$f":"'phase B9'!L24","v":0},401,{"$f":"'phase B9'!M24","v":101}]
[null,{"$f":"IF(E184<>0,'phase B10'!B5,\"\")","v":""},{"$f":"IF(E184<>0,'phase B10'!$G$1,\"\")","v":""},{"$f":"IF(E184<>0,'phase B10'!$B$1,\"\")","v":""},{"$f":"'phase B10'!L5","v":0},401,{"$f":"'phase B10'!M5","v":101}]
[null,{"$f":"IF(E185<>0,'phase B10'!B6,\"\")","v":""},{"$f":"IF(E185<>0,'phase B10'!$G$1,\"\")","v":""},{"$f":"IF(E185<>0,'phase B10'!$B$1,\"\")","v":""},{"$f":"'phase B10'!L6","v":0},401,{"$f":"'phase B10'!M6","v":101}]
[null,{"$f":"IF(E186<>0,'phase B10'!B7,\"\")","v":""},{"$f":"IF(E186<>0,'phase B10'!$G$1,\"\")","v":""},{"$f":"IF(E186<>0,'phase B10'!$B$1,\"\")","v":""},{"$f":"'phase B10'!L7","v":0},401,{"$f":"'phase B10'!M7","v":101}]
[null,{"$f":"IF(E187<>0,'phase B10'!B8,\"\")","v":""},{"$f":"IF(E187<>0,'phase B10'!$G$1,\"\")","v":""},{"$f":"IF(E187<>0,'phase B10'!$B$1,\"\")","v":""},{"$f":"'phase B10'!L8","v":0},401,{"$f":"'phase B10'!M8","v":101}]
[null,{"$f":"IF(E188<>0,'phase B10'!B9,\"\")","v":""},{"$f":"IF(E188<>0,'phase B10'!$G$1,\"\")","v":""},{"$f":"IF(E188<>0,'phase B10'!$B$1,\"\")","v":""},{"$f":"'phase B10'!L9","v":0},401,{"$f":"'phase B10'!M9","v":101}]
[null,{"$f":"IF(E189<>0,'phase B10'!B10,\"\")","v":""},{"$f":"IF(E189<>0,'phase B10'!$G$1,\"\")","v":""},{"$f":"IF(E189<>0,'phase B10'!$B$1,\"\")","v":""},{"$f":"'phase B10'!L10","v":0},401,{"$f":"'phase B10'!M10","v":101}]
[null,{"$f":"IF(E190<>0,'phase B10'!B11,\"\")","v":""},{"$f":"IF(E190<>0,'phase B10'!$G$1,\"\")","v":""},{"$f":"IF(E190<>0,'phase B10'!$B$1,\"\")","v":""},{"$f":"'phase B10'!L11","v":0},401,{"$f":"'phase B10'!M11","v":101}]
[null,{"$f":"IF(E191<>0,'phase B10'!B12,\"\")","v":""},{"$f":"IF(E191<>0,'phase B10'!$G$1,\"\")","v":""},{"$f":"IF(E191<>0,'phase B10'!$B$1,\"\")","v":""},{"$f":"'phase B10'!L12","v":0},401,{"$f":"'phase B10'!M12","v":101}]
[null,{"$f":"IF(E192<>0,'phase B10'!B13,\"\")","v":""},{"$f":"IF(E192<>0,'phase B10'!$G$1,\"\")","v":""},{"$f":"IF(E192<>0,'phase B10'!$B$1,\"\")","v":""},{"$f":"'phase B10'!L13","v":0},401,{"$f":"'phase B10'!M13","v":101}]
[null,{"$f":"IF(E193<>0,'phase B10'!B14,\"\")","v":""},{"$f":"IF(E193<>0,'phase B10'!$G$1,\"\")","v":""},{"$f":"IF(E193<>0,'phase B10'!$B$1,\"\")","v":""},{"$f":"'phase B10'!L14","v":0},401,{"$f":"'phase B10'!M14","v":101}]
[null,{"$f":"IF(E194<>0,'phase B10'!B15,\"\")","v":""},{"$f":"IF(E194<>0,'phase B10'!$G$1,\"\")","v":""},{"$f":"IF(E194<>0,'phase B10'!$B$1,\"\")","v":""},{"$f":"'phase B10'!L15","v":0},401,{"$f":"'phase B10'!M15","v":101}]
[null,{"$f":"IF(E195<>0,'phase B10'!B16,\"\")","v":""},{"$f":"IF(E195<>0,'phase B10'!$G$1,\"\")","v":""},{"$f":"IF(E195<>0,'phase B10'!$B$1,\"\")","v":""},{"$f":"'phase B10'!L16","v":0},{"$f":"IF(E195=0,401,RANK(E195,$E$3:$E$402))","v":401},{"$f":"'phase B10'!M16","v":101}]
[null,{"$f":"IF(E196<>0,'phase B10'!B17,\"\")","v":""},{"$f":"IF(E196<>0,'phase B10'!$G$1,\"\")","v":""},{"$f":"IF(E196<>0,'phase B10'!$B$1,\"\")","v":""},{"$f":"'phase B10'!L17","v":0},401,{"$f":"'phase B10'!M17","v":101}]
[null,{"$f":"IF(E197<>0,'phase B10'!B18,\"\")","v":""},{"$f":"IF(E197<>0,'phase B10'!$G$1,\"\")","v":""},{"$f":"IF(E197<>0,'phase B10'!$B$1,\"\")","v":""},{"$f":"'phase B10'!L18","v":0},401,{"$f":"'phase B10'!M18","v":101}]
[null,{"$f":"IF(E198<>0,'phase B10'!B19,\"\")","v":""},{"$f":"IF(E198<>0,'phase B10'!$G$1,\"\")","v":""},{"$f":"IF(E198<>0,'phase B10'!$B$1,\"\")","v":""},{"$f":"'phase B10'!L19","v":0},401,{"$f":"'phase B10'!M19","v":101}]
[null,{"$f":"IF(E199<>0,'phase B10'!B20,\"\")","v":""},{"$f":"IF(E199<>0,'phase B10'!$G$1,\"\")","v":""},{"$f":"IF(E199<>0,'phase B10'!$B$1,\"\")","v":""},{"$f":"'phase B10'!L20","v":0},401,{"$f":"'phase B10'!M20","v":101}]
[null,{"$f":"IF(E200<>0,'phase B10'!B21,\"\")","v":""},{"$f":"IF(E200<>0,'phase B10'!$G$1,\"\")","v":""},{"$f":"IF(E200<>0,'phase B10'!$B$1,\"\")","v":""},{"$f":"'phase B10'!L21","v":0},401,{"$f":"'phase B10'!M21","v":101}]
[null,{"$f":"IF(E201<>0,'phase B10'!B22,\"\")","v":""},{"$f":"IF(E201<>0,'phase B10'!$G$1,\"\")","v":""},{"$f":"IF(E201<>0,'phase B10'!$B$1,\"\")","v":""},{"$f":"'phase B10'!L22","v":0},401,{"$f":"'phase B10'!M22","v":101}]
[null,{"$f":"IF(E202<>0,'phase B10'!B23,\"\")","v":""},{"$f":"IF(E202<>0,'phase B10'!$G$1,\"\")","v":""},{"$f":"IF(E202<>0,'phase B10'!$B$1,\"\")","v":""},{"$f":"'phase B10'!L23","v":0},401,{"$f":"'phase B10'!M23","v":101}]
[null,{"$f":"IF(E203<>0,'phase B10'!B24,\"\")","v":""},{"$f":"IF(E203<>0,'phase B10'!$G$1,\"\")","v":""},{"$f":"IF(E203<>0,'phase B10'!$B$1,\"\")","v":""},{"$f":"'phase B10'!L24","v":0},401,{"$f":"'phase B10'!M24","v":101}]
[null,{"$f":"IF(E204<>0,'phase B11'!B5,\"\")","v":""},{"$f":"IF(E204<>0,'phase B11'!$G$1,\"\")","v":""},{"$f":"IF(E204<>0,'phase B11'!$B$1,\"\")","v":""},{"$f":"'phase B11'!L5","v":0},401,{"$f":"'phase B11'!M5","v":101}]
[null,{"$f":"IF(E205<>0,'phase B11'!B6,\"\")","v":""},{"$f":"IF(E205<>0,'phase B11'!$G$1,\"\")","v":""},{"$f":"IF(E205<>0,'phase B11'!$B$1,\"\")","v":""},{"$f":"'phase B11'!L6","v":0},401,{"$f":"'phase B11'!M6","v":101}]
[null,{"$f":"IF(E206<>0,'phase B11'!B7,\"\")","v":""},{"$f":"IF(E206<>0,'phase B11'!$G$1,\"\")","v":""},{"$f":"IF(E206<>0,'phase B11'!$B$1,\"\")","v":""},{"$f":"'phase B11'!L7","v":0},401,{"$f":"'phase B11'!M7","v":101}]
[null,{"$f":"IF(E207<>0,'phase B11'!B8,\"\")","v":""},{"$f":"IF(E207<>0,'phase B11'!$G$1,\"\")","v":""},{"$f":"IF(E207<>0,'phase B11'!$B$1,\"\")","v":""},{"$f":"'phase B11'!L8","v":0},401,{"$f":"'phase B11'!M8","v":101}]
[null,{"$f":"IF(E208<>0,'phase B11'!B9,\"\")","v":""},{"$f":"IF(E208<>0,'phase B11'!$G$1,\"\")","v":""},{"$f":"IF(E208<>0,'phase B11'!$B$1,\"\")","v":""},{"$f":"'phase B11'!L9","v":0},401,{"$f":"'phase B11'!M9","v":101}]
[null,{"$f":"IF(E209<>0,'phase B11'!B10,\"\")","v":""},{"$f":"IF(E209<>0,'phase B11'!$G$1,\"\")","v":""},{"$f":"IF(E209<>0,'phase B11'!$B$1,\"\")","v":""},{"$f":"'phase B11'!L10","v":0},401,{"$f":"'phase B11'!M10","v":101}]
[null,{"$f":"IF(E210<>0,'phase B11'!B11,\"\")","v":""},{"$f":"IF(E210<>0,'phase B11'!$G$1,\"\")","v":""},{"$f":"IF(E210<>0,'phase B11'!$B$1,\"\")","v":""},{"$f":"'phase B11'!L11","v":0},401,{"$f":"'phase B11'!M11","v":101}]
[null,{"$f":"IF(E211<>0,'phase B11'!B12,\"\")","v":""},{"$f":"IF(E211<>0,'phase B11'!$G$1,\"\")","v":""},{"$f":"IF(E211<>0,'phase B11'!$B$1,\"\")","v":""},{"$f":"'phase B11'!L12","v":0},401,{"$f":"'phase B11'!M12","v":101}]
[null,{"$f":"IF(E212<>0,'phase B11'!B13,\"\")","v":""},{"$f":"IF(E212<>0,'phase B11'!$G$1,\"\")","v":""},{"$f":"IF(E212<>0,'phase B11'!$B$1,\"\")","v":""},{"$f":"'phase B11'!L13","v":0},401,{"$f":"'phase B11'!M13","v":101}]
[null,{"$f":"IF(E213<>0,'phase B11'!B14,\"\")","v":""},{"$f":"IF(E213<>0,'phase B11'!$G$1,\"\")","v":""},{"$f":"IF(E213<>0,'phase B11'!$B$1,\"\")","v":""},{"$f":"'phase B11'!L14","v":0},401,{"$f":"'phase B11'!M14","v":101}]
[null,{"$f":"IF(E214<>0,'phase B11'!B15,\"\")","v":""},{"$f":"IF(E214<>0,'phase B11'!$G$1,\"\")","v":""},{"$f":"IF(E214<>0,'phase B11'!$B$1,\"\")","v":""},{"$f":"'phase B11'!L15","v":0},401,{"$f":"'phase B11'!M15","v":101}]
[null,{"$f":"IF(E215<>0,'phase B11'!B16,\"\")","v":""},{"$f":"IF(E215<>0,'phase B11'!$G$1,\"\")","v":""},{"$f":"IF(E215<>0,'phase B11'!$B$1,\"\")","v":""},{"$f":"'phase B11'!L16","v":0},401,{"$f":"'phase B11'!M16","v":101}]
[null,{"$f":"IF(E216<>0,'phase B11'!B17,\"\")","v":""},{"$f":"IF(E216<>0,'phase B11'!$G$1,\"\")","v":""},{"$f":"IF(E216<>0,'phase B11'!$B$1,\"\")","v":""},{"$f":"'phase B11'!L17","v":0},401,{"$f":"'phase B11'!M17","v":101}]
[null,{"$f":"IF(E217<>0,'phase B11'!B18,\"\")","v":""},{"$f":"IF(E217<>0,'phase B11'!$G$1,\"\")","v":""},{"$f":"IF(E217<>0,'phase B11'!$B$1,\"\")","v":""},{"$f":"'phase B11'!L18","v":0},401,{"$f":"'phase B11'!M18","v":101}]
[null,{"$f":"IF(E218<>0,'phase B11'!B19,\"\")","v":""},{"$f":"IF(E218<>0,'phase B11'!$G$1,\"\")","v":""},{"$f":"IF(E218<>0,'phase B11'!$B$1,\"\")","v":""},{"$f":"'phase B11'!L19","v":0},401,{"$f":"'phase B11'!M19","v":101}]
[null,{"$f":"IF(E219<>0,'phase B11'!B20,\"\")","v":""},{"$f":"IF(E219<>0,'phase B11'!$G$1,\"\")","v":""},{"$f":"IF(E219<>0,'phase B11'!$B$1,\"\")","v":""},{"$f":"'phase B11'!L20","v":0},401,{"$f":"'phase B11'!M20","v":101}]
[null,{"$f":"IF(E220<>0,'phase B11'!B21,\"\")","v":""},{"$f":"IF(E220<>0,'phase B11'!$G$1,\"\")","v":""},{"$f":"IF(E220<>0,'phase B11'!$B$1,\"\")","v":""},{"$f":"'phase B11'!L21","v":0},401,{"$f":"'phase B11'!M21","v":101}]
[null,{"$f":"IF(E221<>0,'phase B11'!B22,\"\")","v":""},{"$f":"IF(E221<>0,'phase B11'!$G$1,\"\")","v":""},{"$f":"IF(E221<>0,'phase B11'!$B$1,\"\")","v":""},{"$f":"'phase B11'!L22","v":0},401,{"$f":"'phase B11'!M22","v":101}]
[null,{"$f":"IF(E222<>0,'phase B11'!B23,\"\")","v":""},{"$f":"IF(E222<>0,'phase B11'!$G$1,\"\")","v":""},{"$f":"IF(E222<>0,'phase B11'!$B$1,\"\")","v":""},{"$f":"'phase B11'!L23","v":0},401,{"$f":"'phase B11'!M23","v":101}]
[null,{"$f":"IF(E223<>0,'phase B11'!B24,\"\")","v":""},{"$f":"IF(E223<>0,'phase B11'!$G$1,\"\")","v":""},{"$f":"IF(E223<>0,'phase B11'!$B$1,\"\")","v":""},{"$f":"'phase B11'!L24","v":0},401,{"$f":"'phase B11'!M24","v":101}]
[null,{"$f":"IF(E224<>0,'phase B12'!B5,\"\")","v":""},{"$f":"IF(E224<>0,'phase B12'!$G$1,\"\")","v":""},{"$f":"IF(E224<>0,'phase B12'!$B$1,\"\")","v":""},{"$f":"'phase B12'!L5","v":0},401,{"$f":"'phase B12'!M5","v":101}]
[null,{"$f":"IF(E225<>0,'phase B12'!B6,\"\")","v":""},{"$f":"IF(E225<>0,'phase B12'!$G$1,\"\")","v":""},{"$f":"IF(E225<>0,'phase B12'!$B$1,\"\")","v":""},{"$f":"'phase B12'!L6","v":0},401,{"$f":"'phase B12'!M6","v":101}]
[null,{"$f":"IF(E226<>0,'phase B12'!B7,\"\")","v":""},{"$f":"IF(E226<>0,'phase B12'!$G$1,\"\")","v":""},{"$f":"IF(E226<>0,'phase B12'!$B$1,\"\")","v":""},{"$f":"'phase B12'!L7","v":0},401,{"$f":"'phase B12'!M7","v":101}]
[null,{"$f":"IF(E227<>0,'phase B12'!B8,\"\")","v":""},{"$f":"IF(E227<>0,'phase B12'!$G$1,\"\")","v":""},{"$f":"IF(E227<>0,'phase B12'!$B$1,\"\")","v":""},{"$f":"'phase B12'!L8","v":0},401,{"$f":"'phase B12'!M8","v":101}]
[null,{"$f":"IF(E228<>0,'phase B12'!B9,\"\")","v":""},{"$f":"IF(E228<>0,'phase B12'!$G$1,\"\")","v":""},{"$f":"IF(E228<>0,'phase B12'!$B$1,\"\")","v":""},{"$f":"'phase B12'!L9","v":0},401,{"$f":"'phase B12'!M9","v":101}]
[null,{"$f":"IF(E229<>0,'phase B12'!B10,\"\")","v":""},{"$f":"IF(E229<>0,'phase B12'!$G$1,\"\")","v":""},{"$f":"IF(E229<>0,'phase B12'!$B$1,\"\")","v":""},{"$f":"'phase B12'!L10","v":0},401,{"$f":"'phase B12'!M10","v":101}]
[null,{"$f":"IF(E230<>0,'phase B12'!B11,\"\")","v":""},{"$f":"IF(E230<>0,'phase B12'!$G$1,\"\")","v":""},{"$f":"IF(E230<>0,'phase B12'!$B$1,\"\")","v":""},{"$f":"'phase B12'!L11","v":0},401,{"$f":"'phase B12'!M11","v":101}]
[null,{"$f":"IF(E231<>0,'phase B12'!B12,\"\")","v":""},{"$f":"IF(E231<>0,'phase B12'!$G$1,\"\")","v":""},{"$f":"IF(E231<>0,'phase B12'!$B$1,\"\")","v":""},{"$f":"'phase B12'!L12","v":0},401,{"$f":"'phase B12'!M12","v":101}]
[null,{"$f":"IF(E232<>0,'phase B12'!B13,\"\")","v":""},{"$f":"IF(E232<>0,'phase B12'!$G$1,\"\")","v":""},{"$f":"IF(E232<>0,'phase B12'!$B$1,\"\")","v":""},{"$f":"'phase B12'!L13","v":0},401,{"$f":"'phase B12'!M13","v":101}]
[null,{"$f":"IF(E233<>0,'phase B12'!B14,\"\")","v":""},{"$f":"IF(E233<>0,'phase B12'!$G$1,\"\")","v":""},{"$f":"IF(E233<>0,'phase B12'!$B$1,\"\")","v":""},{"$f":"'phase B12'!L14","v":0},401,{"$f":"'phase B12'!M14","v":101}]
[null,{"$f":"IF(E234<>0,'phase B12'!B15,\"\")","v":""},{"$f":"IF(E234<>0,'phase B12'!$G$1,\"\")","v":""},{"$f":"IF(E234<>0,'phase B12'!$B$1,\"\")","v":""},{"$f":"'phase B12'!L15","v":0},401,{"$f":"'phase B12'!M15","v":101}]
[null,{"$f":"IF(E235<>0,'phase B12'!B16,\"\")","v":""},{"$f":"IF(E235<>0,'phase B12'!$G$1,\"\")","v":""},{"$f":"IF(E235<>0,'phase B12'!$B$1,\"\")","v":""},{"$f":"'phase B12'!L16","v":0},401,{"$f":"'phase B12'!M16","v":101}]
[null,{"$f":"IF(E236<>0,'phase B12'!B17,\"\")","v":""},{"$f":"IF(E236<>0,'phase B12'!$G$1,\"\")","v":""},{"$f":"IF(E236<>0,'phase B12'!$B$1,\"\")","v":""},{"$f":"'phase B12'!L17","v":0},401,{"$f":"'phase B12'!M17","v":101}]
[null,{"$f":"IF(E237<>0,'phase B12'!B18,\"\")","v":""},{"$f":"IF(E237<>0,'phase B12'!$G$1,\"\")","v":""},{"$f":"IF(E237<>0,'phase B12'!$B$1,\"\")","v":""},{"$f":"'phase B12'!L18","v":0},401,{"$f":"'phase B12'!M18","v":101}]
[null,{"$f":"IF(E238<>0,'phase B12'!B19,\"\")","v":""},{"$f":"IF(E238<>0,'phase B12'!$G$1,\"\")","v":""},{"$f":"IF(E238<>0,'phase B12'!$B$1,\"\")","v":""},{"$f":"'phase B12'!L19","v":0},401,{"$f":"'phase B12'!M19","v":101}]
[null,{"$f":"IF(E239<>0,'phase B12'!B20,\"\")","v":""},{"$f":"IF(E239<>0,'phase B12'!$G$1,\"\")","v":""},{"$f":"IF(E239<>0,'phase B12'!$B$1,\"\")","v":""},{"$f":"'phase B12'!L20","v":0},401,{"$f":"'phase B12'!M20","v":101}]
[null,{"$f":"IF(E240<>0,'phase B12'!B21,\"\")","v":""},{"$f":"IF(E240<>0,'phase B12'!$G$1,\"\")","v":""},{"$f":"IF(E240<>0,'phase B12'!$B$1,\"\")","v":""},{"$f":"'phase B12'!L21","v":0},401,{"$f":"'phase B12'!M21","v":101}]
[null,{"$f":"IF(E241<>0,'phase B12'!B22,\"\")","v":""},{"$f":"IF(E241<>0,'phase B12'!$G$1,\"\")","v":""},{"$f":"IF(E241<>0,'phase B12'!$B$1,\"\")","v":""},{"$f":"'phase B12'!L22","v":0},401,{"$f":"'phase B12'!M22","v":101}]
[null,{"$f":"IF(E242<>0,'phase B12'!B23,\"\")","v":""},{"$f":"IF(E242<>0,'phase B12'!$G$1,\"\")","v":""},{"$f":"IF(E242<>0,'phase B12'!$B$1,\"\")","v":""},{"$f":"'phase B12'!L23","v":0},401,{"$f":"'phase B12'!M23","v":101}]
[null,{"$f":"IF(E243<>0,'phase B12'!B24,\"\")","v":""},{"$f":"IF(E243<>0,'phase B12'!$G$1,\"\")","v":""},{"$f":"IF(E243<>0,'phase B12'!$B$1,\"\")","v":""},{"$f":"'phase B12'!L24","v":0},401,{"$f":"'phase B12'!M24","v":101}]
[null,{"$f":"IF(E244<>0,'phase B13'!B5,\"\")","v":""},{"$f":"IF(E244<>0,'phase B13'!$G$1,\"\")","v":""},{"$f":"IF(E244<>0,'phase B13'!$B$1,\"\")","v":""},{"$f":"'phase B13'!L5","v":0},401,{"$f":"'phase B13'!M5","v":101}]
[null,{"$f":"IF(E245<>0,'phase B13'!B6,\"\")","v":""},{"$f":"IF(E245<>0,'phase B13'!$G$1,\"\")","v":""},{"$f":"IF(E245<>0,'phase B13'!$B$1,\"\")","v":""},{"$f":"'phase B13'!L6","v":0},401,{"$f":"'phase B13'!M6","v":101}]
[null,{"$f":"IF(E246<>0,'phase B13'!B7,\"\")","v":""},{"$f":"IF(E246<>0,'phase B13'!$G$1,\"\")","v":""},{"$f":"IF(E246<>0,'phase B13'!$B$1,\"\")","v":""},{"$f":"'phase B13'!L7","v":0},401,{"$f":"'phase B13'!M7","v":101}]
[null,{"$f":"IF(E247<>0,'phase B13'!B8,\"\")","v":""},{"$f":"IF(E247<>0,'phase B13'!$G$1,\"\")","v":""},{"$f":"IF(E247<>0,'phase B13'!$B$1,\"\")","v":""},{"$f":"'phase B13'!L8","v":0},401,{"$f":"'phase B13'!M8","v":101}]
[null,{"$f":"IF(E248<>0,'phase B13'!B9,\"\")","v":""},{"$f":"IF(E248<>0,'phase B13'!$G$1,\"\")","v":""},{"$f":"IF(E248<>0,'phase B13'!$B$1,\"\")","v":""},{"$f":"'phase B13'!L9","v":0},401,{"$f":"'phase B13'!M9","v":101}]
[null,{"$f":"IF(E249<>0,'phase B13'!B10,\"\")","v":""},{"$f":"IF(E249<>0,'phase B13'!$G$1,\"\")","v":""},{"$f":"IF(E249<>0,'phase B13'!$B$1,\"\")","v":""},{"$f":"'phase B13'!L10","v":0},401,{"$f":"'phase B13'!M10","v":101}]
[null,{"$f":"IF(E250<>0,'phase B13'!B11,\"\")","v":""},{"$f":"IF(E250<>0,'phase B13'!$G$1,\"\")","v":""},{"$f":"IF(E250<>0,'phase B13'!$B$1,\"\")","v":""},{"$f":"'phase B13'!L11","v":0},401,{"$f":"'phase B13'!M11","v":101}]
[null,{"$f":"IF(E251<>0,'phase B13'!B12,\"\")","v":""},{"$f":"IF(E251<>0,'phase B13'!$G$1,\"\")","v":""},{"$f":"IF(E251<>0,'phase B13'!$B$1,\"\")","v":""},{"$f":"'phase B13'!L12","v":0},401,{"$f":"'phase B13'!M12","v":101}]
[null,{"$f":"IF(E252<>0,'phase B13'!B13,\"\")","v":""},{"$f":"IF(E252<>0,'phase B13'!$G$1,\"\")","v":""},{"$f":"IF(E252<>0,'phase B13'!$B$1,\"\")","v":""},{"$f":"'phase B13'!L13","v":0},401,{"$f":"'phase B13'!M13","v":101}]
[null,{"$f":"IF(E253<>0,'phase B13'!B14,\"\")","v":""},{"$f":"IF(E253<>0,'phase B13'!$G$1,\"\")","v":""},{"$f":"IF(E253<>0,'phase B13'!$B$1,\"\")","v":""},{"$f":"'phase B13'!L14","v":0},401,{"$f":"'phase B13'!M14","v":101}]
[null,{"$f":"IF(E254<>0,'phase B13'!B15,\"\")","v":""},{"$f":"IF(E254<>0,'phase B13'!$G$1,\"\")","v":""},{"$f":"IF(E254<>0,'phase B13'!$B$1,\"\")","v":""},{"$f":"'phase B13'!L15","v":0},401,{"$f":"'phase B13'!M15","v":101}]
[null,{"$f":"IF(E255<>0,'phase B13'!B16,\"\")","v":""},{"$f":"IF(E255<>0,'phase B13'!$G$1,\"\")","v":""},{"$f":"IF(E255<>0,'phase B13'!$B$1,\"\")","v":""},{"$f":"'phase B13'!L16","v":0},401,{"$f":"'phase B13'!M16","v":101}]
[null,{"$f":"IF(E256<>0,'phase B13'!B17,\"\")","v":""},{"$f":"IF(E256<>0,'phase B13'!$G$1,\"\")","v":""},{"$f":"IF(E256<>0,'phase B13'!$B$1,\"\")","v":""},{"$f":"'phase B13'!L17","v":0},401,{"$f":"'phase B13'!M17","v":101}]
[null,{"$f":"IF(E257<>0,'phase B13'!B18,\"\")","v":""},{"$f":"IF(E257<>0,'phase B13'!$G$1,\"\")","v":""},{"$f":"IF(E257<>0,'phase B13'!$B$1,\"\")","v":""},{"$f":"'phase B13'!L18","v":0},401,{"$f":"'phase B13'!M18","v":101}]
[null,{"$f":"IF(E258<>0,'phase B13'!B19,\"\")","v":""},{"$f":"IF(E258<>0,'phase B13'!$G$1,\"\")","v":""},{"$f":"IF(E258<>0,'phase B13'!$B$1,\"\")","v":""},{"$f":"'phase B13'!L19","v":0},401,{"$f":"'phase B13'!M19","v":101}]
[null,{"$f":"IF(E259<>0,'phase B13'!B20,\"\")","v":""},{"$f":"IF(E259<>0,'phase B13'!$G$1,\"\")","v":""},{"$f":"IF(E259<>0,'phase B13'!$B$1,\"\")","v":""},{"$f":"'phase B13'!L20","v":0},{"$f":"IF(E259=0,401,RANK(E259,$E$3:$E$402))","v":401},{"$f":"'phase B13'!M20","v":101}]
[null,{"$f":"IF(E260<>0,'phase B13'!B21,\"\")","v":""},{"$f":"IF(E260<>0,'phase B13'!$G$1,\"\")","v":""},{"$f":"IF(E260<>0,'phase B13'!$B$1,\"\")","v":""},{"$f":"'phase B13'!L21","v":0},401,{"$f":"'phase B13'!M21","v":101}]
[null,{"$f":"IF(E261<>0,'phase B13'!B22,\"\")","v":""},{"$f":"IF(E261<>0,'phase B13'!$G$1,\"\")","v":""},{"$f":"IF(E261<>0,'phase B13'!$B$1,\"\")","v":""},{"$f":"'phase B13'!L22","v":0},401,{"$f":"'phase B13'!M22","v":101}]
[null,{"$f":"IF(E262<>0,'phase B13'!B23,\"\")","v":""},{"$f":"IF(E262<>0,'phase B13'!$G$1,\"\")","v":""},{"$f":"IF(E262<>0,'phase B13'!$B$1,\"\")","v":""},{"$f":"'phase B13'!L23","v":0},401,{"$f":"'phase B13'!M23","v":101}]
[null,{"$f":"IF(E263<>0,'phase B13'!B24,\"\")","v":""},{"$f":"IF(E263<>0,'phase B13'!$G$1,\"\")","v":""},{"$f":"IF(E263<>0,'phase B13'!$B$1,\"\")","v":""},{"$f":"'phase B13'!L24","v":0},401,{"$f":"'phase B13'!M24","v":101}]
[null,{"$f":"IF(E264<>0,'phase B14'!B5,\"\")","v":""},{"$f":"IF(E264<>0,'phase B14'!$G$1,\"\")","v":""},{"$f":"IF(E264<>0,'phase B14'!$B$1,\"\")","v":""},{"$f":"'phase B14'!L5","v":0},401,{"$f":"'phase B14'!M5","v":101}]
[null,{"$f":"IF(E265<>0,'phase B14'!B6,\"\")","v":""},{"$f":"IF(E265<>0,'phase B14'!$G$1,\"\")","v":""},{"$f":"IF(E265<>0,'phase B14'!$B$1,\"\")","v":""},{"$f":"'phase B14'!L6","v":0},401,{"$f":"'phase B14'!M6","v":101}]
[null,{"$f":"IF(E266<>0,'phase B14'!B7,\"\")","v":""},{"$f":"IF(E266<>0,'phase B14'!$G$1,\"\")","v":""},{"$f":"IF(E266<>0,'phase B14'!$B$1,\"\")","v":""},{"$f":"'phase B14'!L7","v":0},401,{"$f":"'phase B14'!M7","v":101}]
[null,{"$f":"IF(E267<>0,'phase B14'!B8,\"\")","v":""},{"$f":"IF(E267<>0,'phase B14'!$G$1,\"\")","v":""},{"$f":"IF(E267<>0,'phase B14'!$B$1,\"\")","v":""},{"$f":"'phase B14'!L8","v":0},401,{"$f":"'phase B14'!M8","v":101}]
[null,{"$f":"IF(E268<>0,'phase B14'!B9,\"\")","v":""},{"$f":"IF(E268<>0,'phase B14'!$G$1,\"\")","v":""},{"$f":"IF(E268<>0,'phase B14'!$B$1,\"\")","v":""},{"$f":"'phase B14'!L9","v":0},401,{"$f":"'phase B14'!M9","v":101}]
[null,{"$f":"IF(E269<>0,'phase B14'!B10,\"\")","v":""},{"$f":"IF(E269<>0,'phase B14'!$G$1,\"\")","v":""},{"$f":"IF(E269<>0,'phase B14'!$B$1,\"\")","v":""},{"$f":"'phase B14'!L10","v":0},401,{"$f":"'phase B14'!M10","v":101}]
[null,{"$f":"IF(E270<>0,'phase B14'!B11,\"\")","v":""},{"$f":"IF(E270<>0,'phase B14'!$G$1,\"\")","v":""},{"$f":"IF(E270<>0,'phase B14'!$B$1,\"\")","v":""},{"$f":"'phase B14'!L11","v":0},401,{"$f":"'phase B14'!M11","v":101}]
[null,{"$f":"IF(E271<>0,'phase B14'!B12,\"\")","v":""},{"$f":"IF(E271<>0,'phase B14'!$G$1,\"\")","v":""},{"$f":"IF(E271<>0,'phase B14'!$B$1,\"\")","v":""},{"$f":"'phase B14'!L12","v":0},401,{"$f":"'phase B14'!M12","v":101}]
[null,{"$f":"IF(E272<>0,'phase B14'!B13,\"\")","v":""},{"$f":"IF(E272<>0,'phase B14'!$G$1,\"\")","v":""},{"$f":"IF(E272<>0,'phase B14'!$B$1,\"\")","v":""},{"$f":"'phase B14'!L13","v":0},401,{"$f":"'phase B14'!M13","v":101}]
[null,{"$f":"IF(E273<>0,'phase B14'!B14,\"\")","v":""},{"$f":"IF(E273<>0,'phase B14'!$G$1,\"\")","v":""},{"$f":"IF(E273<>0,'phase B14'!$B$1,\"\")","v":""},{"$f":"'phase B14'!L14","v":0},401,{"$f":"'phase B14'!M14","v":101}]
[null,{"$f":"IF(E274<>0,'phase B14'!B15,\"\")","v":""},{"$f":"IF(E274<>0,'phase B14'!$G$1,\"\")","v":""},{"$f":"IF(E274<>0,'phase B14'!$B$1,\"\")","v":""},{"$f":"'phase B14'!L15","v":0},401,{"$f":"'phase B14'!M15","v":101}]
[null,{"$f":"IF(E275<>0,'phase B14'!B16,\"\")","v":""},{"$f":"IF(E275<>0,'phase B14'!$G$1,\"\")","v":""},{"$f":"IF(E275<>0,'phase B14'!$B$1,\"\")","v":""},{"$f":"'phase B14'!L16","v":0},401,{"$f":"'phase B14'!M16","v":101}]
[null,{"$f":"IF(E276<>0,'phase B14'!B17,\"\")","v":""},{"$f":"IF(E276<>0,'phase B14'!$G$1,\"\")","v":""},{"$f":"IF(E276<>0,'phase B14'!$B$1,\"\")","v":""},{"$f":"'phase B14'!L17","v":0},401,{"$f":"'phase B14'!M17","v":101}]
[null,{"$f":"IF(E277<>0,'phase B14'!B18,\"\")","v":""},{"$f":"IF(E277<>0,'phase B14'!$G$1,\"\")","v":""},{"$f":"IF(E277<>0,'phase B14'!$B$1,\"\")","v":""},{"$f":"'phase B14'!L18","v":0},401,{"$f":"'phase B14'!M18","v":101}]
[null,{"$f":"IF(E278<>0,'phase B14'!B19,\"\")","v":""},{"$f":"IF(E278<>0,'phase B14'!$G$1,\"\")","v":""},{"$f":"IF(E278<>0,'phase B14'!$B$1,\"\")","v":""},{"$f":"'phase B14'!L19","v":0},401,{"$f":"'phase B14'!M19","v":101}]
[null,{"$f":"IF(E279<>0,'phase B14'!B20,\"\")","v":""},{"$f":"IF(E279<>0,'phase B14'!$G$1,\"\")","v":""},{"$f":"IF(E279<>0,'phase B14'!$B$1,\"\")","v":""},{"$f":"'phase B14'!L20","v":0},401,{"$f":"'phase B14'!M20","v":101}]
[null,{"$f":"IF(E280<>0,'phase B14'!B21,\"\")","v":""},{"$f":"IF(E280<>0,'phase B14'!$G$1,\"\")","v":""},{"$f":"IF(E280<>0,'phase B14'!$B$1,\"\")","v":""},{"$f":"'phase B14'!L21","v":0},401,{"$f":"'phase B14'!M21","v":101}]
[null,{"$f":"IF(E281<>0,'phase B14'!B22,\"\")","v":""},{"$f":"IF(E281<>0,'phase B14'!$G$1,\"\")","v":""},{"$f":"IF(E281<>0,'phase B14'!$B$1,\"\")","v":""},{"$f":"'phase B14'!L22","v":0},401,{"$f":"'phase B14'!M22","v":101}]
[null,{"$f":"IF(E282<>0,'phase B14'!B23,\"\")","v":""},{"$f":"IF(E282<>0,'phase B14'!$G$1,\"\")","v":""},{"$f":"IF(E282<>0,'phase B14'!$B$1,\"\")","v":""},{"$f":"'phase B14'!L23","v":0},401,{"$f":"'phase B14'!M23","v":101}]
[null,{"$f":"IF(E283<>0,'phase B14'!B24,\"\")","v":""},{"$f":"IF(E283<>0,'phase B14'!$G$1,\"\")","v":""},{"$f":"IF(E283<>0,'phase B14'!$B$1,\"\")","v":""},{"$f":"'phase B14'!L24","v":0},401,{"$f":"'phase B14'!M24","v":101}]
[null,{"$f":"IF(E284<>0,'phase B15'!B5,\"\")","v":""},{"$f":"IF(E284<>0,'phase B15'!$G$1,\"\")","v":""},{"$f":"IF(E284<>0,'phase B15'!$B$1,\"\")","v":""},{"$f":"'phase B15'!L5","v":0},401,{"$f":"'phase B15'!M5","v":101}]
[null,{"$f":"IF(E285<>0,'phase B15'!B6,\"\")","v":""},{"$f":"IF(E285<>0,'phase B15'!$G$1,\"\")","v":""},{"$f":"IF(E285<>0,'phase B15'!$B$1,\"\")","v":""},{"$f":"'phase B15'!L6","v":0},401,{"$f":"'phase B15'!M6","v":101}]
[null,{"$f":"IF(E286<>0,'phase B15'!B7,\"\")","v":""},{"$f":"IF(E286<>0,'phase B15'!$G$1,\"\")","v":""},{"$f":"IF(E286<>0,'phase B15'!$B$1,\"\")","v":""},{"$f":"'phase B15'!L7","v":0},401,{"$f":"'phase B15'!M7","v":101}]
[null,{"$f":"IF(E287<>0,'phase B15'!B8,\"\")","v":""},{"$f":"IF(E287<>0,'phase B15'!$G$1,\"\")","v":""},{"$f":"IF(E287<>0,'phase B15'!$B$1,\"\")","v":""},{"$f":"'phase B15'!L8","v":0},401,{"$f":"'phase B15'!M8","v":101}]
[null,{"$f":"IF(E288<>0,'phase B15'!B9,\"\")","v":""},{"$f":"IF(E288<>0,'phase B15'!$G$1,\"\")","v":""},{"$f":"IF(E288<>0,'phase B15'!$B$1,\"\")","v":""},{"$f":"'phase B15'!L9","v":0},401,{"$f":"'phase B15'!M9","v":101}]
[null,{"$f":"IF(E289<>0,'phase B15'!B10,\"\")","v":""},{"$f":"IF(E289<>0,'phase B15'!$G$1,\"\")","v":""},{"$f":"IF(E289<>0,'phase B15'!$B$1,\"\")","v":""},{"$f":"'phase B15'!L10","v":0},401,{"$f":"'phase B15'!M10","v":101}]
[null,{"$f":"IF(E290<>0,'phase B15'!B11,\"\")","v":""},{"$f":"IF(E290<>0,'phase B15'!$G$1,\"\")","v":""},{"$f":"IF(E290<>0,'phase B15'!$B$1,\"\")","v":""},{"$f":"'phase B15'!L11","v":0},401,{"$f":"'phase B15'!M11","v":101}]
[null,{"$f":"IF(E291<>0,'phase B15'!B12,\"\")","v":""},{"$f":"IF(E291<>0,'phase B15'!$G$1,\"\")","v":""},{"$f":"IF(E291<>0,'phase B15'!$B$1,\"\")","v":""},{"$f":"'phase B15'!L12","v":0},401,{"$f":"'phase B15'!M12","v":101}]
[null,{"$f":"IF(E292<>0,'phase B15'!B13,\"\")","v":""},{"$f":"IF(E292<>0,'phase B15'!$G$1,\"\")","v":""},{"$f":"IF(E292<>0,'phase B15'!$B$1,\"\")","v":""},{"$f":"'phase B15'!L13","v":0},401,{"$f":"'phase B15'!M13","v":101}]
[null,{"$f":"IF(E293<>0,'phase B15'!B14,\"\")","v":""},{"$f":"IF(E293<>0,'phase B15'!$G$1,\"\")","v":""},{"$f":"IF(E293<>0,'phase B15'!$B$1,\"\")","v":""},{"$f":"'phase B15'!L14","v":0},401,{"$f":"'phase B15'!M14","v":101}]
[null,{"$f":"IF(E294<>0,'phase B15'!B15,\"\")","v":""},{"$f":"IF(E294<>0,'phase B15'!$G$1,\"\")","v":""},{"$f":"IF(E294<>0,'phase B15'!$B$1,\"\")","v":""},{"$f":"'phase B15'!L15","v":0},401,{"$f":"'phase B15'!M15","v":101}]
[null,{"$f":"IF(E295<>0,'phase B15'!B16,\"\")","v":""},{"$f":"IF(E295<>0,'phase B15'!$G$1,\"\")","v":""},{"$f":"IF(E295<>0,'phase B15'!$B$1,\"\")","v":""},{"$f":"'phase B15'!L16","v":0},401,{"$f":"'phase B15'!M16","v":101}]
[null,{"$f":"IF(E296<>0,'phase B15'!B17,\"\")","v":""},{"$f":"IF(E296<>0,'phase B15'!$G$1,\"\")","v":""},{"$f":"IF(E296<>0,'phase B15'!$B$1,\"\")","v":""},{"$f":"'phase B15'!L17","v":0},401,{"$f":"'phase B15'!M17","v":101}]
[null,{"$f":"IF(E297<>0,'phase B15'!B18,\"\")","v":""},{"$f":"IF(E297<>0,'phase B15'!$G$1,\"\")","v":""},{"$f":"IF(E297<>0,'phase B15'!$B$1,\"\")","v":""},{"$f":"'phase B15'!L18","v":0},401,{"$f":"'phase B15'!M18","v":101}]
[null,{"$f":"IF(E298<>0,'phase B15'!B19,\"\")","v":""},{"$f":"IF(E298<>0,'phase B15'!$G$1,\"\")","v":""},{"$f":"IF(E298<>0,'phase B15'!$B$1,\"\")","v":""},{"$f":"'phase B15'!L19","v":0},401,{"$f":"'phase B15'!M19","v":101}]
[null,{"$f":"IF(E299<>0,'phase B15'!B20,\"\")","v":""},{"$f":"IF(E299<>0,'phase B15'!$G$1,\"\")","v":""},{"$f":"IF(E299<>0,'phase B15'!$B$1,\"\")","v":""},{"$f":"'phase B15'!L20","v":0},401,{"$f":"'phase B15'!M20","v":101}]
[null,{"$f":"IF(E300<>0,'phase B15'!B21,\"\")","v":""},{"$f":"IF(E300<>0,'phase B15'!$G$1,\"\")","v":""},{"$f":"IF(E300<>0,'phase B15'!$B$1,\"\")","v":""},{"$f":"'phase B15'!L21","v":0},401,{"$f":"'phase B15'!M21","v":101}]
[null,{"$f":"IF(E301<>0,'phase B15'!B22,\"\")","v":""},{"$f":"IF(E301<>0,'phase B15'!$G$1,\"\")","v":""},{"$f":"IF(E301<>0,'phase B15'!$B$1,\"\")","v":""},{"$f":"'phase B15'!L22","v":0},401,{"$f":"'phase B15'!M22","v":101}]
[null,{"$f":"IF(E302<>0,'phase B15'!B23,\"\")","v":""},{"$f":"IF(E302<>0,'phase B15'!$G$1,\"\")","v":""},{"$f":"IF(E302<>0,'phase B15'!$B$1,\"\")","v":""},{"$f":"'phase B15'!L23","v":0},401,{"$f":"'phase B15'!M23","v":101}]
[null,{"$f":"IF(E303<>0,'phase B15'!B24,\"\")","v":""},{"$f":"IF(E303<>0,'phase B15'!$G$1,\"\")","v":""},{"$f":"IF(E303<>0,'phase B15'!$B$1,\"\")","v":""},{"$f":"'phase B15'!L24","v":0},401,{"$f":"'phase B15'!M24","v":101}]
[null,{"$f":"IF(E304<>0,'phase B16'!B5,\"\")","v":""},{"$f":"IF(E304<>0,'phase B16'!$G$1,\"\")","v":""},{"$f":"IF(E304<>0,'phase B16'!$B$1,\"\")","v":""},{"$f":"'phase B16'!L5","v":0},401,{"$f":"'phase B16'!M5","v":101}]
[null,{"$f":"IF(E305<>0,'phase B16'!B6,\"\")","v":""},{"$f":"IF(E305<>0,'phase B16'!$G$1,\"\")","v":""},{"$f":"IF(E305<>0,'phase B16'!$B$1,\"\")","v":""},{"$f":"'phase B16'!L6","v":0},401,{"$f":"'phase B16'!M6","v":101}]
[null,{"$f":"IF(E306<>0,'phase B16'!B7,\"\")","v":""},{"$f":"IF(E306<>0,'phase B16'!$G$1,\"\")","v":""},{"$f":"IF(E306<>0,'phase B16'!$B$1,\"\")","v":""},{"$f":"'phase B16'!L7","v":0},401,{"$f":"'phase B16'!M7","v":101}]
[null,{"$f":"IF(E307<>0,'phase B16'!B8,\"\")","v":""},{"$f":"IF(E307<>0,'phase B16'!$G$1,\"\")","v":""},{"$f":"IF(E307<>0,'phase B16'!$B$1,\"\")","v":""},{"$f":"'phase B16'!L8","v":0},401,{"$f":"'phase B16'!M8","v":101}]
[null,{"$f":"IF(E308<>0,'phase B16'!B9,\"\")","v":""},{"$f":"IF(E308<>0,'phase B16'!$G$1,\"\")","v":""},{"$f":"IF(E308<>0,'phase B16'!$B$1,\"\")","v":""},{"$f":"'phase B16'!L9","v":0},401,{"$f":"'phase B16'!M9","v":101}]
[null,{"$f":"IF(E309<>0,'phase B16'!B10,\"\")","v":""},{"$f":"IF(E309<>0,'phase B16'!$G$1,\"\")","v":""},{"$f":"IF(E309<>0,'phase B16'!$B$1,\"\")","v":""},{"$f":"'phase B16'!L10","v":0},401,{"$f":"'phase B16'!M10","v":101}]
[null,{"$f":"IF(E310<>0,'phase B16'!B11,\"\")","v":""},{"$f":"IF(E310<>0,'phase B16'!$G$1,\"\")","v":""},{"$f":"IF(E310<>0,'phase B16'!$B$1,\"\")","v":""},{"$f":"'phase B16'!L11","v":0},401,{"$f":"'phase B16'!M11","v":101}]
[null,{"$f":"IF(E311<>0,'phase B16'!B12,\"\")","v":""},{"$f":"IF(E311<>0,'phase B16'!$G$1,\"\")","v":""},{"$f":"IF(E311<>0,'phase B16'!$B$1,\"\")","v":""},{"$f":"'phase B16'!L12","v":0},401,{"$f":"'phase B16'!M12","v":101}]
[null,{"$f":"IF(E312<>0,'phase B16'!B13,\"\")","v":""},{"$f":"IF(E312<>0,'phase B16'!$G$1,\"\")","v":""},{"$f":"IF(E312<>0,'phase B16'!$B$1,\"\")","v":""},{"$f":"'phase B16'!L13","v":0},401,{"$f":"'phase B16'!M13","v":101}]
[null,{"$f":"IF(E313<>0,'phase B16'!B14,\"\")","v":""},{"$f":"IF(E313<>0,'phase B16'!$G$1,\"\")","v":""},{"$f":"IF(E313<>0,'phase B16'!$B$1,\"\")","v":""},{"$f":"'phase B16'!L14","v":0},401,{"$f":"'phase B16'!M14","v":101}]
[null,{"$f":"IF(E314<>0,'phase B16'!B15,\"\")","v":""},{"$f":"IF(E314<>0,'phase B16'!$G$1,\"\")","v":""},{"$f":"IF(E314<>0,'phase B16'!$B$1,\"\")","v":""},{"$f":"'phase B16'!L15","v":0},401,{"$f":"'phase B16'!M15","v":101}]
[null,{"$f":"IF(E315<>0,'phase B16'!B16,\"\")","v":""},{"$f":"IF(E315<>0,'phase B16'!$G$1,\"\")","v":""},{"$f":"IF(E315<>0,'phase B16'!$B$1,\"\")","v":""},{"$f":"'phase B16'!L16","v":0},401,{"$f":"'phase B16'!M16","v":101}]
[null,{"$f":"IF(E316<>0,'phase B16'!B17,\"\")","v":""},{"$f":"IF(E316<>0,'phase B16'!$G$1,\"\")","v":""},{"$f":"IF(E316<>0,'phase B16'!$B$1,\"\")","v":""},{"$f":"'phase B16'!L17","v":0},401,{"$f":"'phase B16'!M17","v":101}]
[null,{"$f":"IF(E317<>0,'phase B16'!B18,\"\")","v":""},{"$f":"IF(E317<>0,'phase B16'!$G$1,\"\")","v":""},{"$f":"IF(E317<>0,'phase B16'!$B$1,\"\")","v":""},{"$f":"'phase B16'!L18","v":0},401,{"$f":"'phase B16'!M18","v":101}]
[null,{"$f":"IF(E318<>0,'phase B16'!B19,\"\")","v":""},{"$f":"IF(E318<>0,'phase B16'!$G$1,\"\")","v":""},{"$f":"IF(E318<>0,'phase B16'!$B$1,\"\")","v":""},{"$f":"'phase B16'!L19","v":0},401,{"$f":"'phase B16'!M19","v":101}]
[null,{"$f":"IF(E319<>0,'phase B16'!B20,\"\")","v":""},{"$f":"IF(E319<>0,'phase B16'!$G$1,\"\")","v":""},{"$f":"IF(E319<>0,'phase B16'!$B$1,\"\")","v":""},{"$f":"'phase B16'!L20","v":0},401,{"$f":"'phase B16'!M20","v":101}]
[null,{"$f":"IF(E320<>0,'phase B16'!B21,\"\")","v":""},{"$f":"IF(E320<>0,'phase B16'!$G$1,\"\")","v":""},{"$f":"IF(E320<>0,'phase B16'!$B$1,\"\")","v":""},{"$f":"'phase B16'!L21","v":0},401,{"$f":"'phase B16'!M21","v":101}]
[null,{"$f":"IF(E321<>0,'phase B16'!B22,\"\")","v":""},{"$f":"IF(E321<>0,'phase B16'!$G$1,\"\")","v":""},{"$f":"IF(E321<>0,'phase B16'!$B$1,\"\")","v":""},{"$f":"'phase B16'!L22","v":0},401,{"$f":"'phase B16'!M22","v":101}]
[null,{"$f":"IF(E322<>0,'phase B16'!B23,\"\")","v":""},{"$f":"IF(E322<>0,'phase B16'!$G$1,\"\")","v":""},{"$f":"IF(E322<>0,'phase B16'!$B$1,\"\")","v":""},{"$f":"'phase B16'!L23","v":0},401,{"$f":"'phase B16'!M23","v":101}]
[null,{"$f":"IF(E323<>0,'phase B16'!B24,\"\")","v":""},{"$f":"IF(E323<>0,'phase B16'!$G$1,\"\")","v":""},{"$f":"IF(E323<>0,'phase B16'!$B$1,\"\")","v":""},{"$f":"'phase B16'!L24","v":0},{"$f":"IF(E323=0,401,RANK(E323,$E$3:$E$402))","v":401},{"$f":"'phase B16'!M24","v":101}]
[null,{"$f":"IF(E324<>0,'phase B17'!B5,\"\")","v":""},{"$f":"IF(E324<>0,'phase B17'!$G$1,\"\")","v":""},{"$f":"IF(E324<>0,'phase B17'!$B$1,\"\")","v":""},{"$f":"'phase B17'!L5","v":0},401,{"$f":"'phase B17'!M5","v":101}]
[null,{"$f":"IF(E325<>0,'phase B17'!B6,\"\")","v":""},{"$f":"IF(E325<>0,'phase B17'!$G$1,\"\")","v":""},{"$f":"IF(E325<>0,'phase B17'!$B$1,\"\")","v":""},{"$f":"'phase B17'!L6","v":0},401,{"$f":"'phase B17'!M6","v":101}]
[null,{"$f":"IF(E326<>0,'phase B17'!B7,\"\")","v":""},{"$f":"IF(E326<>0,'phase B17'!$G$1,\"\")","v":""},{"$f":"IF(E326<>0,'phase B17'!$B$1,\"\")","v":""},{"$f":"'phase B17'!L7","v":0},401,{"$f":"'phase B17'!M7","v":101}]
[null,{"$f":"IF(E327<>0,'phase B17'!B8,\"\")","v":""},{"$f":"IF(E327<>0,'phase B17'!$G$1,\"\")","v":""},{"$f":"IF(E327<>0,'phase B17'!$B$1,\"\")","v":""},{"$f":"'phase B17'!L8","v":0},401,{"$f":"'phase B17'!M8","v":101}]
[null,{"$f":"IF(E328<>0,'phase B17'!B9,\"\")","v":""},{"$f":"IF(E328<>0,'phase B17'!$G$1,\"\")","v":""},{"$f":"IF(E328<>0,'phase B17'!$B$1,\"\")","v":""},{"$f":"'phase B17'!L9","v":0},401,{"$f":"'phase B17'!M9","v":101}]
[null,{"$f":"IF(E329<>0,'phase B17'!B10,\"\")","v":""},{"$f":"IF(E329<>0,'phase B17'!$G$1,\"\")","v":""},{"$f":"IF(E329<>0,'phase B17'!$B$1,\"\")","v":""},{"$f":"'phase B17'!L10","v":0},401,{"$f":"'phase B17'!M10","v":101}]
[null,{"$f":"IF(E330<>0,'phase B17'!B11,\"\")","v":""},{"$f":"IF(E330<>0,'phase B17'!$G$1,\"\")","v":""},{"$f":"IF(E330<>0,'phase B17'!$B$1,\"\")","v":""},{"$f":"'phase B17'!L11","v":0},401,{"$f":"'phase B17'!M11","v":101}]
[null,{"$f":"IF(E331<>0,'phase B17'!B12,\"\")","v":""},{"$f":"IF(E331<>0,'phase B17'!$G$1,\"\")","v":""},{"$f":"IF(E331<>0,'phase B17'!$B$1,\"\")","v":""},{"$f":"'phase B17'!L12","v":0},401,{"$f":"'phase B17'!M12","v":101}]
[null,{"$f":"IF(E332<>0,'phase B17'!B13,\"\")","v":""},{"$f":"IF(E332<>0,'phase B17'!$G$1,\"\")","v":""},{"$f":"IF(E332<>0,'phase B17'!$B$1,\"\")","v":""},{"$f":"'phase B17'!L13","v":0},401,{"$f":"'phase B17'!M13","v":101}]
[null,{"$f":"IF(E333<>0,'phase B17'!B14,\"\")","v":""},{"$f":"IF(E333<>0,'phase B17'!$G$1,\"\")","v":""},{"$f":"IF(E333<>0,'phase B17'!$B$1,\"\")","v":""},{"$f":"'phase B17'!L14","v":0},401,{"$f":"'phase B17'!M14","v":101}]
[null,{"$f":"IF(E334<>0,'phase B17'!B15,\"\")","v":""},{"$f":"IF(E334<>0,'phase B17'!$G$1,\"\")","v":""},{"$f":"IF(E334<>0,'phase B17'!$B$1,\"\")","v":""},{"$f":"'phase B17'!L15","v":0},401,{"$f":"'phase B17'!M15","v":101}]
[null,{"$f":"IF(E335<>0,'phase B17'!B16,\"\")","v":""},{"$f":"IF(E335<>0,'phase B17'!$G$1,\"\")","v":""},{"$f":"IF(E335<>0,'phase B17'!$B$1,\"\")","v":""},{"$f":"'phase B17'!L16","v":0},401,{"$f":"'phase B17'!M16","v":101}]
[null,{"$f":"IF(E336<>0,'phase B17'!B17,\"\")","v":""},{"$f":"IF(E336<>0,'phase B17'!$G$1,\"\")","v":""},{"$f":"IF(E336<>0,'phase B17'!$B$1,\"\")","v":""},{"$f":"'phase B17'!L17","v":0},401,{"$f":"'phase B17'!M17","v":101}]
[null,{"$f":"IF(E337<>0,'phase B17'!B18,\"\")","v":""},{"$f":"IF(E337<>0,'phase B17'!$G$1,\"\")","v":""},{"$f":"IF(E337<>0,'phase B17'!$B$1,\"\")","v":""},{"$f":"'phase B17'!L18","v":0},401,{"$f":"'phase B17'!M18","v":101}]
[null,{"$f":"IF(E338<>0,'phase B17'!B19,\"\")","v":""},{"$f":"IF(E338<>0,'phase B17'!$G$1,\"\")","v":""},{"$f":"IF(E338<>0,'phase B17'!$B$1,\"\")","v":""},{"$f":"'phase B17'!L19","v":0},401,{"$f":"'phase B17'!M19","v":101}]
[null,{"$f":"IF(E339<>0,'phase B17'!B20,\"\")","v":""},{"$f":"IF(E339<>0,'phase B17'!$G$1,\"\")","v":""},{"$f":"IF(E339<>0,'phase B17'!$B$1,\"\")","v":""},{"$f":"'phase B17'!L20","v":0},401,{"$f":"'phase B17'!M20","v":101}]
[null,{"$f":"IF(E340<>0,'phase B17'!B21,\"\")","v":""},{"$f":"IF(E340<>0,'phase B17'!$G$1,\"\")","v":""},{"$f":"IF(E340<>0,'phase B17'!$B$1,\"\")","v":""},{"$f":"'phase B17'!L21","v":0},401,{"$f":"'phase B17'!M21","v":101}]
[null,{"$f":"IF(E341<>0,'phase B17'!B22,\"\")","v":""},{"$f":"IF(E341<>0,'phase B17'!$G$1,\"\")","v":""},{"$f":"IF(E341<>0,'phase B17'!$B$1,\"\")","v":""},{"$f":"'phase B17'!L22","v":0},401,{"$f":"'phase B17'!M22","v":101}]
[null,{"$f":"IF(E342<>0,'phase B17'!B23,\"\")","v":""},{"$f":"IF(E342<>0,'phase B17'!$G$1,\"\")","v":""},{"$f":"IF(E342<>0,'phase B17'!$B$1,\"\")","v":""},{"$f":"'phase B17'!L23","v":0},401,{"$f":"'phase B17'!M23","v":101}]
[null,{"$f":"IF(E343<>0,'phase B17'!B24,\"\")","v":""},{"$f":"IF(E343<>0,'phase B17'!$G$1,\"\")","v":""},{"$f":"IF(E343<>0,'phase B17'!$B$1,\"\")","v":""},{"$f":"'phase B17'!L24","v":0},401,{"$f":"'phase B17'!M24","v":101}]
[null,{"$f":"IF(E344<>0,'phase B18'!B5,\"\")","v":""},{"$f":"IF(E344<>0,'phase B18'!$G$1,\"\")","v":""},{"$f":"IF(E344<>0,'phase B18'!$B$1,\"\")","v":""},{"$f":"'phase B18'!L5","v":0},401,{"$f":"'phase B18'!M5","v":101}]
[null,{"$f":"IF(E345<>0,'phase B18'!B6,\"\")","v":""},{"$f":"IF(E345<>0,'phase B18'!$G$1,\"\")","v":""},{"$f":"IF(E345<>0,'phase B18'!$B$1,\"\")","v":""},{"$f":"'phase B18'!L6","v":0},401,{"$f":"'phase B18'!M6","v":101}]
[null,{"$f":"IF(E346<>0,'phase B18'!B7,\"\")","v":""},{"$f":"IF(E346<>0,'phase B18'!$G$1,\"\")","v":""},{"$f":"IF(E346<>0,'phase B18'!$B$1,\"\")","v":""},{"$f":"'phase B18'!L7","v":0},401,{"$f":"'phase B18'!M7","v":101}]
[null,{"$f":"IF(E347<>0,'phase B18'!B8,\"\")","v":""},{"$f":"IF(E347<>0,'phase B18'!$G$1,\"\")","v":""},{"$f":"IF(E347<>0,'phase B18'!$B$1,\"\")","v":""},{"$f":"'phase B18'!L8","v":0},401,{"$f":"'phase B18'!M8","v":101}]
[null,{"$f":"IF(E348<>0,'phase B18'!B9,\"\")","v":""},{"$f":"IF(E348<>0,'phase B18'!$G$1,\"\")","v":""},{"$f":"IF(E348<>0,'phase B18'!$B$1,\"\")","v":""},{"$f":"'phase B18'!L9","v":0},401,{"$f":"'phase B18'!M9","v":101}]
[null,{"$f":"IF(E349<>0,'phase B18'!B10,\"\")","v":""},{"$f":"IF(E349<>0,'phase B18'!$G$1,\"\")","v":""},{"$f":"IF(E349<>0,'phase B18'!$B$1,\"\")","v":""},{"$f":"'phase B18'!L10","v":0},401,{"$f":"'phase B18'!M10","v":101}]
[null,{"$f":"IF(E350<>0,'phase B18'!B11,\"\")","v":""},{"$f":"IF(E350<>0,'phase B18'!$G$1,\"\")","v":""},{"$f":"IF(E350<>0,'phase B18'!$B$1,\"\")","v":""},{"$f":"'phase B18'!L11","v":0},401,{"$f":"'phase B18'!M11","v":101}]
[null,{"$f":"IF(E351<>0,'phase B18'!B12,\"\")","v":""},{"$f":"IF(E351<>0,'phase B18'!$G$1,\"\")","v":""},{"$f":"IF(E351<>0,'phase B18'!$B$1,\"\")","v":""},{"$f":"'phase B18'!L12","v":0},401,{"$f":"'phase B18'!M12","v":101}]
[null,{"$f":"IF(E352<>0,'phase B18'!B13,\"\")","v":""},{"$f":"IF(E352<>0,'phase B18'!$G$1,\"\")","v":""},{"$f":"IF(E352<>0,'phase B18'!$B$1,\"\")","v":""},{"$f":"'phase B18'!L13","v":0},401,{"$f":"'phase B18'!M13","v":101}]
[null,{"$f":"IF(E353<>0,'phase B18'!B14,\"\")","v":""},{"$f":"IF(E353<>0,'phase B18'!$G$1,\"\")","v":""},{"$f":"IF(E353<>0,'phase B18'!$B$1,\"\")","v":""},{"$f":"'phase B18'!L14","v":0},401,{"$f":"'phase B18'!M14","v":101}]
[null,{"$f":"IF(E354<>0,'phase B18'!B15,\"\")","v":""},{"$f":"IF(E354<>0,'phase B18'!$G$1,\"\")","v":""},{"$f":"IF(E354<>0,'phase B18'!$B$1,\"\")","v":""},{"$f":"'phase B18'!L15","v":0},401,{"$f":"'phase B18'!M15","v":101}]
[null,{"$f":"IF(E355<>0,'phase B18'!B16,\"\")","v":""},{"$f":"IF(E355<>0,'phase B18'!$G$1,\"\")","v":""},{"$f":"IF(E355<>0,'phase B18'!$B$1,\"\")","v":""},{"$f":"'phase B18'!L16","v":0},401,{"$f":"'phase B18'!M16","v":101}]
[null,{"$f":"IF(E356<>0,'phase B18'!B17,\"\")","v":""},{"$f":"IF(E356<>0,'phase B18'!$G$1,\"\")","v":""},{"$f":"IF(E356<>0,'phase B18'!$B$1,\"\")","v":""},{"$f":"'phase B18'!L17","v":0},401,{"$f":"'phase B18'!M17","v":101}]
[null,{"$f":"IF(E357<>0,'phase B18'!B18,\"\")","v":""},{"$f":"IF(E357<>0,'phase B18'!$G$1,\"\")","v":""},{"$f":"IF(E357<>0,'phase B18'!$B$1,\"\")","v":""},{"$f":"'phase B18'!L18","v":0},401,{"$f":"'phase B18'!M18","v":101}]
[null,{"$f":"IF(E358<>0,'phase B18'!B19,\"\")","v":""},{"$f":"IF(E358<>0,'phase B18'!$G$1,\"\")","v":""},{"$f":"IF(E358<>0,'phase B18'!$B$1,\"\")","v":""},{"$f":"'phase B18'!L19","v":0},401,{"$f":"'phase B18'!M19","v":101}]
[null,{"$f":"IF(E359<>0,'phase B18'!B20,\"\")","v":""},{"$f":"IF(E359<>0,'phase B18'!$G$1,\"\")","v":""},{"$f":"IF(E359<>0,'phase B18'!$B$1,\"\")","v":""},{"$f":"'phase B18'!L20","v":0},401,{"$f":"'phase B18'!M20","v":101}]
[null,{"$f":"IF(E360<>0,'phase B18'!B21,\"\")","v":""},{"$f":"IF(E360<>0,'phase B18'!$G$1,\"\")","v":""},{"$f":"IF(E360<>0,'phase B18'!$B$1,\"\")","v":""},{"$f":"'phase B18'!L21","v":0},401,{"$f":"'phase B18'!M21","v":101}]
[null,{"$f":"IF(E361<>0,'phase B18'!B22,\"\")","v":""},{"$f":"IF(E361<>0,'phase B18'!$G$1,\"\")","v":""},{"$f":"IF(E361<>0,'phase B18'!$B$1,\"\")","v":""},{"$f":"'phase B18'!L22","v":0},401,{"$f":"'phase B18'!M22","v":101}]
[null,{"$f":"IF(E362<>0,'phase B18'!B23,\"\")","v":""},{"$f":"IF(E362<>0,'phase B18'!$G$1,\"\")","v":""},{"$f":"IF(E362<>0,'phase B18'!$B$1,\"\")","v":""},{"$f":"'phase B18'!L23","v":0},401,{"$f":"'phase B18'!M23","v":101}]
[null,{"$f":"IF(E363<>0,'phase B18'!B24,\"\")","v":""},{"$f":"IF(E363<>0,'phase B18'!$G$1,\"\")","v":""},{"$f":"IF(E363<>0,'phase B18'!$B$1,\"\")","v":""},{"$f":"'phase B18'!L24","v":0},401,{"$f":"'phase B18'!M24","v":101}]
[null,{"$f":"IF(E364<>0,'phase B19'!B5,\"\")","v":""},{"$f":"IF(E364<>0,'phase B19'!$G$1,\"\")","v":""},{"$f":"IF(E364<>0,'phase B19'!$B$1,\"\")","v":""},{"$f":"'phase B19'!L5","v":0},401,{"$f":"'phase B19'!M5","v":101}]
[null,{"$f":"IF(E365<>0,'phase B19'!B6,\"\")","v":""},{"$f":"IF(E365<>0,'phase B19'!$G$1,\"\")","v":""},{"$f":"IF(E365<>0,'phase B19'!$B$1,\"\")","v":""},{"$f":"'phase B19'!L6","v":0},401,{"$f":"'phase B19'!M6","v":101}]
[null,{"$f":"IF(E366<>0,'phase B19'!B7,\"\")","v":""},{"$f":"IF(E366<>0,'phase B19'!$G$1,\"\")","v":""},{"$f":"IF(E366<>0,'phase B19'!$B$1,\"\")","v":""},{"$f":"'phase B19'!L7","v":0},401,{"$f":"'phase B19'!M7","v":101}]
[null,{"$f":"IF(E367<>0,'phase B19'!B8,\"\")","v":""},{"$f":"IF(E367<>0,'phase B19'!$G$1,\"\")","v":""},{"$f":"IF(E367<>0,'phase B19'!$B$1,\"\")","v":""},{"$f":"'phase B19'!L8","v":0},401,{"$f":"'phase B19'!M8","v":101}]
[null,{"$f":"IF(E368<>0,'phase B19'!B9,\"\")","v":""},{"$f":"IF(E368<>0,'phase B19'!$G$1,\"\")","v":""},{"$f":"IF(E368<>0,'phase B19'!$B$1,\"\")","v":""},{"$f":"'phase B19'!L9","v":0},401,{"$f":"'phase B19'!M9","v":101}]
[null,{"$f":"IF(E369<>0,'phase B19'!B10,\"\")","v":""},{"$f":"IF(E369<>0,'phase B19'!$G$1,\"\")","v":""},{"$f":"IF(E369<>0,'phase B19'!$B$1,\"\")","v":""},{"$f":"'phase B19'!L10","v":0},401,{"$f":"'phase B19'!M10","v":101}]
[null,{"$f":"IF(E370<>0,'phase B19'!B11,\"\")","v":""},{"$f":"IF(E370<>0,'phase B19'!$G$1,\"\")","v":""},{"$f":"IF(E370<>0,'phase B19'!$B$1,\"\")","v":""},{"$f":"'phase B19'!L11","v":0},401,{"$f":"'phase B19'!M11","v":101}]
[null,{"$f":"IF(E371<>0,'phase B19'!B12,\"\")","v":""},{"$f":"IF(E371<>0,'phase B19'!$G$1,\"\")","v":""},{"$f":"IF(E371<>0,'phase B19'!$B$1,\"\")","v":""},{"$f":"'phase B19'!L12","v":0},401,{"$f":"'phase B19'!M12","v":101}]
[null,{"$f":"IF(E372<>0,'phase B19'!B13,\"\")","v":""},{"$f":"IF(E372<>0,'phase B19'!$G$1,\"\")","v":""},{"$f":"IF(E372<>0,'phase B19'!$B$1,\"\")","v":""},{"$f":"'phase B19'!L13","v":0},401,{"$f":"'phase B19'!M13","v":101}]
[null,{"$f":"IF(E373<>0,'phase B19'!B14,\"\")","v":""},{"$f":"IF(E373<>0,'phase B19'!$G$1,\"\")","v":""},{"$f":"IF(E373<>0,'phase B19'!$B$1,\"\")","v":""},{"$f":"'phase B19'!L14","v":0},401,{"$f":"'phase B19'!M14","v":101}]
[null,{"$f":"IF(E374<>0,'phase B19'!B15,\"\")","v":""},{"$f":"IF(E374<>0,'phase B19'!$G$1,\"\")","v":""},{"$f":"IF(E374<>0,'phase B19'!$B$1,\"\")","v":""},{"$f":"'phase B19'!L15","v":0},401,{"$f":"'phase B19'!M15","v":101}]
[null,{"$f":"IF(E375<>0,'phase B19'!B16,\"\")","v":""},{"$f":"IF(E375<>0,'phase B19'!$G$1,\"\")","v":""},{"$f":"IF(E375<>0,'phase B19'!$B$1,\"\")","v":""},{"$f":"'phase B19'!L16","v":0},401,{"$f":"'phase B19'!M16","v":101}]
[null,{"$f":"IF(E376<>0,'phase B19'!B17,\"\")","v":""},{"$f":"IF(E376<>0,'phase B19'!$G$1,\"\")","v":""},{"$f":"IF(E376<>0,'phase B19'!$B$1,\"\")","v":""},{"$f":"'phase B19'!L17","v":0},401,{"$f":"'phase B19'!M17","v":101}]
[null,{"$f":"IF(E377<>0,'phase B19'!B18,\"\")","v":""},{"$f":"IF(E377<>0,'phase B19'!$G$1,\"\")","v":""},{"$f":"IF(E377<>0,'phase B19'!$B$1,\"\")","v":""},{"$f":"'phase B19'!L18","v":0},401,{"$f":"'phase B19'!M18","v":101}]
[null,{"$f":"IF(E378<>0,'phase B19'!B19,\"\")","v":""},{"$f":"IF(E378<>0,'phase B19'!$G$1,\"\")","v":""},{"$f":"IF(E378<>0,'phase B19'!$B$1,\"\")","v":""},{"$f":"'phase B19'!L19","v":0},401,{"$f":"'phase B19'!M19","v":101}]
[null,{"$f":"IF(E379<>0,'phase B19'!B20,\"\")","v":""},{"$f":"IF(E379<>0,'phase B19'!$G$1,\"\")","v":""},{"$f":"IF(E379<>0,'phase B19'!$B$1,\"\")","v":""},{"$f":"'phase B19'!L20","v":0},401,{"$f":"'phase B19'!M20","v":101}]
[null,{"$f":"IF(E380<>0,'phase B19'!B21,\"\")","v":""},{"$f":"IF(E380<>0,'phase B19'!$G$1,\"\")","v":""},{"$f":"IF(E380<>0,'phase B19'!$B$1,\"\")","v":""},{"$f":"'phase B19'!L21","v":0},401,{"$f":"'phase B19'!M21","v":101}]
[null,{"$f":"IF(E381<>0,'phase B19'!B22,\"\")","v":""},{"$f":"IF(E381<>0,'phase B19'!$G$1,\"\")","v":""},{"$f":"IF(E381<>0,'phase B19'!$B$1,\"\")","v":""},{"$f":"'phase B19'!L22","v":0},401,{"$f":"'phase B19'!M22","v":101}]
[null,{"$f":"IF(E382<>0,'phase B19'!B23,\"\")","v":""},{"$f":"IF(E382<>0,'phase B19'!$G$1,\"\")","v":""},{"$f":"IF(E382<>0,'phase B19'!$B$1,\"\")","v":""},{"$f":"'phase B19'!L23","v":0},401,{"$f":"'phase B19'!M23","v":101}]
[null,{"$f":"IF(E383<>0,'phase B19'!B24,\"\")","v":""},{"$f":"IF(E383<>0,'phase B19'!$G$1,\"\")","v":""},{"$f":"IF(E383<>0,'phase B19'!$B$1,\"\")","v":""},{"$f":"'phase B19'!L24","v":0},401,{"$f":"'phase B19'!M24","v":101}]
[null,{"$f":"IF(E384<>0,'phase B20'!B5,\"\")","v":""},{"$f":"IF(E384<>0,'phase B20'!$G$1,\"\")","v":""},{"$f":"IF(E384<>0,'phase B20'!$B$1,\"\")","v":""},{"$f":"'phase B20'!L5","v":0},401,{"$f":"'phase B20'!M5","v":101}]
[null,{"$f":"IF(E385<>0,'phase B20'!B6,\"\")","v":""},{"$f":"IF(E385<>0,'phase B20'!$G$1,\"\")","v":""},{"$f":"IF(E385<>0,'phase B20'!$B$1,\"\")","v":""},{"$f":"'phase B20'!L6","v":0},401,{"$f":"'phase B20'!M6","v":101}]
[null,{"$f":"IF(E386<>0,'phase B20'!B7,\"\")","v":""},{"$f":"IF(E386<>0,'phase B20'!$G$1,\"\")","v":""},{"$f":"IF(E386<>0,'phase B20'!$B$1,\"\")","v":""},{"$f":"'phase B20'!L7","v":0},401,{"$f":"'phase B20'!M7","v":101}]
[null,{"$f":"IF(E387<>0,'phase B20'!B8,\"\")","v":""},{"$f":"IF(E387<>0,'phase B20'!$G$1,\"\")","v":""},{"$f":"IF(E387<>0,'phase B20'!$B$1,\"\")","v":""},{"$f":"'phase B20'!L8","v":0},{"$f":"IF(E387=0,401,RANK(E387,$E$3:$E$402))","v":401},{"$f":"'phase B20'!M8","v":101}]
[null,{"$f":"IF(E388<>0,'phase B20'!B9,\"\")","v":""},{"$f":"IF(E388<>0,'phase B20'!$G$1,\"\")","v":""},{"$f":"IF(E388<>0,'phase B20'!$B$1,\"\")","v":""},{"$f":"'phase B20'!L9","v":0},401,{"$f":"'phase B20'!M9","v":101}]
[null,{"$f":"IF(E389<>0,'phase B20'!B10,\"\")","v":""},{"$f":"IF(E389<>0,'phase B20'!$G$1,\"\")","v":""},{"$f":"IF(E389<>0,'phase B20'!$B$1,\"\")","v":""},{"$f":"'phase B20'!L10","v":0},401,{"$f":"'phase B20'!M10","v":101}]
[null,{"$f":"IF(E390<>0,'phase B20'!B11,\"\")","v":""},{"$f":"IF(E390<>0,'phase B20'!$G$1,\"\")","v":""},{"$f":"IF(E390<>0,'phase B20'!$B$1,\"\")","v":""},{"$f":"'phase B20'!L11","v":0},401,{"$f":"'phase B20'!M11","v":101}]
[null,{"$f":"IF(E391<>0,'phase B20'!B12,\"\")","v":""},{"$f":"IF(E391<>0,'phase B20'!$G$1,\"\")","v":""},{"$f":"IF(E391<>0,'phase B20'!$B$1,\"\")","v":""},{"$f":"'phase B20'!L12","v":0},401,{"$f":"'phase B20'!M12","v":101}]
[null,{"$f":"IF(E392<>0,'phase B20'!B13,\"\")","v":""},{"$f":"IF(E392<>0,'phase B20'!$G$1,\"\")","v":""},{"$f":"IF(E392<>0,'phase B20'!$B$1,\"\")","v":""},{"$f":"'phase B20'!L13","v":0},401,{"$f":"'phase B20'!M13","v":101}]
[null,{"$f":"IF(E393<>0,'phase B20'!B14,\"\")","v":""},{"$f":"IF(E393<>0,'phase B20'!$G$1,\"\")","v":""},{"$f":"IF(E393<>0,'phase B20'!$B$1,\"\")","v":""},{"$f":"'phase B20'!L14","v":0},401,{"$f":"'phase B20'!M14","v":101}]
[null,{"$f":"IF(E394<>0,'phase B20'!B15,\"\")","v":""},{"$f":"IF(E394<>0,'phase B20'!$G$1,\"\")","v":""},{"$f":"IF(E394<>0,'phase B20'!$B$1,\"\")","v":""},{"$f":"'phase B20'!L15","v":0},401,{"$f":"'phase B20'!M15","v":101}]
[null,{"$f":"IF(E395<>0,'phase B20'!B16,\"\")","v":""},{"$f":"IF(E395<>0,'phase B20'!$G$1,\"\")","v":""},{"$f":"IF(E395<>0,'phase B20'!$B$1,\"\")","v":""},{"$f":"'phase B20'!L16","v":0},401,{"$f":"'phase B20'!M16","v":101}]
[null,{"$f":"IF(E396<>0,'phase B20'!B17,\"\")","v":""},{"$f":"IF(E396<>0,'phase B20'!$G$1,\"\")","v":""},{"$f":"IF(E396<>0,'phase B20'!$B$1,\"\")","v":""},{"$f":"'phase B20'!L17","v":0},401,{"$f":"'phase B20'!M17","v":101}]
[null,{"$f":"IF(E397<>0,'phase B20'!B18,\"\")","v":""},{"$f":"IF(E397<>0,'phase B20'!$G$1,\"\")","v":""},{"$f":"IF(E397<>0,'phase B20'!$B$1,\"\")","v":""},{"$f":"'phase B20'!L18","v":0},401,{"$f":"'phase B20'!M18","v":101}]
[null,{"$f":"IF(E398<>0,'phase B20'!B19,\"\")","v":""},{"$f":"IF(E398<>0,'phase B20'!$G$1,\"\")","v":""},{"$f":"IF(E398<>0,'phase B20'!$B$1,\"\")","v":""},{"$f":"'phase B20'!L19","v":0},401,{"$f":"'phase B20'!M19","v":101}]
[null,{"$f":"IF(E399<>0,'phase B20'!B20,\"\")","v":""},{"$f":"IF(E399<>0,'phase B20'!$G$1,\"\")","v":""},{"$f":"IF(E399<>0,'phase B20'!$B$1,\"\")","v":""},{"$f":"'phase B20'!L20","v":0},401,{"$f":"'phase B20'!M20","v":101}]
[null,{"$f":"IF(E400<>0,'phase B20'!B21,\"\")","v":""},{"$f":"IF(E400<>0,'phase B20'!$G$1,\"\")","v":""},{"$f":"IF(E400<>0,'phase B20'!$B$1,\"\")","v":""},{"$f":"'phase B20'!L21","v":0},401,{"$f":"'phase B20'!M21","v":101}]
[null,{"$f":"IF(E401<>0,'phase B20'!B22,\"\")","v":""},{"$f":"IF(E401<>0,'phase B20'!$G$1,\"\")","v":""},{"$f":"IF(E401<>0,'phase B20'!$B$1,\"\")","v":""},{"$f":"'phase B20'!L22","v":0},401,{"$f":"'phase B20'!M22","v":101}]
[null,{"$f":"IF(E402<>0,'phase B20'!B23,\"\")","v":""},{"$f":"IF(E402<>0,'phase B20'!$G$1,\"\")","v":""},{"$f":"IF(E402<>0,'phase B20'!$B$1,\"\")","v":""},{"$f":"'phase B20'!L23","v":0},401,{"$f":"'phase B20'!M23","v":101}]

{"sheet":"Total phase C","index":3,"n_rows":202,"n_cols":8,"rows_kept":202,"cut":false,"hidden":false,"merged":[]}
[null,"Ranking order of all in phase C assessed interventions"]
[null,"interventions","group at risk","infectious disease","  tab","total score","ranking ","faseCx rang"]
[null,{"$f":"IF(F3<>0,'phase C1'!B5,\"\")","v":""},{"$f":"IF(F3<>0,'phase C1'!$J$1,\"\")","v":""},{"$f":"IF(F3<>0,'phase C1'!$C$1,\"\")","v":""},{"$f":"IF(F3<>0,'phase C1'!$A$1,\"\")","v":""},{"$f":"'phase C1'!G5","v":0},{"$f":"IF(F3=0,201,RANK(F3,$F$3:$F$202))","v":201},{"$f":"'phase C1'!H5","v":101}]
[null,{"$f":"IF(F4<>0,'phase C1'!B6,\"\")","v":""},{"$f":"IF(F4<>0,'phase C1'!$J$1,\"\")","v":""},{"$f":"IF(F4<>0,'phase C1'!$C$1,\"\")","v":""},{"$f":"IF(F4<>0,'phase C1'!$A$1,\"\")","v":""},{"$f":"'phase C1'!G6","v":0},201,{"$f":"'phase C1'!H6","v":101}]
[null,{"$f":"IF(F5<>0,'phase C20'!B14,\"\")","v":""},{"$f":"IF(F5<>0,'phase C20'!$J$1,\"\")","v":""},{"$f":"IF(F5<>0,'phase C20'!$C$1,\"\")","v":""},{"$f":"IF(F5<>0,'phase C20'!$A$1,\"\")","v":""},{"$f":"'phase C20'!G14","v":0},201,{"$f":"'phase C20'!H14","v":101}]
[null,{"$f":"IF(F6<>0,'phase C2'!B5,\"\")","v":""},{"$f":"IF(F6<>0,'phase C2'!$J$1,\"\")","v":""},{"$f":"IF(F6<>0,'phase C2'!$C$1,\"\")","v":""},{"$f":"IF(F6<>0,'phase C2'!$A$1,\"\")","v":""},{"$f":"'phase C2'!G5","v":0},201,{"$f":"'phase C2'!H5","v":101}]
[null,{"$f":"IF(F7<>0,'phase C1'!B7,\"\")","v":""},{"$f":"IF(F7<>0,'phase C1'!$J$1,\"\")","v":""},{"$f":"IF(F7<>0,'phase C1'!$C$1,\"\")","v":""},{"$f":"IF(F7<>0,'phase C1'!$A$1,\"\")","v":""},{"$f":"'phase C1'!G7","v":0},201,{"$f":"'phase C1'!H7","v":101}]
[null,{"$f":"IF(F8<>0,'phase C1'!B8,\"\")","v":""},{"$f":"IF(F8<>0,'phase C1'!$J$1,\"\")","v":""},{"$f":"IF(F8<>0,'phase C1'!$C$1,\"\")","v":""},{"$f":"IF(F8<>0,'phase C1'!$A$1,\"\")","v":""},{"$f":"'phase C1'!G8","v":0},201,{"$f":"'phase C1'!H8","v":101}]
[null,{"$f":"IF(F9<>0,'phase C1'!B9,\"\")","v":""},{"$f":"IF(F9<>0,'phase C1'!$J$1,\"\")","v":""},{"$f":"IF(F9<>0,'phase C1'!$C$1,\"\")","v":""},{"$f":"IF(F9<>0,'phase C1'!$A$1,\"\")","v":""},{"$f":"'phase C1'!G9","v":0},201,{"$f":"'phase C1'!H9","v":101}]
[null,{"$f":"IF(F10<>0,'phase C1'!B10,\"\")","v":""},{"$f":"IF(F10<>0,'phase C1'!$J$1,\"\")","v":""},{"$f":"IF(F10<>0,'phase C1'!$C$1,\"\")","v":""},{"$f":"IF(F10<>0,'phase C1'!$A$1,\"\")","v":""},{"$f":"'phase C1'!G10","v":0},201,{"$f":"'phase C1'!H10","v":101}]
[null,{"$f":"IF(F11<>0,'phase C1'!B11,\"\")","v":""},{"$f":"IF(F11<>0,'phase C1'!$J$1,\"\")","v":""},{"$f":"IF(F11<>0,'phase C1'!$C$1,\"\")","v":""},{"$f":"IF(F11<>0,'phase C1'!$A$1,\"\")","v":""},{"$f":"'phase C1'!G11","v":0},201,{"$f":"'phase C1'!H11","v":101}]
[null,{"$f":"IF(F12<>0,'phase C1'!B12,\"\")","v":""},{"$f":"IF(F12<>0,'phase C1'!$J$1,\"\")","v":""},{"$f":"IF(F12<>0,'phase C1'!$C$1,\"\")","v":""},{"$f":"IF(F12<>0,'phase C1'!$A$1,\"\")","v":""},{"$f":"'phase C1'!G12","v":0},201,{"$f":"'phase C1'!H12","v":101}]
[null,{"$f":"IF(F13<>0,'phase C1'!B13,\"\")","v":""},{"$f":"IF(F13<>0,'phase C1'!$J$1,\"\")","v":""},{"$f":"IF(F13<>0,'phase C1'!$C$1,\"\")","v":""},{"$f":"IF(F13<>0,'phase C1'!$A$1,\"\")","v":""},{"$f":"'phase C1'!G13","v":0},201,{"$f":"'phase C1'!H13","v":101}]
[null,{"$f":"IF(F14<>0,'phase C1'!B14,\"\")","v":""},{"$f":"IF(F14<>0,'phase C1'!$J$1,\"\")","v":""},{"$f":"IF(F14<>0,'phase C1'!$C$1,\"\")","v":""},{"$f":"IF(F14<>0,'phase C1'!$A$1,\"\")","v":""},{"$f":"'phase C1'!G14","v":0},201,{"$f":"'phase C1'!H14","v":101}]
[null,{"$f":"IF(F15<>0,'phase C2'!B6,\"\")","v":""},{"$f":"IF(F15<>0,'phase C2'!$J$1,\"\")","v":""},{"$f":"IF(F15<>0,'phase C2'!$C$1,\"\")","v":""},{"$f":"IF(F15<>0,'phase C2'!$A$1,\"\")","v":""},{"$f":"'phase C2'!G6","v":0},201,{"$f":"'phase C2'!H6","v":101}]
[null,{"$f":"IF(F16<>0,'phase C2'!B7,\"\")","v":""},{"$f":"IF(F16<>0,'phase C2'!$J$1,\"\")","v":""},{"$f":"IF(F16<>0,'phase C2'!$C$1,\"\")","v":""},{"$f":"IF(F16<>0,'phase C2'!$A$1,\"\")","v":""},{"$f":"'phase C2'!G7","v":0},201,{"$f":"'phase C2'!H7","v":101}]
[null,{"$f":"IF(F17<>0,'phase C2'!B8,\"\")","v":""},{"$f":"IF(F17<>0,'phase C2'!$J$1,\"\")","v":""},{"$f":"IF(F17<>0,'phase C2'!$C$1,\"\")","v":""},{"$f":"IF(F17<>0,'phase C2'!$A$1,\"\")","v":""},{"$f":"'phase C2'!G8","v":0},201,{"$f":"'phase C2'!H8","v":101}]
[null,{"$f":"IF(F18<>0,'phase C2'!B9,\"\")","v":""},{"$f":"IF(F18<>0,'phase C2'!$J$1,\"\")","v":""},{"$f":"IF(F18<>0,'phase C2'!$C$1,\"\")","v":""},{"$f":"IF(F18<>0,'phase C2'!$A$1,\"\")","v":""},{"$f":"'phase C2'!G9","v":0},201,{"$f":"'phase C2'!H9","v":101}]
[null,{"$f":"IF(F19<>0,'phase C2'!B10,\"\")","v":""},{"$f":"IF(F19<>0,'phase C2'!$J$1,\"\")","v":""},{"$f":"IF(F19<>0,'phase C2'!$C$1,\"\")","v":""},{"$f":"IF(F19<>0,'phase C2'!$A$1,\"\")","v":""},{"$f":"'phase C2'!G10","v":0},201,{"$f":"'phase C2'!H10","v":101}]
[null,{"$f":"IF(F20<>0,'phase C2'!B11,\"\")","v":""},{"$f":"IF(F20<>0,'phase C2'!$J$1,\"\")","v":""},{"$f":"IF(F20<>0,'phase C2'!$C$1,\"\")","v":""},{"$f":"IF(F20<>0,'phase C2'!$A$1,\"\")","v":""},{"$f":"'phase C2'!G11","v":0},201,{"$f":"'phase C2'!H11","v":101}]
[null,{"$f":"IF(F21<>0,'phase C2'!B12,\"\")","v":""},{"$f":"IF(F21<>0,'phase C2'!$J$1,\"\")","v":""},{"$f":"IF(F21<>0,'phase C2'!$C$1,\"\")","v":""},{"$f":"IF(F21<>0,'phase C2'!$A$1,\"\")","v":""},{"$f":"'phase C2'!G12","v":0},201,{"$f":"'phase C2'!H12","v":101}]
[null,{"$f":"IF(F22<>0,'phase C2'!B13,\"\")","v":""},{"$f":"IF(F22<>0,'phase C2'!$J$1,\"\")","v":""},{"$f":"IF(F22<>0,'phase C2'!$C$1,\"\")","v":""},{"$f":"IF(F22<>0,'phase C2'!$A$1,\"\")","v":""},{"$f":"'phase C2'!G13","v":0},201,{"$f":"'phase C2'!H13","v":101}]
[null,{"$f":"IF(F23<>0,'phase C2'!B14,\"\")","v":""},{"$f":"IF(F23<>0,'phase C2'!$J$1,\"\")","v":""},{"$f":"IF(F23<>0,'phase C2'!$C$1,\"\")","v":""},{"$f":"IF(F23<>0,'phase C2'!$A$1,\"\")","v":""},{"$f":"'phase C2'!G14","v":0},201,{"$f":"'phase C2'!H14","v":101}]
[null,{"$f":"IF(F24<>0,'phase C3'!B5,\"\")","v":""},{"$f":"IF(F24<>0,'phase C3'!$J$1,\"\")","v":""},{"$f":"IF(F24<>0,'phase C3'!$C$1,\"\")","v":""},{"$f":"IF(F24<>0,'phase C3'!$A$1,\"\")","v":""},{"$f":"'phase C3'!G5","v":0},201,{"$f":"'phase C3'!H5","v":101}]
[null,{"$f":"IF(F25<>0,'phase C3'!B6,\"\")","v":""},{"$f":"IF(F25<>0,'phase C3'!$J$1,\"\")","v":""},{"$f":"IF(F25<>0,'phase C3'!$C$1,\"\")","v":""},{"$f":"IF(F25<>0,'phase C3'!$A$1,\"\")","v":""},{"$f":"'phase C3'!G6","v":0},201,{"$f":"'phase C3'!H6","v":101}]
[null,{"$f":"IF(F26<>0,'phase C3'!B7,\"\")","v":""},{"$f":"IF(F26<>0,'phase C3'!$J$1,\"\")","v":""},{"$f":"IF(F26<>0,'phase C3'!$C$1,\"\")","v":""},{"$f":"IF(F26<>0,'phase C3'!$A$1,\"\")","v":""},{"$f":"'phase C3'!G7","v":0},201,{"$f":"'phase C3'!H7","v":101}]
[null,{"$f":"IF(F27<>0,'phase C3'!B8,\"\")","v":""},{"$f":"IF(F27<>0,'phase C3'!$J$1,\"\")","v":""},{"$f":"IF(F27<>0,'phase C3'!$C$1,\"\")","v":""},{"$f":"IF(F27<>0,'phase C3'!$A$1,\"\")","v":""},{"$f":"'phase C3'!G8","v":0},201,{"$f":"'phase C3'!H8","v":101}]
[null,{"$f":"IF(F28<>0,'phase C3'!B9,\"\")","v":""},{"$f":"IF(F28<>0,'phase C3'!$J$1,\"\")","v":""},{"$f":"IF(F28<>0,'phase C3'!$C$1,\"\")","v":""},{"$f":"IF(F28<>0,'phase C3'!$A$1,\"\")","v":""},{"$f":"'phase C3'!G9","v":0},201,{"$f":"'phase C3'!H9","v":101}]
[null,{"$f":"IF(F29<>0,'phase C3'!B10,\"\")","v":""},{"$f":"IF(F29<>0,'phase C3'!$J$1,\"\")","v":""},{"$f":"IF(F29<>0,'phase C3'!$C$1,\"\")","v":""},{"$f":"IF(F29<>0,'phase C3'!$A$1,\"\")","v":""},{"$f":"'phase C3'!G10","v":0},201,{"$f":"'phase C3'!H10","v":101}]
[null,{"$f":"IF(F30<>0,'phase C3'!B11,\"\")","v":""},{"$f":"IF(F30<>0,'phase C3'!$J$1,\"\")","v":""},{"$f":"IF(F30<>0,'phase C3'!$C$1,\"\")","v":""},{"$f":"IF(F30<>0,'phase C3'!$A$1,\"\")","v":""},{"$f":"'phase C3'!G11","v":0},201,{"$f":"'phase C3'!H11","v":101}]
[null,{"$f":"IF(F31<>0,'phase C3'!B12,\"\")","v":""},{"$f":"IF(F31<>0,'phase C3'!$J$1,\"\")","v":""},{"$f":"IF(F31<>0,'phase C3'!$C$1,\"\")","v":""},{"$f":"IF(F31<>0,'phase C3'!$A$1,\"\")","v":""},{"$f":"'phase C3'!G12","v":0},201,{"$f":"'phase C3'!H12","v":101}]
[null,{"$f":"IF(F32<>0,'phase C3'!B13,\"\")","v":""},{"$f":"IF(F32<>0,'phase C3'!$J$1,\"\")","v":""},{"$f":"IF(F32<>0,'phase C3'!$C$1,\"\")","v":""},{"$f":"IF(F32<>0,'phase C3'!$A$1,\"\")","v":""},{"$f":"'phase C3'!G13","v":0},201,{"$f":"'phase C3'!H13","v":101}]
[null,{"$f":"IF(F33<>0,'phase C3'!B14,\"\")","v":""},{"$f":"IF(F33<>0,'phase C3'!$J$1,\"\")","v":""},{"$f":"IF(F33<>0,'phase C3'!$C$1,\"\")","v":""},{"$f":"IF(F33<>0,'phase C3'!$A$1,\"\")","v":""},{"$f":"'phase C3'!G14","v":0},201,{"$f":"'phase C3'!H14","v":101}]
[null,{"$f":"IF(F34<>0,'phase C4'!B5,\"\")","v":""},{"$f":"IF(F34<>0,'phase C4'!$J$1,\"\")","v":""},{"$f":"IF(F34<>0,'phase C4'!$C$1,\"\")","v":""},{"$f":"IF(F34<>0,'phase C4'!$A$1,\"\")","v":""},{"$f":"'phase C4'!G5","v":0},201,{"$f":"'phase C4'!H5","v":101}]
[null,{"$f":"IF(F35<>0,'phase C4'!B6,\"\")","v":""},{"$f":"IF(F35<>0,'phase C4'!$J$1,\"\")","v":""},{"$f":"IF(F35<>0,'phase C4'!$C$1,\"\")","v":""},{"$f":"IF(F35<>0,'phase C4'!$A$1,\"\")","v":""},{"$f":"'phase C4'!G6","v":0},{"$f":"IF(F35=0,201,RANK(F35,$F$3:$F$202))","v":201},{"$f":"'phase C4'!H6","v":101}]
[null,{"$f":"IF(F36<>0,'phase C4'!B7,\"\")","v":""},{"$f":"IF(F36<>0,'phase C4'!$J$1,\"\")","v":""},{"$f":"IF(F36<>0,'phase C4'!$C$1,\"\")","v":""},{"$f":"IF(F36<>0,'phase C4'!$A$1,\"\")","v":""},{"$f":"'phase C4'!G7","v":0},201,{"$f":"'phase C4'!H7","v":101}]
[null,{"$f":"IF(F37<>0,'phase C4'!B8,\"\")","v":""},{"$f":"IF(F37<>0,'phase C4'!$J$1,\"\")","v":""},{"$f":"IF(F37<>0,'phase C4'!$C$1,\"\")","v":""},{"$f":"IF(F37<>0,'phase C4'!$A$1,\"\")","v":""},{"$f":"'phase C4'!G8","v":0},201,{"$f":"'phase C4'!H8","v":101}]
[null,{"$f":"IF(F38<>0,'phase C4'!B9,\"\")","v":""},{"$f":"IF(F38<>0,'phase C4'!$J$1,\"\")","v":""},{"$f":"IF(F38<>0,'phase C4'!$C$1,\"\")","v":""},{"$f":"IF(F38<>0,'phase C4'!$A$1,\"\")","v":""},{"$f":"'phase C4'!G9","v":0},201,{"$f":"'phase C4'!H9","v":101}]
[null,{"$f":"IF(F39<>0,'phase C4'!B10,\"\")","v":""},{"$f":"IF(F39<>0,'phase C4'!$J$1,\"\")","v":""},{"$f":"IF(F39<>0,'phase C4'!$C$1,\"\")","v":""},{"$f":"IF(F39<>0,'phase C4'!$A$1,\"\")","v":""},{"$f":"'phase C4'!G10","v":0},201,{"$f":"'phase C4'!H10","v":101}]
[null,{"$f":"IF(F40<>0,'phase C4'!B11,\"\")","v":""},{"$f":"IF(F40<>0,'phase C4'!$J$1,\"\")","v":""},{"$f":"IF(F40<>0,'phase C4'!$C$1,\"\")","v":""},{"$f":"IF(F40<>0,'phase C4'!$A$1,\"\")","v":""},{"$f":"'phase C4'!G11","v":0},201,{"$f":"'phase C4'!H11","v":101}]
[null,{"$f":"IF(F41<>0,'phase C4'!B12,\"\")","v":""},{"$f":"IF(F41<>0,'phase C4'!$J$1,\"\")","v":""},{"$f":"IF(F41<>0,'phase C4'!$C$1,\"\")","v":""},{"$f":"IF(F41<>0,'phase C4'!$A$1,\"\")","v":""},{"$f":"'phase C4'!G12","v":0},201,{"$f":"'phase C4'!H12","v":101}]
[null,{"$f":"IF(F42<>0,'phase C4'!B13,\"\")","v":""},{"$f":"IF(F42<>0,'phase C4'!$J$1,\"\")","v":""},{"$f":"IF(F42<>0,'phase C4'!$C$1,\"\")","v":""},{"$f":"IF(F42<>0,'phase C4'!$A$1,\"\")","v":""},{"$f":"'phase C4'!G13","v":0},201,{"$f":"'phase C4'!H13","v":101}]
[null,{"$f":"IF(F43<>0,'phase C4'!B14,\"\")","v":""},{"$f":"IF(F43<>0,'phase C4'!$J$1,\"\")","v":""},{"$f":"IF(F43<>0,'phase C4'!$C$1,\"\")","v":""},{"$f":"IF(F43<>0,'phase C4'!$A$1,\"\")","v":""},{"$f":"'phase C4'!G14","v":0},201,{"$f":"'phase C4'!H14","v":101}]
[null,{"$f":"IF(F44<>0,'phase C5'!B5,\"\")","v":""},{"$f":"IF(F44<>0,'phase C5'!$J$1,\"\")","v":""},{"$f":"IF(F44<>0,'phase C5'!$C$1,\"\")","v":""},{"$f":"IF(F44<>0,'phase C5'!$A$1,\"\")","v":""},{"$f":"'phase C5'!G5","v":0},201,{"$f":"'phase C5'!H5","v":101}]
[null,{"$f":"IF(F45<>0,'phase C5'!B6,\"\")","v":""},{"$f":"IF(F45<>0,'phase C5'!$J$1,\"\")","v":""},{"$f":"IF(F45<>0,'phase C5'!$C$1,\"\")","v":""},{"$f":"IF(F45<>0,'phase C5'!$A$1,\"\")","v":""},{"$f":"'phase C5'!G6","v":0},201,{"$f":"'phase C5'!H6","v":101}]
[null,{"$f":"IF(F46<>0,'phase C5'!B7,\"\")","v":""},{"$f":"IF(F46<>0,'phase C5'!$J$1,\"\")","v":""},{"$f":"IF(F46<>0,'phase C5'!$C$1,\"\")","v":""},{"$f":"IF(F46<>0,'phase C5'!$A$1,\"\")","v":""},{"$f":"'phase C5'!G7","v":0},201,{"$f":"'phase C5'!H7","v":101}]
[null,{"$f":"IF(F47<>0,'phase C5'!B8,\"\")","v":""},{"$f":"IF(F47<>0,'phase C5'!$J$1,\"\")","v":""},{"$f":"IF(F47<>0,'phase C5'!$C$1,\"\")","v":""},{"$f":"IF(F47<>0,'phase C5'!$A$1,\"\")","v":""},{"$f":"'phase C5'!G8","v":0},201,{"$f":"'phase C5'!H8","v":101}]
[null,{"$f":"IF(F48<>0,'phase C5'!B9,\"\")","v":""},{"$f":"IF(F48<>0,'phase C5'!$J$1,\"\")","v":""},{"$f":"IF(F48<>0,'phase C5'!$C$1,\"\")","v":""},{"$f":"IF(F48<>0,'phase C5'!$A$1,\"\")","v":""},{"$f":"'phase C5'!G9","v":0},201,{"$f":"'phase C5'!H9","v":101}]
[null,{"$f":"IF(F49<>0,'phase C5'!B10,\"\")","v":""},{"$f":"IF(F49<>0,'phase C5'!$J$1,\"\")","v":""},{"$f":"IF(F49<>0,'phase C5'!$C$1,\"\")","v":""},{"$f":"IF(F49<>0,'phase C5'!$A$1,\"\")","v":""},{"$f":"'phase C5'!G10","v":0},201,{"$f":"'phase C5'!H10","v":101}]
[null,{"$f":"IF(F50<>0,'phase C5'!B11,\"\")","v":""},{"$f":"IF(F50<>0,'phase C5'!$J$1,\"\")","v":""},{"$f":"IF(F50<>0,'phase C5'!$C$1,\"\")","v":""},{"$f":"IF(F50<>0,'phase C5'!$A$1,\"\")","v":""},{"$f":"'phase C5'!G11","v":0},201,{"$f":"'phase C5'!H11","v":101}]
[null,{"$f":"IF(F51<>0,'phase C5'!B12,\"\")","v":""},{"$f":"IF(F51<>0,'phase C5'!$J$1,\"\")","v":""},{"$f":"IF(F51<>0,'phase C5'!$C$1,\"\")","v":""},{"$f":"IF(F51<>0,'phase C5'!$A$1,\"\")","v":""},{"$f":"'phase C5'!G12","v":0},201,{"$f":"'phase C5'!H12","v":101}]
[null,{"$f":"IF(F52<>0,'phase C5'!B13,\"\")","v":""},{"$f":"IF(F52<>0,'phase C5'!$J$1,\"\")","v":""},{"$f":"IF(F52<>0,'phase C5'!$C$1,\"\")","v":""},{"$f":"IF(F52<>0,'phase C5'!$A$1,\"\")","v":""},{"$f":"'phase C5'!G13","v":0},201,{"$f":"'phase C5'!H13","v":101}]
[null,{"$f":"IF(F53<>0,'phase C5'!B14,\"\")","v":""},{"$f":"IF(F53<>0,'phase C5'!$J$1,\"\")","v":""},{"$f":"IF(F53<>0,'phase C5'!$C$1,\"\")","v":""},{"$f":"IF(F53<>0,'phase C5'!$A$1,\"\")","v":""},{"$f":"'phase C5'!G14","v":0},201,{"$f":"'phase C5'!H14","v":101}]
[null,{"$f":"IF(F54<>0,'phase C6'!B5,\"\")","v":""},{"$f":"IF(F54<>0,'phase C6'!$J$1,\"\")","v":""},{"$f":"IF(F54<>0,'phase C6'!$C$1,\"\")","v":""},{"$f":"IF(F54<>0,'phase C6'!$A$1,\"\")","v":""},{"$f":"'phase C6'!G5","v":0},201,{"$f":"'phase C6'!H5","v":101}]
[null,{"$f":"IF(F55<>0,'phase C6'!B6,\"\")","v":""},{"$f":"IF(F55<>0,'phase C6'!$J$1,\"\")","v":""},{"$f":"IF(F55<>0,'phase C6'!$C$1,\"\")","v":""},{"$f":"IF(F55<>0,'phase C6'!$A$1,\"\")","v":""},{"$f":"'phase C6'!G6","v":0},201,{"$f":"'phase C6'!H6","v":101}]
[null,{"$f":"IF(F56<>0,'phase C6'!B7,\"\")","v":""},{"$f":"IF(F56<>0,'phase C6'!$J$1,\"\")","v":""},{"$f":"IF(F56<>0,'phase C6'!$C$1,\"\")","v":""},{"$f":"IF(F56<>0,'phase C6'!$A$1,\"\")","v":""},{"$f":"'phase C6'!G7","v":0},201,{"$f":"'phase C6'!H7","v":101}]
[null,{"$f":"IF(F57<>0,'phase C6'!B8,\"\")","v":""},{"$f":"IF(F57<>0,'phase C6'!$J$1,\"\")","v":""},{"$f":"IF(F57<>0,'phase C6'!$C$1,\"\")","v":""},{"$f":"IF(F57<>0,'phase C6'!$A$1,\"\")","v":""},{"$f":"'phase C6'!G8","v":0},201,{"$f":"'phase C6'!H8","v":101}]
[null,{"$f":"IF(F58<>0,'phase C6'!B9,\"\")","v":""},{"$f":"IF(F58<>0,'phase C6'!$J$1,\"\")","v":""},{"$f":"IF(F58<>0,'phase C6'!$C$1,\"\")","v":""},{"$f":"IF(F58<>0,'phase C6'!$A$1,\"\")","v":""},{"$f":"'phase C6'!G9","v":0},201,{"$f":"'phase C6'!H9","v":101}]
[null,{"$f":"IF(F59<>0,'phase C6'!B10,\"\")","v":""},{"$f":"IF(F59<>0,'phase C6'!$J$1,\"\")","v":""},{"$f":"IF(F59<>0,'phase C6'!$C$1,\"\")","v":""},{"$f":"IF(F59<>0,'phase C6'!$A$1,\"\")","v":""},{"$f":"'phase C6'!G10","v":0},201,{"$f":"'phase C6'!H10","v":101}]
[null,{"$f":"IF(F60<>0,'phase C6'!B11,\"\")","v":""},{"$f":"IF(F60<>0,'phase C6'!$J$1,\"\")","v":""},{"$f":"IF(F60<>0,'phase C6'!$C$1,\"\")","v":""},{"$f":"IF(F60<>0,'phase C6'!$A$1,\"\")","v":""},{"$f":"'phase C6'!G11","v":0},201,{"$f":"'phase C6'!H11","v":101}]
[null,{"$f":"IF(F61<>0,'phase C6'!B12,\"\")","v":""},{"$f":"IF(F61<>0,'phase C6'!$J$1,\"\")","v":""},{"$f":"IF(F61<>0,'phase C6'!$C$1,\"\")","v":""},{"$f":"IF(F61<>0,'phase C6'!$A$1,\"\")","v":""},{"$f":"'phase C6'!G12","v":0},201,{"$f":"'phase C6'!H12","v":101}]
[null,{"$f":"IF(F62<>0,'phase C6'!B13,\"\")","v":""},{"$f":"IF(F62<>0,'phase C6'!$J$1,\"\")","v":""},{"$f":"IF(F62<>0,'phase C6'!$C$1,\"\")","v":""},{"$f":"IF(F62<>0,'phase C6'!$A$1,\"\")","v":""},{"$f":"'phase C6'!G13","v":0},201,{"$f":"'phase C6'!H13","v":101}]
[null,{"$f":"IF(F63<>0,'phase C6'!B14,\"\")","v":""},{"$f":"IF(F63<>0,'phase C6'!$J$1,\"\")","v":""},{"$f":"IF(F63<>0,'phase C6'!$C$1,\"\")","v":""},{"$f":"IF(F63<>0,'phase C6'!$A$1,\"\")","v":""},{"$f":"'phase C6'!G14","v":0},201,{"$f":"'phase C6'!H14","v":101}]
[null,{"$f":"IF(F64<>0,'phase C7'!B5,\"\")","v":""},{"$f":"IF(F64<>0,'phase C7'!$J$1,\"\")","v":""},{"$f":"IF(F64<>0,'phase C7'!$C$1,\"\")","v":""},{"$f":"IF(F64<>0,'phase C7'!$A$1,\"\")","v":""},{"$f":"'phase C7'!G5","v":0},201,{"$f":"'phase C7'!H5","v":101}]
[null,{"$f":"IF(F65<>0,'phase C7'!B6,\"\")","v":""},{"$f":"IF(F65<>0,'phase C7'!$J$1,\"\")","v":""},{"$f":"IF(F65<>0,'phase C7'!$C$1,\"\")","v":""},{"$f":"IF(F65<>0,'phase C7'!$A$1,\"\")","v":""},{"$f":"'phase C7'!G6","v":0},201,{"$f":"'phase C7'!H6","v":101}]
[null,{"$f":"IF(F66<>0,'phase C7'!B7,\"\")","v":""},{"$f":"IF(F66<>0,'phase C7'!$J$1,\"\")","v":""},{"$f":"IF(F66<>0,'phase C7'!$C$1,\"\")","v":""},{"$f":"IF(F66<>0,'phase C7'!$A$1,\"\")","v":""},{"$f":"'phase C7'!G7","v":0},201,{"$f":"'phase C7'!H7","v":101}]
[null,{"$f":"IF(F67<>0,'phase C7'!B8,\"\")","v":""},{"$f":"IF(F67<>0,'phase C7'!$J$1,\"\")","v":""},{"$f":"IF(F67<>0,'phase C7'!$C$1,\"\")","v":""},{"$f":"IF(F67<>0,'phase C7'!$A$1,\"\")","v":""},{"$f":"'phase C7'!G8","v":0},{"$f":"IF(F67=0,201,RANK(F67,$F$3:$F$202))","v":201},{"$f":"'phase C7'!H8","v":101}]
[null,{"$f":"IF(F68<>0,'phase C7'!B9,\"\")","v":""},{"$f":"IF(F68<>0,'phase C7'!$J$1,\"\")","v":""},{"$f":"IF(F68<>0,'phase C7'!$C$1,\"\")","v":""},{"$f":"IF(F68<>0,'phase C7'!$A$1,\"\")","v":""},{"$f":"'phase C7'!G9","v":0},201,{"$f":"'phase C7'!H9","v":101}]
[null,{"$f":"IF(F69<>0,'phase C7'!B10,\"\")","v":""},{"$f":"IF(F69<>0,'phase C7'!$J$1,\"\")","v":""},{"$f":"IF(F69<>0,'phase C7'!$C$1,\"\")","v":""},{"$f":"IF(F69<>0,'phase C7'!$A$1,\"\")","v":""},{"$f":"'phase C7'!G10","v":0},201,{"$f":"'phase C7'!H10","v":101}]
[null,{"$f":"IF(F70<>0,'phase C7'!B11,\"\")","v":""},{"$f":"IF(F70<>0,'phase C7'!$J$1,\"\")","v":""},{"$f":"IF(F70<>0,'phase C7'!$C$1,\"\")","v":""},{"$f":"IF(F70<>0,'phase C7'!$A$1,\"\")","v":""},{"$f":"'phase C7'!G11","v":0},201,{"$f":"'phase C7'!H11","v":101}]
[null,{"$f":"IF(F71<>0,'phase C7'!B12,\"\")","v":""},{"$f":"IF(F71<>0,'phase C7'!$J$1,\"\")","v":""},{"$f":"IF(F71<>0,'phase C7'!$C$1,\"\")","v":""},{"$f":"IF(F71<>0,'phase C7'!$A$1,\"\")","v":""},{"$f":"'phase C7'!G12","v":0},201,{"$f":"'phase C7'!H12","v":101}]
[null,{"$f":"IF(F72<>0,'phase C7'!B13,\"\")","v":""},{"$f":"IF(F72<>0,'phase C7'!$J$1,\"\")","v":""},{"$f":"IF(F72<>0,'phase C7'!$C$1,\"\")","v":""},{"$f":"IF(F72<>0,'phase C7'!$A$1,\"\")","v":""},{"$f":"'phase C7'!G13","v":0},201,{"$f":"'phase C7'!H13","v":101}]
[null,{"$f":"IF(F73<>0,'phase C7'!B14,\"\")","v":""},{"$f":"IF(F73<>0,'phase C7'!$J$1,\"\")","v":""},{"$f":"IF(F73<>0,'phase C7'!$C$1,\"\")","v":""},{"$f":"IF(F73<>0,'phase C7'!$A$1,\"\")","v":""},{"$f":"'phase C7'!G14","v":0},201,{"$f":"'phase C7'!H14","v":101}]
[null,{"$f":"IF(F74<>0,'phase C8'!B5,\"\")","v":""},{"$f":"IF(F74<>0,'phase C8'!$J$1,\"\")","v":""},{"$f":"IF(F74<>0,'phase C8'!$C$1,\"\")","v":""},{"$f":"IF(F74<>0,'phase C8'!$A$1,\"\")","v":""},{"$f":"'phase C8'!G5","v":0},201,{"$f":"'phase C8'!H5","v":101}]
[null,{"$f":"IF(F75<>0,'phase C8'!B6,\"\")","v":""},{"$f":"IF(F75<>0,'phase C8'!$J$1,\"\")","v":""},{"$f":"IF(F75<>0,'phase C8'!$C$1,\"\")","v":""},{"$f":"IF(F75<>0,'phase C8'!$A$1,\"\")","v":""},{"$f":"'phase C8'!G6","v":0},201,{"$f":"'phase C8'!H6","v":101}]
[null,{"$f":"IF(F76<>0,'phase C8'!B7,\"\")","v":""},{"$f":"IF(F76<>0,'phase C8'!$J$1,\"\")","v":""},{"$f":"IF(F76<>0,'phase C8'!$C$1,\"\")","v":""},{"$f":"IF(F76<>0,'phase C8'!$A$1,\"\")","v":""},{"$f":"'phase C8'!G7","v":0},201,{"$f":"'phase C8'!H7","v":101}]
[null,{"$f":"IF(F77<>0,'phase C8'!B8,\"\")","v":""},{"$f":"IF(F77<>0,'phase C8'!$J$1,\"\")","v":""},{"$f":"IF(F77<>0,'phase C8'!$C$1,\"\")","v":""},{"$f":"IF(F77<>0,'phase C8'!$A$1,\"\")","v":""},{"$f":"'phase C8'!G8","v":0},201,{"$f":"'phase C8'!H8","v":101}]
[null,{"$f":"IF(F78<>0,'phase C8'!B9,\"\")","v":""},{"$f":"IF(F78<>0,'phase C8'!$J$1,\"\")","v":""},{"$f":"IF(F78<>0,'phase C8'!$C$1,\"\")","v":""},{"$f":"IF(F78<>0,'phase C8'!$A$1,\"\")","v":""},{"$f":"'phase C8'!G9","v":0},201,{"$f":"'phase C8'!H9","v":101}]
[null,{"$f":"IF(F79<>0,'phase C8'!B10,\"\")","v":""},{"$f":"IF(F79<>0,'phase C8'!$J$1,\"\")","v":""},{"$f":"IF(F79<>0,'phase C8'!$C$1,\"\")","v":""},{"$f":"IF(F79<>0,'phase C8'!$A$1,\"\")","v":""},{"$f":"'phase C8'!G10","v":0},201,{"$f":"'phase C8'!H10","v":101}]
[null,{"$f":"IF(F80<>0,'phase C8'!B11,\"\")","v":""},{"$f":"IF(F80<>0,'phase C8'!$J$1,\"\")","v":""},{"$f":"IF(F80<>0,'phase C8'!$C$1,\"\")","v":""},{"$f":"IF(F80<>0,'phase C8'!$A$1,\"\")","v":""},{"$f":"'phase C8'!G11","v":0},201,{"$f":"'phase C8'!H11","v":101}]
[null,{"$f":"IF(F81<>0,'phase C8'!B12,\"\")","v":""},{"$f":"IF(F81<>0,'phase C8'!$J$1,\"\")","v":""},{"$f":"IF(F81<>0,'phase C8'!$C$1,\"\")","v":""},{"$f":"IF(F81<>0,'phase C8'!$A$1,\"\")","v":""},{"$f":"'phase C8'!G12","v":0},201,{"$f":"'phase C8'!H12","v":101}]
[null,{"$f":"IF(F82<>0,'phase C8'!B13,\"\")","v":""},{"$f":"IF(F82<>0,'phase C8'!$J$1,\"\")","v":""},{"$f":"IF(F82<>0,'phase C8'!$C$1,\"\")","v":""},{"$f":"IF(F82<>0,'phase C8'!$A$1,\"\")","v":""},{"$f":"'phase C8'!G13","v":0},201,{"$f":"'phase C8'!H13","v":101}]
[null,{"$f":"IF(F83<>0,'phase C8'!B14,\"\")","v":""},{"$f":"IF(F83<>0,'phase C8'!$J$1,\"\")","v":""},{"$f":"IF(F83<>0,'phase C8'!$C$1,\"\")","v":""},{"$f":"IF(F83<>0,'phase C8'!$A$1,\"\")","v":""},{"$f":"'phase C8'!G14","v":0},201,{"$f":"'phase C8'!H14","v":101}]
[null,{"$f":"IF(F84<>0,'phase C9'!B5,\"\")","v":""},{"$f":"IF(F84<>0,'phase C9'!$J$1,\"\")","v":""},{"$f":"IF(F84<>0,'phase C9'!$C$1,\"\")","v":""},{"$f":"IF(F84<>0,'phase C9'!$A$1,\"\")","v":""},{"$f":"'phase C9'!G5","v":0},201,{"$f":"'phase C9'!H5","v":101}]
[null,{"$f":"IF(F85<>0,'phase C9'!B6,\"\")","v":""},{"$f":"IF(F85<>0,'phase C9'!$J$1,\"\")","v":""},{"$f":"IF(F85<>0,'phase C9'!$C$1,\"\")","v":""},{"$f":"IF(F85<>0,'phase C9'!$A$1,\"\")","v":""},{"$f":"'phase C9'!G6","v":0},201,{"$f":"'phase C9'!H6","v":101}]
[null,{"$f":"IF(F86<>0,'phase C9'!B7,\"\")","v":""},{"$f":"IF(F86<>0,'phase C9'!$J$1,\"\")","v":""},{"$f":"IF(F86<>0,'phase C9'!$C$1,\"\")","v":""},{"$f":"IF(F86<>0,'phase C9'!$A$1,\"\")","v":""},{"$f":"'phase C9'!G7","v":0},201,{"$f":"'phase C9'!H7","v":101}]
[null,{"$f":"IF(F87<>0,'phase C9'!B8,\"\")","v":""},{"$f":"IF(F87<>0,'phase C9'!$J$1,\"\")","v":""},{"$f":"IF(F87<>0,'phase C9'!$C$1,\"\")","v":""},{"$f":"IF(F87<>0,'phase C9'!$A$1,\"\")","v":""},{"$f":"'phase C9'!G8","v":0},201,{"$f":"'phase C9'!H8","v":101}]
[null,{"$f":"IF(F88<>0,'phase C9'!B9,\"\")","v":""},{"$f":"IF(F88<>0,'phase C9'!$J$1,\"\")","v":""},{"$f":"IF(F88<>0,'phase C9'!$C$1,\"\")","v":""},{"$f":"IF(F88<>0,'phase C9'!$A$1,\"\")","v":""},{"$f":"'phase C9'!G9","v":0},201,{"$f":"'phase C9'!H9","v":101}]
[null,{"$f":"IF(F89<>0,'phase C9'!B10,\"\")","v":""},{"$f":"IF(F89<>0,'phase C9'!$J$1,\"\")","v":""},{"$f":"IF(F89<>0,'phase C9'!$C$1,\"\")","v":""},{"$f":"IF(F89<>0,'phase C9'!$A$1,\"\")","v":""},{"$f":"'phase C9'!G10","v":0},201,{"$f":"'phase C9'!H10","v":101}]
[null,{"$f":"IF(F90<>0,'phase C9'!B11,\"\")","v":""},{"$f":"IF(F90<>0,'phase C9'!$J$1,\"\")","v":""},{"$f":"IF(F90<>0,'phase C9'!$C$1,\"\")","v":""},{"$f":"IF(F90<>0,'phase C9'!$A$1,\"\")","v":""},{"$f":"'phase C9'!G11","v":0},201,{"$f":"'phase C9'!H11","v":101}]
[null,{"$f":"IF(F91<>0,'phase C9'!B12,\"\")","v":""},{"$f":"IF(F91<>0,'phase C9'!$J$1,\"\")","v":""},{"$f":"IF(F91<>0,'phase C9'!$C$1,\"\")","v":""},{"$f":"IF(F91<>0,'phase C9'!$A$1,\"\")","v":""},{"$f":"'phase C9'!G12","v":0},201,{"$f":"'phase C9'!H12","v":101}]
[null,{"$f":"IF(F92<>0,'phase C9'!B13,\"\")","v":""},{"$f":"IF(F92<>0,'phase C9'!$J$1,\"\")","v":""},{"$f":"IF(F92<>0,'phase C9'!$C$1,\"\")","v":""},{"$f":"IF(F92<>0,'phase C9'!$A$1,\"\")","v":""},{"$f":"'phase C9'!G13","v":0},201,{"$f":"'phase C9'!H13","v":101}]
[null,{"$f":"IF(F93<>0,'phase C9'!B14,\"\")","v":""},{"$f":"IF(F93<>0,'phase C9'!$J$1,\"\")","v":""},{"$f":"IF(F93<>0,'phase C9'!$C$1,\"\")","v":""},{"$f":"IF(F93<>0,'phase C9'!$A$1,\"\")","v":""},{"$f":"'phase C9'!G14","v":0},201,{"$f":"'phase C9'!H14","v":101}]
[null,{"$f":"IF(F94<>0,'phase C10'!B5,\"\")","v":""},{"$f":"IF(F94<>0,'phase C10'!$J$1,\"\")","v":""},{"$f":"IF(F94<>0,'phase C10'!$C$1,\"\")","v":""},{"$f":"IF(F94<>0,'phase C10'!$A$1,\"\")","v":""},{"$f":"'phase C10'!G5","v":0},201,{"$f":"'phase C10'!H5","v":101}]
[null,{"$f":"IF(F95<>0,'phase C10'!B6,\"\")","v":""},{"$f":"IF(F95<>0,'phase C10'!$J$1,\"\")","v":""},{"$f":"IF(F95<>0,'phase C10'!$C$1,\"\")","v":""},{"$f":"IF(F95<>0,'phase C10'!$A$1,\"\")","v":""},{"$f":"'phase C10'!G6","v":0},201,{"$f":"'phase C10'!H6","v":101}]
[null,{"$f":"IF(F96<>0,'phase C10'!B7,\"\")","v":""},{"$f":"IF(F96<>0,'phase C10'!$J$1,\"\")","v":""},{"$f":"IF(F96<>0,'phase C10'!$C$1,\"\")","v":""},{"$f":"IF(F96<>0,'phase C10'!$A$1,\"\")","v":""},{"$f":"'phase C10'!G7","v":0},201,{"$f":"'phase C10'!H7","v":101}]
[null,{"$f":"IF(F97<>0,'phase C10'!B8,\"\")","v":""},{"$f":"IF(F97<>0,'phase C10'!$J$1,\"\")","v":""},{"$f":"IF(F97<>0,'phase C10'!$C$1,\"\")","v":""},{"$f":"IF(F97<>0,'phase C10'!$A$1,\"\")","v":""},{"$f":"'phase C10'!G8","v":0},201,{"$f":"'phase C10'!H8","v":101}]
[null,{"$f":"IF(F98<>0,'phase C10'!B9,\"\")","v":""},{"$f":"IF(F98<>0,'phase C10'!$J$1,\"\")","v":""},{"$f":"IF(F98<>0,'phase C10'!$C$1,\"\")","v":""},{"$f":"IF(F98<>0,'phase C10'!$A$1,\"\")","v":""},{"$f":"'phase C10'!G9","v":0},201,{"$f":"'phase C10'!H9","v":101}]
[null,{"$f":"IF(F99<>0,'phase C10'!B10,\"\")","v":""},{"$f":"IF(F99<>0,'phase C10'!$J$1,\"\")","v":""},{"$f":"IF(F99<>0,'phase C10'!$C$1,\"\")","v":""},{"$f":"IF(F99<>0,'phase C10'!$A$1,\"\")","v":""},{"$f":"'phase C10'!G10","v":0},{"$f":"IF(F99=0,201,RANK(F99,$F$3:$F$202))","v":201},{"$f":"'phase C10'!H10","v":101}]
[null,{"$f":"IF(F100<>0,'phase C10'!B11,\"\")","v":""},{"$f":"IF(F100<>0,'phase C10'!$J$1,\"\")","v":""},{"$f":"IF(F100<>0,'phase C10'!$C$1,\"\")","v":""},{"$f":"IF(F100<>0,'phase C10'!$A$1,\"\")","v":""},{"$f":"'phase C10'!G11","v":0},201,{"$f":"'phase C10'!H11","v":101}]
[null,{"$f":"IF(F101<>0,'phase C10'!B12,\"\")","v":""},{"$f":"IF(F101<>0,'phase C10'!$J$1,\"\")","v":""},{"$f":"IF(F101<>0,'phase C10'!$C$1,\"\")","v":""},{"$f":"IF(F101<>0,'phase C10'!$A$1,\"\")","v":""},{"$f":"'phase C10'!G12","v":0},201,{"$f":"'phase C10'!H12","v":101}]
[null,{"$f":"IF(F102<>0,'phase C10'!B13,\"\")","v":""},{"$f":"IF(F102<>0,'phase C10'!$J$1,\"\")","v":""},{"$f":"IF(F102<>0,'phase C10'!$C$1,\"\")","v":""},{"$f":"IF(F102<>0,'phase C10'!$A$1,\"\")","v":""},{"$f":"'phase C10'!G13","v":0},201,{"$f":"'phase C10'!H13","v":101}]
[null,{"$f":"IF(F103<>0,'phase C10'!B14,\"\")","v":""},{"$f":"IF(F103<>0,'phase C10'!$J$1,\"\")","v":""},{"$f":"IF(F103<>0,'phase C10'!$C$1,\"\")","v":""},{"$f":"IF(F103<>0,'phase C10'!$A$1,\"\")","v":""},{"$f":"'phase C10'!G14","v":0},201,{"$f":"'phase C10'!H14","v":101}]
[null,{"$f":"IF(F104<>0,'phase C11'!B5,\"\")","v":""},{"$f":"IF(F104<>0,'phase C11'!$J$1,\"\")","v":""},{"$f":"IF(F104<>0,'phase C11'!$C$1,\"\")","v":""},{"$f":"IF(F104<>0,'phase C11'!$A$1,\"\")","v":""},{"$f":"'phase C11'!G5","v":0},201,{"$f":"'phase C11'!H5","v":101}]
[null,{"$f":"IF(F105<>0,'phase C11'!B6,\"\")","v":""},{"$f":"IF(F105<>0,'phase C11'!$J$1,\"\")","v":""},{"$f":"IF(F105<>0,'phase C11'!$C$1,\"\")","v":""},{"$f":"IF(F105<>0,'phase C11'!$A$1,\"\")","v":""},{"$f":"'phase C11'!G6","v":0},201,{"$f":"'phase C11'!H6","v":101}]
[null,{"$f":"IF(F106<>0,'phase C11'!B7,\"\")","v":""},{"$f":"IF(F106<>0,'phase C11'!$J$1,\"\")","v":""},{"$f":"IF(F106<>0,'phase C11'!$C$1,\"\")","v":""},{"$f":"IF(F106<>0,'phase C11'!$A$1,\"\")","v":""},{"$f":"'phase C11'!G7","v":0},201,{"$f":"'phase C11'!H7","v":101}]
[null,{"$f":"IF(F107<>0,'phase C11'!B8,\"\")","v":""},{"$f":"IF(F107<>0,'phase C11'!$J$1,\"\")","v":""},{"$f":"IF(F107<>0,'phase C11'!$C$1,\"\")","v":""},{"$f":"IF(F107<>0,'phase C11'!$A$1,\"\")","v":""},{"$f":"'phase C11'!G8","v":0},201,{"$f":"'phase C11'!H8","v":101}]
[null,{"$f":"IF(F108<>0,'phase C11'!B9,\"\")","v":""},{"$f":"IF(F108<>0,'phase C11'!$J$1,\"\")","v":""},{"$f":"IF(F108<>0,'phase C11'!$C$1,\"\")","v":""},{"$f":"IF(F108<>0,'phase C11'!$A$1,\"\")","v":""},{"$f":"'phase C11'!G9","v":0},201,{"$f":"'phase C11'!H9","v":101}]
[null,{"$f":"IF(F109<>0,'phase C11'!B10,\"\")","v":""},{"$f":"IF(F109<>0,'phase C11'!$J$1,\"\")","v":""},{"$f":"IF(F109<>0,'phase C11'!$C$1,\"\")","v":""},{"$f":"IF(F109<>0,'phase C11'!$A$1,\"\")","v":""},{"$f":"'phase C11'!G10","v":0},201,{"$f":"'phase C11'!H10","v":101}]
[null,{"$f":"IF(F110<>0,'phase C11'!B11,\"\")","v":""},{"$f":"IF(F110<>0,'phase C11'!$J$1,\"\")","v":""},{"$f":"IF(F110<>0,'phase C11'!$C$1,\"\")","v":""},{"$f":"IF(F110<>0,'phase C11'!$A$1,\"\")","v":""},{"$f":"'phase C11'!G11","v":0},201,{"$f":"'phase C11'!H11","v":101}]
[null,{"$f":"IF(F111<>0,'phase C11'!B12,\"\")","v":""},{"$f":"IF(F111<>0,'phase C11'!$J$1,\"\")","v":""},{"$f":"IF(F111<>0,'phase C11'!$C$1,\"\")","v":""},{"$f":"IF(F111<>0,'phase C11'!$A$1,\"\")","v":""},{"$f":"'phase C11'!G12","v":0},201,{"$f":"'phase C11'!H12","v":101}]
[null,{"$f":"IF(F112<>0,'phase C11'!B13,\"\")","v":""},{"$f":"IF(F112<>0,'phase C11'!$J$1,\"\")","v":""},{"$f":"IF(F112<>0,'phase C11'!$C$1,\"\")","v":""},{"$f":"IF(F112<>0,'phase C11'!$A$1,\"\")","v":""},{"$f":"'phase C11'!G13","v":0},201,{"$f":"'phase C11'!H13","v":101}]
[null,{"$f":"IF(F113<>0,'phase C11'!B14,\"\")","v":""},{"$f":"IF(F113<>0,'phase C11'!$J$1,\"\")","v":""},{"$f":"IF(F113<>0,'phase C11'!$C$1,\"\")","v":""},{"$f":"IF(F113<>0,'phase C11'!$A$1,\"\")","v":""},{"$f":"'phase C11'!G14","v":0},201,{"$f":"'phase C11'!H14","v":101}]
[null,{"$f":"IF(F114<>0,'phase C12'!B5,\"\")","v":""},{"$f":"IF(F114<>0,'phase C12'!$J$1,\"\")","v":""},{"$f":"IF(F114<>0,'phase C12'!$C$1,\"\")","v":""},{"$f":"IF(F114<>0,'phase C12'!$A$1,\"\")","v":""},{"$f":"'phase C12'!G5","v":0},201,{"$f":"'phase C12'!H5","v":101}]
[null,{"$f":"IF(F115<>0,'phase C12'!B6,\"\")","v":""},{"$f":"IF(F115<>0,'phase C12'!$J$1,\"\")","v":""},{"$f":"IF(F115<>0,'phase C12'!$C$1,\"\")","v":""},{"$f":"IF(F115<>0,'phase C12'!$A$1,\"\")","v":""},{"$f":"'phase C12'!G6","v":0},201,{"$f":"'phase C12'!H6","v":101}]
[null,{"$f":"IF(F116<>0,'phase C12'!B7,\"\")","v":""},{"$f":"IF(F116<>0,'phase C12'!$J$1,\"\")","v":""},{"$f":"IF(F116<>0,'phase C12'!$C$1,\"\")","v":""},{"$f":"IF(F116<>0,'phase C12'!$A$1,\"\")","v":""},{"$f":"'phase C12'!G7","v":0},201,{"$f":"'phase C12'!H7","v":101}]
[null,{"$f":"IF(F117<>0,'phase C12'!B8,\"\")","v":""},{"$f":"IF(F117<>0,'phase C12'!$J$1,\"\")","v":""},{"$f":"IF(F117<>0,'phase C12'!$C$1,\"\")","v":""},{"$f":"IF(F117<>0,'phase C12'!$A$1,\"\")","v":""},{"$f":"'phase C12'!G8","v":0},201,{"$f":"'phase C12'!H8","v":101}]
[null,{"$f":"IF(F118<>0,'phase C12'!B9,\"\")","v":""},{"$f":"IF(F118<>0,'phase C12'!$J$1,\"\")","v":""},{"$f":"IF(F118<>0,'phase C12'!$C$1,\"\")","v":""},{"$f":"IF(F118<>0,'phase C12'!$A$1,\"\")","v":""},{"$f":"'phase C12'!G9","v":0},201,{"$f":"'phase C12'!H9","v":101}]
[null,{"$f":"IF(F119<>0,'phase C12'!B10,\"\")","v":""},{"$f":"IF(F119<>0,'phase C12'!$J$1,\"\")","v":""},{"$f":"IF(F119<>0,'phase C12'!$C$1,\"\")","v":""},{"$f":"IF(F119<>0,'phase C12'!$A$1,\"\")","v":""},{"$f":"'phase C12'!G10","v":0},201,{"$f":"'phase C12'!H10","v":101}]
[null,{"$f":"IF(F120<>0,'phase C12'!B11,\"\")","v":""},{"$f":"IF(F120<>0,'phase C12'!$J$1,\"\")","v":""},{"$f":"IF(F120<>0,'phase C12'!$C$1,\"\")","v":""},{"$f":"IF(F120<>0,'phase C12'!$A$1,\"\")","v":""},{"$f":"'phase C12'!G11","v":0},201,{"$f":"'phase C12'!H11","v":101}]
[null,{"$f":"IF(F121<>0,'phase C12'!B12,\"\")","v":""},{"$f":"IF(F121<>0,'phase C12'!$J$1,\"\")","v":""},{"$f":"IF(F121<>0,'phase C12'!$C$1,\"\")","v":""},{"$f":"IF(F121<>0,'phase C12'!$A$1,\"\")","v":""},{"$f":"'phase C12'!G12","v":0},201,{"$f":"'phase C12'!H12","v":101}]
[null,{"$f":"IF(F122<>0,'phase C12'!B13,\"\")","v":""},{"$f":"IF(F122<>0,'phase C12'!$J$1,\"\")","v":""},{"$f":"IF(F122<>0,'phase C12'!$C$1,\"\")","v":""},{"$f":"IF(F122<>0,'phase C12'!$A$1,\"\")","v":""},{"$f":"'phase C12'!G13","v":0},201,{"$f":"'phase C12'!H13","v":101}]
[null,{"$f":"IF(F123<>0,'phase C12'!B14,\"\")","v":""},{"$f":"IF(F123<>0,'phase C12'!$J$1,\"\")","v":""},{"$f":"IF(F123<>0,'phase C12'!$C$1,\"\")","v":""},{"$f":"IF(F123<>0,'phase C12'!$A$1,\"\")","v":""},{"$f":"'phase C12'!G14","v":0},201,{"$f":"'phase C12'!H14","v":101}]
[null,{"$f":"IF(F124<>0,'phase C13'!B5,\"\")","v":""},{"$f":"IF(F124<>0,'phase C13'!$J$1,\"\")","v":""},{"$f":"IF(F124<>0,'phase C13'!$C$1,\"\")","v":""},{"$f":"IF(F124<>0,'phase C13'!$A$1,\"\")","v":""},{"$f":"'phase C13'!G5","v":0},201,{"$f":"'phase C13'!H5","v":101}]
[null,{"$f":"IF(F125<>0,'phase C13'!B6,\"\")","v":""},{"$f":"IF(F125<>0,'phase C13'!$J$1,\"\")","v":""},{"$f":"IF(F125<>0,'phase C13'!$C$1,\"\")","v":""},{"$f":"IF(F125<>0,'phase C13'!$A$1,\"\")","v":""},{"$f":"'phase C13'!G6","v":0},201,{"$f":"'phase C13'!H6","v":101}]
[null,{"$f":"IF(F126<>0,'phase C13'!B7,\"\")","v":""},{"$f":"IF(F126<>0,'phase C13'!$J$1,\"\")","v":""},{"$f":"IF(F126<>0,'phase C13'!$C$1,\"\")","v":""},{"$f":"IF(F126<>0,'phase C13'!$A$1,\"\")","v":""},{"$f":"'phase C13'!G7","v":0},201,{"$f":"'phase C13'!H7","v":101}]
[null,{"$f":"IF(F127<>0,'phase C13'!B8,\"\")","v":""},{"$f":"IF(F127<>0,'phase C13'!$J$1,\"\")","v":""},{"$f":"IF(F127<>0,'phase C13'!$C$1,\"\")","v":""},{"$f":"IF(F127<>0,'phase C13'!$A$1,\"\")","v":""},{"$f":"'phase C13'!G8","v":0},201,{"$f":"'phase C13'!H8","v":101}]
[null,{"$f":"IF(F128<>0,'phase C13'!B9,\"\")","v":""},{"$f":"IF(F128<>0,'phase C13'!$J$1,\"\")","v":""},{"$f":"IF(F128<>0,'phase C13'!$C$1,\"\")","v":""},{"$f":"IF(F128<>0,'phase C13'!$A$1,\"\")","v":""},{"$f":"'phase C13'!G9","v":0},201,{"$f":"'phase C13'!H9","v":101}]
[null,{"$f":"IF(F129<>0,'phase C13'!B10,\"\")","v":""},{"$f":"IF(F129<>0,'phase C13'!$J$1,\"\")","v":""},{"$f":"IF(F129<>0,'phase C13'!$C$1,\"\")","v":""},{"$f":"IF(F129<>0,'phase C13'!$A$1,\"\")","v":""},{"$f":"'phase C13'!G10","v":0},201,{"$f":"'phase C13'!H10","v":101}]
[null,{"$f":"IF(F130<>0,'phase C13'!B11,\"\")","v":""},{"$f":"IF(F130<>0,'phase C13'!$J$1,\"\")","v":""},{"$f":"IF(F130<>0,'phase C13'!$C$1,\"\")","v":""},{"$f":"IF(F130<>0,'phase C13'!$A$1,\"\")","v":""},{"$f":"'phase C13'!G11","v":0},201,{"$f":"'phase C13'!H11","v":101}]
[null,{"$f":"IF(F131<>0,'phase C13'!B12,\"\")","v":""},{"$f":"IF(F131<>0,'phase C13'!$J$1,\"\")","v":""},{"$f":"IF(F131<>0,'phase C13'!$C$1,\"\")","v":""},{"$f":"IF(F131<>0,'phase C13'!$A$1,\"\")","v":""},{"$f":"'phase C13'!G12","v":0},{"$f":"IF(F131=0,201,RANK(F131,$F$3:$F$202))","v":201},{"$f":"'phase C13'!H12","v":101}]
[null,{"$f":"IF(F132<>0,'phase C13'!B13,\"\")","v":""},{"$f":"IF(F132<>0,'phase C13'!$J$1,\"\")","v":""},{"$f":"IF(F132<>0,'phase C13'!$C$1,\"\")","v":""},{"$f":"IF(F132<>0,'phase C13'!$A$1,\"\")","v":""},{"$f":"'phase C13'!G13","v":0},201,{"$f":"'phase C13'!H13","v":101}]
[null,{"$f":"IF(F133<>0,'phase C13'!B14,\"\")","v":""},{"$f":"IF(F133<>0,'phase C13'!$J$1,\"\")","v":""},{"$f":"IF(F133<>0,'phase C13'!$C$1,\"\")","v":""},{"$f":"IF(F133<>0,'phase C13'!$A$1,\"\")","v":""},{"$f":"'phase C13'!G14","v":0},201,{"$f":"'phase C13'!H14","v":101}]
[null,{"$f":"IF(F134<>0,'phase C14'!B5,\"\")","v":""},{"$f":"IF(F134<>0,'phase C14'!$J$1,\"\")","v":""},{"$f":"IF(F134<>0,'phase C14'!$C$1,\"\")","v":""},{"$f":"IF(F134<>0,'phase C14'!$A$1,\"\")","v":""},{"$f":"'phase C14'!G5","v":0},201,{"$f":"'phase C14'!H5","v":101}]
[null,{"$f":"IF(F135<>0,'phase C14'!B6,\"\")","v":""},{"$f":"IF(F135<>0,'phase C14'!$J$1,\"\")","v":""},{"$f":"IF(F135<>0,'phase C14'!$C$1,\"\")","v":""},{"$f":"IF(F135<>0,'phase C14'!$A$1,\"\")","v":""},{"$f":"'phase C14'!G6","v":0},201,{"$f":"'phase C14'!H6","v":101}]
[null,{"$f":"IF(F136<>0,'phase C14'!B7,\"\")","v":""},{"$f":"IF(F136<>0,'phase C14'!$J$1,\"\")","v":""},{"$f":"IF(F136<>0,'phase C14'!$C$1,\"\")","v":""},{"$f":"IF(F136<>0,'phase C14'!$A$1,\"\")","v":""},{"$f":"'phase C14'!G7","v":0},201,{"$f":"'phase C14'!H7","v":101}]
[null,{"$f":"IF(F137<>0,'phase C14'!B8,\"\")","v":""},{"$f":"IF(F137<>0,'phase C14'!$J$1,\"\")","v":""},{"$f":"IF(F137<>0,'phase C14'!$C$1,\"\")","v":""},{"$f":"IF(F137<>0,'phase C14'!$A$1,\"\")","v":""},{"$f":"'phase C14'!G8","v":0},201,{"$f":"'phase C14'!H8","v":101}]
[null,{"$f":"IF(F138<>0,'phase C14'!B9,\"\")","v":""},{"$f":"IF(F138<>0,'phase C14'!$J$1,\"\")","v":""},{"$f":"IF(F138<>0,'phase C14'!$C$1,\"\")","v":""},{"$f":"IF(F138<>0,'phase C14'!$A$1,\"\")","v":""},{"$f":"'phase C14'!G9","v":0},201,{"$f":"'phase C14'!H9","v":101}]
[null,{"$f":"IF(F139<>0,'phase C14'!B10,\"\")","v":""},{"$f":"IF(F139<>0,'phase C14'!$J$1,\"\")","v":""},{"$f":"IF(F139<>0,'phase C14'!$C$1,\"\")","v":""},{"$f":"IF(F139<>0,'phase C14'!$A$1,\"\")","v":""},{"$f":"'phase C14'!G10","v":0},201,{"$f":"'phase C14'!H10","v":101}]
[null,{"$f":"IF(F140<>0,'phase C14'!B11,\"\")","v":""},{"$f":"IF(F140<>0,'phase C14'!$J$1,\"\")","v":""},{"$f":"IF(F140<>0,'phase C14'!$C$1,\"\")","v":""},{"$f":"IF(F140<>0,'phase C14'!$A$1,\"\")","v":""},{"$f":"'phase C14'!G11","v":0},201,{"$f":"'phase C14'!H11","v":101}]
[null,{"$f":"IF(F141<>0,'phase C14'!B12,\"\")","v":""},{"$f":"IF(F141<>0,'phase C14'!$J$1,\"\")","v":""},{"$f":"IF(F141<>0,'phase C14'!$C$1,\"\")","v":""},{"$f":"IF(F141<>0,'phase C14'!$A$1,\"\")","v":""},{"$f":"'phase C14'!G12","v":0},201,{"$f":"'phase C14'!H12","v":101}]
[null,{"$f":"IF(F142<>0,'phase C14'!B13,\"\")","v":""},{"$f":"IF(F142<>0,'phase C14'!$J$1,\"\")","v":""},{"$f":"IF(F142<>0,'phase C14'!$C$1,\"\")","v":""},{"$f":"IF(F142<>0,'phase C14'!$A$1,\"\")","v":""},{"$f":"'phase C14'!G13","v":0},201,{"$f":"'phase C14'!H13","v":101}]
[null,{"$f":"IF(F143<>0,'phase C14'!B14,\"\")","v":""},{"$f":"IF(F143<>0,'phase C14'!$J$1,\"\")","v":""},{"$f":"IF(F143<>0,'phase C14'!$C$1,\"\")","v":""},{"$f":"IF(F143<>0,'phase C14'!$A$1,\"\")","v":""},{"$f":"'phase C14'!G14","v":0},201,{"$f":"'phase C14'!H14","v":101}]
[null,{"$f":"IF(F144<>0,'phase C15'!B5,\"\")","v":""},{"$f":"IF(F144<>0,'phase C15'!$J$1,\"\")","v":""},{"$f":"IF(F144<>0,'phase C15'!$C$1,\"\")","v":""},{"$f":"IF(F144<>0,'phase C15'!$A$1,\"\")","v":""},{"$f":"'phase C15'!G5","v":0},201,{"$f":"'phase C15'!H5","v":101}]
[null,{"$f":"IF(F145<>0,'phase C15'!B6,\"\")","v":""},{"$f":"IF(F145<>0,'phase C15'!$J$1,\"\")","v":""},{"$f":"IF(F145<>0,'phase C15'!$C$1,\"\")","v":""},{"$f":"IF(F145<>0,'phase C15'!$A$1,\"\")","v":""},{"$f":"'phase C15'!G6","v":0},201,{"$f":"'phase C15'!H6","v":101}]
[null,{"$f":"IF(F146<>0,'phase C15'!B7,\"\")","v":""},{"$f":"IF(F146<>0,'phase C15'!$J$1,\"\")","v":""},{"$f":"IF(F146<>0,'phase C15'!$C$1,\"\")","v":""},{"$f":"IF(F146<>0,'phase C15'!$A$1,\"\")","v":""},{"$f":"'phase C15'!G7","v":0},201,{"$f":"'phase C15'!H7","v":101}]
[null,{"$f":"IF(F147<>0,'phase C15'!B8,\"\")","v":""},{"$f":"IF(F147<>0,'phase C15'!$J$1,\"\")","v":""},{"$f":"IF(F147<>0,'phase C15'!$C$1,\"\")","v":""},{"$f":"IF(F147<>0,'phase C15'!$A$1,\"\")","v":""},{"$f":"'phase C15'!G8","v":0},201,{"$f":"'phase C15'!H8","v":101}]
[null,{"$f":"IF(F148<>0,'phase C15'!B9,\"\")","v":""},{"$f":"IF(F148<>0,'phase C15'!$J$1,\"\")","v":""},{"$f":"IF(F148<>0,'phase C15'!$C$1,\"\")","v":""},{"$f":"IF(F148<>0,'phase C15'!$A$1,\"\")","v":""},{"$f":"'phase C15'!G9","v":0},201,{"$f":"'phase C15'!H9","v":101}]
[null,{"$f":"IF(F149<>0,'phase C15'!B10,\"\")","v":""},{"$f":"IF(F149<>0,'phase C15'!$J$1,\"\")","v":""},{"$f":"IF(F149<>0,'phase C15'!$C$1,\"\")","v":""},{"$f":"IF(F149<>0,'phase C15'!$A$1,\"\")","v":""},{"$f":"'phase C15'!G10","v":0},201,{"$f":"'phase C15'!H10","v":101}]
[null,{"$f":"IF(F150<>0,'phase C15'!B11,\"\")","v":""},{"$f":"IF(F150<>0,'phase C15'!$J$1,\"\")","v":""},{"$f":"IF(F150<>0,'phase C15'!$C$1,\"\")","v":""},{"$f":"IF(F150<>0,'phase C15'!$A$1,\"\")","v":""},{"$f":"'phase C15'!G11","v":0},201,{"$f":"'phase C15'!H11","v":101}]
[null,{"$f":"IF(F151<>0,'phase C15'!B12,\"\")","v":""},{"$f":"IF(F151<>0,'phase C15'!$J$1,\"\")","v":""},{"$f":"IF(F151<>0,'phase C15'!$C$1,\"\")","v":""},{"$f":"IF(F151<>0,'phase C15'!$A$1,\"\")","v":""},{"$f":"'phase C15'!G12","v":0},201,{"$f":"'phase C15'!H12","v":101}]
[null,{"$f":"IF(F152<>0,'phase C15'!B13,\"\")","v":""},{"$f":"IF(F152<>0,'phase C15'!$J$1,\"\")","v":""},{"$f":"IF(F152<>0,'phase C15'!$C$1,\"\")","v":""},{"$f":"IF(F152<>0,'phase C15'!$A$1,\"\")","v":""},{"$f":"'phase C15'!G13","v":0},201,{"$f":"'phase C15'!H13","v":101}]
[null,{"$f":"IF(F153<>0,'phase C15'!B14,\"\")","v":""},{"$f":"IF(F153<>0,'phase C15'!$J$1,\"\")","v":""},{"$f":"IF(F153<>0,'phase C15'!$C$1,\"\")","v":""},{"$f":"IF(F153<>0,'phase C15'!$A$1,\"\")","v":""},{"$f":"'phase C15'!G14","v":0},201,{"$f":"'phase C15'!H14","v":101}]
[null,{"$f":"IF(F154<>0,'phase C16'!B5,\"\")","v":""},{"$f":"IF(F154<>0,'phase C16'!$J$1,\"\")","v":""},{"$f":"IF(F154<>0,'phase C16'!$C$1,\"\")","v":""},{"$f":"IF(F154<>0,'phase C16'!$A$1,\"\")","v":""},{"$f":"'phase C16'!G5","v":0},201,{"$f":"'phase C16'!H5","v":101}]
[null,{"$f":"IF(F155<>0,'phase C16'!B6,\"\")","v":""},{"$f":"IF(F155<>0,'phase C16'!$J$1,\"\")","v":""},{"$f":"IF(F155<>0,'phase C16'!$C$1,\"\")","v":""},{"$f":"IF(F155<>0,'phase C16'!$A$1,\"\")","v":""},{"$f":"'phase C16'!G6","v":0},201,{"$f":"'phase C16'!H6","v":101}]
[null,{"$f":"IF(F156<>0,'phase C16'!B7,\"\")","v":""},{"$f":"IF(F156<>0,'phase C16'!$J$1,\"\")","v":""},{"$f":"IF(F156<>0,'phase C16'!$C$1,\"\")","v":""},{"$f":"IF(F156<>0,'phase C16'!$A$1,\"\")","v":""},{"$f":"'phase C16'!G7","v":0},201,{"$f":"'phase C16'!H7","v":101}]
[null,{"$f":"IF(F157<>0,'phase C16'!B8,\"\")","v":""},{"$f":"IF(F157<>0,'phase C16'!$J$1,\"\")","v":""},{"$f":"IF(F157<>0,'phase C16'!$C$1,\"\")","v":""},{"$f":"IF(F157<>0,'phase C16'!$A$1,\"\")","v":""},{"$f":"'phase C16'!G8","v":0},201,{"$f":"'phase C16'!H8","v":101}]
[null,{"$f":"IF(F158<>0,'phase C16'!B9,\"\")","v":""},{"$f":"IF(F158<>0,'phase C16'!$J$1,\"\")","v":""},{"$f":"IF(F158<>0,'phase C16'!$C$1,\"\")","v":""},{"$f":"IF(F158<>0,'phase C16'!$A$1,\"\")","v":""},{"$f":"'phase C16'!G9","v":0},201,{"$f":"'phase C16'!H9","v":101}]
[null,{"$f":"IF(F159<>0,'phase C16'!B10,\"\")","v":""},{"$f":"IF(F159<>0,'phase C16'!$J$1,\"\")","v":""},{"$f":"IF(F159<>0,'phase C16'!$C$1,\"\")","v":""},{"$f":"IF(F159<>0,'phase C16'!$A$1,\"\")","v":""},{"$f":"'phase C16'!G10","v":0},201,{"$f":"'phase C16'!H10","v":101}]
[null,{"$f":"IF(F160<>0,'phase C16'!B11,\"\")","v":""},{"$f":"IF(F160<>0,'phase C16'!$J$1,\"\")","v":""},{"$f":"IF(F160<>0,'phase C16'!$C$1,\"\")","v":""},{"$f":"IF(F160<>0,'phase C16'!$A$1,\"\")","v":""},{"$f":"'phase C16'!G11","v":0},201,{"$f":"'phase C16'!H11","v":101}]
[null,{"$f":"IF(F161<>0,'phase C16'!B12,\"\")","v":""},{"$f":"IF(F161<>0,'phase C16'!$J$1,\"\")","v":""},{"$f":"IF(F161<>0,'phase C16'!$C$1,\"\")","v":""},{"$f":"IF(F161<>0,'phase C16'!$A$1,\"\")","v":""},{"$f":"'phase C16'!G12","v":0},201,{"$f":"'phase C16'!H12","v":101}]
[null,{"$f":"IF(F162<>0,'phase C16'!B13,\"\")","v":""},{"$f":"IF(F162<>0,'phase C16'!$J$1,\"\")","v":""},{"$f":"IF(F162<>0,'phase C16'!$C$1,\"\")","v":""},{"$f":"IF(F162<>0,'phase C16'!$A$1,\"\")","v":""},{"$f":"'phase C16'!G13","v":0},201,{"$f":"'phase C16'!H13","v":101}]
[null,{"$f":"IF(F163<>0,'phase C16'!B14,\"\")","v":""},{"$f":"IF(F163<>0,'phase C16'!$J$1,\"\")","v":""},{"$f":"IF(F163<>0,'phase C16'!$C$1,\"\")","v":""},{"$f":"IF(F163<>0,'phase C16'!$A$1,\"\")","v":""},{"$f":"'phase C16'!G14","v":0},{"$f":"IF(F163=0,201,RANK(F163,$F$3:$F$202))","v":201},{"$f":"'phase C16'!H14","v":101}]
[null,{"$f":"IF(F164<>0,'phase C17'!B5,\"\")","v":""},{"$f":"IF(F164<>0,'phase C17'!$J$1,\"\")","v":""},{"$f":"IF(F164<>0,'phase C17'!$C$1,\"\")","v":""},{"$f":"IF(F164<>0,'phase C17'!$A$1,\"\")","v":""},{"$f":"'phase C17'!G5","v":0},201,{"$f":"'phase C17'!H5","v":101}]
[null,{"$f":"IF(F165<>0,'phase C17'!B6,\"\")","v":""},{"$f":"IF(F165<>0,'phase C17'!$J$1,\"\")","v":""},{"$f":"IF(F165<>0,'phase C17'!$C$1,\"\")","v":""},{"$f":"IF(F165<>0,'phase C17'!$A$1,\"\")","v":""},{"$f":"'phase C17'!G6","v":0},201,{"$f":"'phase C17'!H6","v":101}]
[null,{"$f":"IF(F166<>0,'phase C17'!B7,\"\")","v":""},{"$f":"IF(F166<>0,'phase C17'!$J$1,\"\")","v":""},{"$f":"IF(F166<>0,'phase C17'!$C$1,\"\")","v":""},{"$f":"IF(F166<>0,'phase C17'!$A$1,\"\")","v":""},{"$f":"'phase C17'!G7","v":0},201,{"$f":"'phase C17'!H7","v":101}]
[null,{"$f":"IF(F167<>0,'phase C17'!B8,\"\")","v":""},{"$f":"IF(F167<>0,'phase C17'!$J$1,\"\")","v":""},{"$f":"IF(F167<>0,'phase C17'!$C$1,\"\")","v":""},{"$f":"IF(F167<>0,'phase C17'!$A$1,\"\")","v":""},{"$f":"'phase C17'!G8","v":0},201,{"$f":"'phase C17'!H8","v":101}]
[null,{"$f":"IF(F168<>0,'phase C17'!B9,\"\")","v":""},{"$f":"IF(F168<>0,'phase C17'!$J$1,\"\")","v":""},{"$f":"IF(F168<>0,'phase C17'!$C$1,\"\")","v":""},{"$f":"IF(F168<>0,'phase C17'!$A$1,\"\")","v":""},{"$f":"'phase C17'!G9","v":0},201,{"$f":"'phase C17'!H9","v":101}]
[null,{"$f":"IF(F169<>0,'phase C17'!B10,\"\")","v":""},{"$f":"IF(F169<>0,'phase C17'!$J$1,\"\")","v":""},{"$f":"IF(F169<>0,'phase C17'!$C$1,\"\")","v":""},{"$f":"IF(F169<>0,'phase C17'!$A$1,\"\")","v":""},{"$f":"'phase C17'!G10","v":0},201,{"$f":"'phase C17'!H10","v":101}]
[null,{"$f":"IF(F170<>0,'phase C17'!B11,\"\")","v":""},{"$f":"IF(F170<>0,'phase C17'!$J$1,\"\")","v":""},{"$f":"IF(F170<>0,'phase C17'!$C$1,\"\")","v":""},{"$f":"IF(F170<>0,'phase C17'!$A$1,\"\")","v":""},{"$f":"'phase C17'!G11","v":0},201,{"$f":"'phase C17'!H11","v":101}]
[null,{"$f":"IF(F171<>0,'phase C17'!B12,\"\")","v":""},{"$f":"IF(F171<>0,'phase C17'!$J$1,\"\")","v":""},{"$f":"IF(F171<>0,'phase C17'!$C$1,\"\")","v":""},{"$f":"IF(F171<>0,'phase C17'!$A$1,\"\")","v":""},{"$f":"'phase C17'!G12","v":0},201,{"$f":"'phase C17'!H12","v":101}]
[null,{"$f":"IF(F172<>0,'phase C17'!B13,\"\")","v":""},{"$f":"IF(F172<>0,'phase C17'!$J$1,\"\")","v":""},{"$f":"IF(F172<>0,'phase C17'!$C$1,\"\")","v":""},{"$f":"IF(F172<>0,'phase C17'!$A$1,\"\")","v":""},{"$f":"'phase C17'!G13","v":0},201,{"$f":"'phase C17'!H13","v":101}]
[null,{"$f":"IF(F173<>0,'phase C17'!B14,\"\")","v":""},{"$f":"IF(F173<>0,'phase C17'!$J$1,\"\")","v":""},{"$f":"IF(F173<>0,'phase C17'!$C$1,\"\")","v":""},{"$f":"IF(F173<>0,'phase C17'!$A$1,\"\")","v":""},{"$f":"'phase C17'!G14","v":0},201,{"$f":"'phase C17'!H14","v":101}]
[null,{"$f":"IF(F174<>0,'phase C18'!B5,\"\")","v":""},{"$f":"IF(F174<>0,'phase C18'!$J$1,\"\")","v":""},{"$f":"IF(F174<>0,'phase C18'!$C$1,\"\")","v":""},{"$f":"IF(F174<>0,'phase C18'!$A$1,\"\")","v":""},{"$f":"'phase C18'!G5","v":0},201,{"$f":"'phase C18'!H5","v":101}]
[null,{"$f":"IF(F175<>0,'phase C18'!B6,\"\")","v":""},{"$f":"IF(F175<>0,'phase C18'!$J$1,\"\")","v":""},{"$f":"IF(F175<>0,'phase C18'!$C$1,\"\")","v":""},{"$f":"IF(F175<>0,'phase C18'!$A$1,\"\")","v":""},{"$f":"'phase C18'!G6","v":0},201,{"$f":"'phase C18'!H6","v":101}]
[null,{"$f":"IF(F176<>0,'phase C18'!B7,\"\")","v":""},{"$f":"IF(F176<>0,'phase C18'!$J$1,\"\")","v":""},{"$f":"IF(F176<>0,'phase C18'!$C$1,\"\")","v":""},{"$f":"IF(F176<>0,'phase C18'!$A$1,\"\")","v":""},{"$f":"'phase C18'!G7","v":0},201,{"$f":"'phase C18'!H7","v":101}]
[null,{"$f":"IF(F177<>0,'phase C18'!B8,\"\")","v":""},{"$f":"IF(F177<>0,'phase C18'!$J$1,\"\")","v":""},{"$f":"IF(F177<>0,'phase C18'!$C$1,\"\")","v":""},{"$f":"IF(F177<>0,'phase C18'!$A$1,\"\")","v":""},{"$f":"'phase C18'!G8","v":0},201,{"$f":"'phase C18'!H8","v":101}]
[null,{"$f":"IF(F178<>0,'phase C18'!B9,\"\")","v":""},{"$f":"IF(F178<>0,'phase C18'!$J$1,\"\")","v":""},{"$f":"IF(F178<>0,'phase C18'!$C$1,\"\")","v":""},{"$f":"IF(F178<>0,'phase C18'!$A$1,\"\")","v":""},{"$f":"'phase C18'!G9","v":0},201,{"$f":"'phase C18'!H9","v":101}]
[null,{"$f":"IF(F179<>0,'phase C18'!B10,\"\")","v":""},{"$f":"IF(F179<>0,'phase C18'!$J$1,\"\")","v":""},{"$f":"IF(F179<>0,'phase C18'!$C$1,\"\")","v":""},{"$f":"IF(F179<>0,'phase C18'!$A$1,\"\")","v":""},{"$f":"'phase C18'!G10","v":0},201,{"$f":"'phase C18'!H10","v":101}]
[null,{"$f":"IF(F180<>0,'phase C18'!B11,\"\")","v":""},{"$f":"IF(F180<>0,'phase C18'!$J$1,\"\")","v":""},{"$f":"IF(F180<>0,'phase C18'!$C$1,\"\")","v":""},{"$f":"IF(F180<>0,'phase C18'!$A$1,\"\")","v":""},{"$f":"'phase C18'!G11","v":0},201,{"$f":"'phase C18'!H11","v":101}]
[null,{"$f":"IF(F181<>0,'phase C18'!B12,\"\")","v":""},{"$f":"IF(F181<>0,'phase C18'!$J$1,\"\")","v":""},{"$f":"IF(F181<>0,'phase C18'!$C$1,\"\")","v":""},{"$f":"IF(F181<>0,'phase C18'!$A$1,\"\")","v":""},{"$f":"'phase C18'!G12","v":0},201,{"$f":"'phase C18'!H12","v":101}]
[null,{"$f":"IF(F182<>0,'phase C18'!B13,\"\")","v":""},{"$f":"IF(F182<>0,'phase C18'!$J$1,\"\")","v":""},{"$f":"IF(F182<>0,'phase C18'!$C$1,\"\")","v":""},{"$f":"IF(F182<>0,'phase C18'!$A$1,\"\")","v":""},{"$f":"'phase C18'!G13","v":0},201,{"$f":"'phase C18'!H13","v":101}]
[null,{"$f":"IF(F183<>0,'phase C18'!B14,\"\")","v":""},{"$f":"IF(F183<>0,'phase C18'!$J$1,\"\")","v":""},{"$f":"IF(F183<>0,'phase C18'!$C$1,\"\")","v":""},{"$f":"IF(F183<>0,'phase C18'!$A$1,\"\")","v":""},{"$f":"'phase C18'!G14","v":0},201,{"$f":"'phase C18'!H14","v":101}]
[null,{"$f":"IF(F184<>0,'phase C19'!B5,\"\")","v":""},{"$f":"IF(F184<>0,'phase C19'!$J$1,\"\")","v":""},{"$f":"IF(F184<>0,'phase C19'!$C$1,\"\")","v":""},{"$f":"IF(F184<>0,'phase C19'!$A$1,\"\")","v":""},{"$f":"'phase C19'!G5","v":0},201,{"$f":"'phase C19'!H5","v":101}]
[null,{"$f":"IF(F185<>0,'phase C19'!B6,\"\")","v":""},{"$f":"IF(F185<>0,'phase C19'!$J$1,\"\")","v":""},{"$f":"IF(F185<>0,'phase C19'!$C$1,\"\")","v":""},{"$f":"IF(F185<>0,'phase C19'!$A$1,\"\")","v":""},{"$f":"'phase C19'!G6","v":0},201,{"$f":"'phase C19'!H6","v":101}]
[null,{"$f":"IF(F186<>0,'phase C19'!B7,\"\")","v":""},{"$f":"IF(F186<>0,'phase C19'!$J$1,\"\")","v":""},{"$f":"IF(F186<>0,'phase C19'!$C$1,\"\")","v":""},{"$f":"IF(F186<>0,'phase C19'!$A$1,\"\")","v":""},{"$f":"'phase C19'!G7","v":0},201,{"$f":"'phase C19'!H7","v":101}]
[null,{"$f":"IF(F187<>0,'phase C19'!B8,\"\")","v":""},{"$f":"IF(F187<>0,'phase C19'!$J$1,\"\")","v":""},{"$f":"IF(F187<>0,'phase C19'!$C$1,\"\")","v":""},{"$f":"IF(F187<>0,'phase C19'!$A$1,\"\")","v":""},{"$f":"'phase C19'!G8","v":0},201,{"$f":"'phase C19'!H8","v":101}]
[null,{"$f":"IF(F188<>0,'phase C19'!B9,\"\")","v":""},{"$f":"IF(F188<>0,'phase C19'!$J$1,\"\")","v":""},{"$f":"IF(F188<>0,'phase C19'!$C$1,\"\")","v":""},{"$f":"IF(F188<>0,'phase C19'!$A$1,\"\")","v":""},{"$f":"'phase C19'!G9","v":0},201,{"$f":"'phase C19'!H9","v":101}]
[null,{"$f":"IF(F189<>0,'phase C19'!B10,\"\")","v":""},{"$f":"IF(F189<>0,'phase C19'!$J$1,\"\")","v":""},{"$f":"IF(F189<>0,'phase C19'!$C$1,\"\")","v":""},{"$f":"IF(F189<>0,'phase C19'!$A$1,\"\")","v":""},{"$f":"'phase C19'!G10","v":0},201,{"$f":"'phase C19'!H10","v":101}]
[null,{"$f":"IF(F190<>0,'phase C19'!B11,\"\")","v":""},{"$f":"IF(F190<>0,'phase C19'!$J$1,\"\")","v":""},{"$f":"IF(F190<>0,'phase C19'!$C$1,\"\")","v":""},{"$f":"IF(F190<>0,'phase C19'!$A$1,\"\")","v":""},{"$f":"'phase C19'!G11","v":0},201,{"$f":"'phase C19'!H11","v":101}]
[null,{"$f":"IF(F191<>0,'phase C19'!B12,\"\")","v":""},{"$f":"IF(F191<>0,'phase C19'!$J$1,\"\")","v":""},{"$f":"IF(F191<>0,'phase C19'!$C$1,\"\")","v":""},{"$f":"IF(F191<>0,'phase C19'!$A$1,\"\")","v":""},{"$f":"'phase C19'!G12","v":0},201,{"$f":"'phase C19'!H12","v":101}]
[null,{"$f":"IF(F192<>0,'phase C19'!B13,\"\")","v":""},{"$f":"IF(F192<>0,'phase C19'!$J$1,\"\")","v":""},{"$f":"IF(F192<>0,'phase C19'!$C$1,\"\")","v":""},{"$f":"IF(F192<>0,'phase C19'!$A$1,\"\")","v":""},{"$f":"'phase C19'!G13","v":0},201,{"$f":"'phase C19'!H13","v":101}]
[null,{"$f":"IF(F193<>0,'phase C19'!B14,\"\")","v":""},{"$f":"IF(F193<>0,'phase C19'!$J$1,\"\")","v":""},{"$f":"IF(F193<>0,'phase C19'!$C$1,\"\")","v":""},{"$f":"IF(F193<>0,'phase C19'!$A$1,\"\")","v":""},{"$f":"'phase C19'!G14","v":0},201,{"$f":"'phase C19'!H14","v":101}]
[null,{"$f":"IF(F194<>0,'phase C20'!B5,\"\")","v":""},{"$f":"IF(F194<>0,'phase C20'!$J$1,\"\")","v":""},{"$f":"IF(F194<>0,'phase C20'!$C$1,\"\")","v":""},{"$f":"IF(F194<>0,'phase C20'!$A$1,\"\")","v":""},{"$f":"'phase C20'!G5","v":0},201,{"$f":"'phase C20'!H5","v":101}]
[null,{"$f":"IF(F195<>0,'phase C20'!B6,\"\")","v":""},{"$f":"IF(F195<>0,'phase C20'!$J$1,\"\")","v":""},{"$f":"IF(F195<>0,'phase C20'!$C$1,\"\")","v":""},{"$f":"IF(F195<>0,'phase C20'!$A$1,\"\")","v":""},{"$f":"'phase C20'!G6","v":0},{"$f":"IF(F195=0,201,RANK(F195,$F$3:$F$202))","v":201},{"$f":"'phase C20'!H6","v":101}]
[null,{"$f":"IF(F196<>0,'phase C20'!B7,\"\")","v":""},{"$f":"IF(F196<>0,'phase C20'!$J$1,\"\")","v":""},{"$f":"IF(F196<>0,'phase C20'!$C$1,\"\")","v":""},{"$f":"IF(F196<>0,'phase C20'!$A$1,\"\")","v":""},{"$f":"'phase C20'!G7","v":0},201,{"$f":"'phase C20'!H7","v":101}]
[null,{"$f":"IF(F197<>0,'phase C20'!B8,\"\")","v":""},{"$f":"IF(F197<>0,'phase C20'!$J$1,\"\")","v":""},{"$f":"IF(F197<>0,'phase C20'!$C$1,\"\")","v":""},{"$f":"IF(F197<>0,'phase C20'!$A$1,\"\")","v":""},{"$f":"'phase C20'!G8","v":0},201,{"$f":"'phase C20'!H8","v":101}]
[null,{"$f":"IF(F198<>0,'phase C20'!B9,\"\")","v":""},{"$f":"IF(F198<>0,'phase C20'!$J$1,\"\")","v":""},{"$f":"IF(F198<>0,'phase C20'!$C$1,\"\")","v":""},{"$f":"IF(F198<>0,'phase C20'!$A$1,\"\")","v":""},{"$f":"'phase C20'!G9","v":0},201,{"$f":"'phase C20'!H9","v":101}]
[null,{"$f":"IF(F199<>0,'phase C20'!B10,\"\")","v":""},{"$f":"IF(F199<>0,'phase C20'!$J$1,\"\")","v":""},{"$f":"IF(F199<>0,'phase C20'!$C$1,\"\")","v":""},{"$f":"IF(F199<>0,'phase C20'!$A$1,\"\")","v":""},{"$f":"'phase C20'!G10","v":0},201,{"$f":"'phase C20'!H10","v":101}]
[null,{"$f":"IF(F200<>0,'phase C20'!B11,\"\")","v":""},{"$f":"IF(F200<>0,'phase C20'!$J$1,\"\")","v":""},{"$f":"IF(F200<>0,'phase C20'!$C$1,\"\")","v":""},{"$f":"IF(F200<>0,'phase C20'!$A$1,\"\")","v":""},{"$f":"'phase C20'!G11","v":0},201,{"$f":"'phase C20'!H11","v":101}]
[null,{"$f":"IF(F201<>0,'phase C20'!B12,\"\")","v":""},{"$f":"IF(F201<>0,'phase C20'!$J$1,\"\")","v":""},{"$f":"IF(F201<>0,'phase C20'!$C$1,\"\")","v":""},{"$f":"IF(F201<>0,'phase C20'!$A$1,\"\")","v":""},{"$f":"'phase C20'!G12","v":0},201,{"$f":"'phase C20'!H12","v":101}]
[null,{"$f":"IF(F202<>0,'phase C20'!B13,\"\")","v":""},{"$f":"IF(F202<>0,'phase C20'!$J$1,\"\")","v":""},{"$f":"IF(F202<>0,'phase C20'!$C$1,\"\")","v":""},{"$f":"IF(F202<>0,'phase C20'!$A$1,\"\")","v":""},{"$f":"'phase C20'!G13","v":0},201,{"$f":"'phase C20'!H13","v":101}]

{"sheet":"Explanation phase A","index":4,"n_rows":0,"n_cols":0,"rows_kept":0,"cut":false,"hidden":false,"merged":[]}

{"sheet":"phase A","index":5,"n_rows":60,"n_cols":20,"rows_kept":60,"cut":false,"hidden":false,"merged":[]}
[null,null,"Scoring infectious diseases phase A"]
[null,"Criterion     +                             Infectious disease","A1a severity of the disease: CFR","A1b severity of the disease; degree of illness","A2 incidence","A3 risk of outbreak","A4 consequences for daily life","A5 cost of the infectious disease","A6 chance of public anxiety","A7 possibility of primary prevention","A8 possiblity of actions to                 prevent futher contamination","A9 vaccination coverage","Total score","Ranking order"]
[]
[null,"mumps",1,1,5,5,1,0,1,5,5,10,{"$f":"SUM(C4:L4)","v":34},{"$f":"IF(COUNTA(C4:L4)=10,RANK(M4,$M$4:$M$60),101)","v":16},null,{"$f":"C2","v":"A1a severity of the disease: CFR"},1,5,10]
[null,"erythema inf.",1,1,10,10,1,0,2,0,0,5,{"$f":"SUM(C5:L5)","v":30},{"$f":"IF(COUNTA(C5:L5)=10,RANK(M5,$M$4:$M$60),101)","v":21}]
[null,"gastroenteritis",1,1,20,10,1,0,1,5,3,5,47,6,null,{"$f":"D2","v":"A1b severity of the disease; degree of illness"},1,5,10]
[null,"hantavirus",5,5,null,1,5,1,2,5,3,5,32,101]
[null,"hepatitis A",1,5,5,5,5,1,2,10,5,null,39,101,null,{"$f":"E2","v":"A2 incidence"},0,5,10,20]
[null,"hepatitis B",5,5,null,5,5,3,1,10,5,null,39,101]
[null,"hepatitis C",10,10,null,1,5,3,1,5,3,5,43,101,null,{"$f":"F2","v":"A3 risk of outbreak"},1,5,10]
[null,"invasive streptococcal inf.",10,10,5,1,10,3,1,0,3,5,48,4]
[null,"influenza",5,5,20,10,5,1,1,5,3,null,55,101,null,{"$f":"G2","v":"A4 consequences for daily life"},1,5,10]
[null,"impetigo",1,1,20,10,1,0,1,0,3,5,42,10]
[null,"whooping cough",1,5,20,10,5,0,1,5,3,null,50,101,null,{"$f":"H2","v":"A5 cost of the infectious disease"},0,1,3]
[null,"legionellosis",10,10,5,5,10,3,3,5,3,5,{"$f":"SUM(C15:L15)","v":59},1]
[null,"lyme disease",5,5,null,1,5,0,1,5,0,5,27,101,null,{"$f":"I2","v":"A6 chance of public anxiety"},1,2,3]
[null,"malaria",5,5,0,1,5,1,1,10,0,5,33,17]
[null,"measles",5,10,null,null,1,0,null,10,3,null,29,101,null,{"$f":"J2","v":"A7 possibility of primary prevention"},0,5,10]
[null,"meningococcal disease",10,10,5,1,10,3,2,0,3,null,44,101]
[null,"MRSA (staphylococcus aureus)",5,5,5,5,5,1,1,0,3,5,35,15,null,{"$f":"K2","v":"A8 possiblity of actions to                 prevent futher contamination"},0,3,5]
[null,"psittacosis",5,5,5,1,5,1,1,0,3,5,31,19]
[null,"Q fever",5,10,null,5,5,1,null,5,3,5,39,101,null,"A9 vaccination coverage of Community Vaccination Programs diseases",1,10,5]
[null,"RS-virus",1,5,20,10,1,0,1,0,0,5,43,8]
[null,"rabies",10,10,0,1,10,3,1,10,3,null,48,101,null,"A9 vaccination coverage of not Community Vaccination Programs diseases",1,10,5]
[null,"rubella",1,1,null,null,1,0,null,10,3,null,16,101]
[null,"scabies",1,1,null,5,5,0,2,0,5,5,24,101]
[null,"shigellosis ",1,5,null,5,5,1,1,5,3,5,31,101]
[null,"chickenpox",1,1,20,10,1,0,1,5,0,null,39,101]
[null,null,null,null,null,null,null,null,null,null,null,null,0,101]
[null,null,null,null,null,null,null,null,null,null,null,null,0,101]
[null,null,null,null,null,null,null,null,null,null,null,null,0,101]
[null,null,null,null,null,null,null,null,null,null,null,null,0,101]
[null,null,null,null,null,null,null,null,null,null,null,null,0,101]
[null,null,null,null,null,null,null,null,null,null,null,null,0,101]
[null,null,null,null,null,null,null,null,null,null,null,null,0,101]
[null,null,null,null,null,null,null,null,null,null,null,null,0,{"$f":"IF(COUNTA(C36:L36)=10,RANK(M36,$M$4:$M$60),101)","v":101}]
[null,null,null,null,null,null,null,null,null,null,null,null,0,101]
[null,null,null,null,null,null,null,null,null,null,null,null,0,101]
[null,null,null,null,null,null,null,null,null,null,null,null,0,101]
[null,null,null,null,null,null,null,null,null,null,null,null,0,101]
[null,null,null,null,null,null,null,null,null,null,null,null,0,101]
[null,null,null,null,null,null,null,null,null,null,null,null,{"$f":"SUM(C42:L42)","v":0},101]
[null,null,null,null,null,null,null,null,null,null,null,null,0,101]
[null,null,null,null,null,null,null,null,null,null,null,null,0,101]
[null,null,null,null,null,null,null,null,null,null,null,null,0,101]
[null,null,null,null,null,null,null,null,null,null,null,null,0,101]
[null,null,null,null,null,null,null,null,null,null,null,null,0,101]
[null,null,null,null,null,null,null,null,null,null,null,null,0,101]
[null,null,null,null,null,null,null,null,null,null,null,null,0,101]
[null,null,null,null,null,null,null,null,null,null,null,null,0,101]
[null,null,null,null,null,null,null,null,null,null,null,null,0,101]
[null,null,null,null,null,null,null,null,null,null,null,null,0,101]
[null,null,null,null,null,null,null,null,null,null,null,null,0,101]
[null,null,null,null,null,null,null,null,null,null,null,null,0,101]
[null,null,null,null,null,null,null,null,null,null,null,null,0,101]
[null,null,null,null,null,null,null,null,null,null,null,null,0,101]
[null,null,null,null,null,null,null,null,null,null,null,null,0,101]
[null,null,null,null,null,null,null,null,null,null,null,null,0,101]
[null,null,null,null,null,null,null,null,null,null,null,null,0,101]
[null,null,null,null,null,null,null,null,null,null,null,null,0,101]

{"sheet":"explanation phase B","index":6,"n_rows":0,"n_cols":0,"rows_kept":0,"cut":false,"hidden":false,"merged":[]}

{"sheet":"phase B1","index":7,"n_rows":31,"n_cols":16,"rows_kept":31,"cut":false,"hidden":false,"merged":[]}
[null,"phase B1","Score Infectious disease:"]
[]
[null,"Group at risk","B1 size of the group at risk","B2 chance of contamination","B3a the ability to influence","B3b accessability","B4 community acceptance ","B5 clustering of risks","B6 need for information","B7 existing quid lines","B8 available interventions","total score ","ranking order"]
[]
[null,null,null,null,null,null,null,null,null,null,null,{"$f":"SUM(C5:K5)","v":0},{"$f":"IF(COUNTA(C5:K5)=9,RANK(L5,$L$5:$L$24),101)","v":101},null,{"$f":"C3","v":"B1 size of the group at risk"},0]
[null,null,null,null,null,null,null,null,null,null,null,0,101,null,null,3]
[null,null,null,null,null,null,null,null,null,null,null,0,101,null,null,5]
[null,null,null,null,null,null,null,null,null,null,null,0,101,null,{"$f":"D3","v":"B2 chance of contamination"},1]
[null,null,null,null,null,null,null,null,null,null,null,0,101,null,null,3]
[null,null,null,null,null,null,null,null,null,null,null,0,101,null,null,5]
[null,null,null,null,null,null,null,null,null,null,null,0,101,null,{"$f":"E3","v":"B3a the ability to influence"},-9.9]
[null,null,null,null,null,null,null,null,null,null,null,0,101,null,null,3]
[null,null,null,null,null,null,null,null,null,null,null,0,101,null,null,5]
[null,null,null,null,null,null,null,null,null,null,null,0,101,null,{"$f":"F3","v":"B3b accessability"},0]
[null,null,null,null,null,null,null,null,null,null,null,0,101,null,null,3]
[null,null,null,null,null,null,null,null,null,null,null,0,101,null,null,5]
[null,null,null,null,null,null,null,null,null,null,null,0,101,null,{"$f":"G3","v":"B4 community acceptance "},1]
[null,null,null,null,null,null,null,null,null,null,null,0,101,null,null,2]
[null,null,null,null,null,null,null,null,null,null,null,0,101,null,null,3]
[null,null,null,null,null,null,null,null,null,null,null,0,101,null,{"$f":"H3","v":"B5 clustering of risks"},0]
[null,null,null,null,null,null,null,null,null,null,null,0,101,null,null,1]
[null,null,null,null,null,null,null,null,null,null,null,0,101,null,null,3]
[null,null,null,null,null,null,null,null,null,null,null,0,101,null,{"$f":"I3","v":"B6 need for information"},0]
[null,null,null,null,null,null,null,null,null,null,null,0,101,null,null,1]
[null,null,null,null,null,null,null,null,null,null,null,null,null,null,null,3]
[null,null,null,null,null,null,null,null,null,null,null,null,null,null,{"$f":"J3","v":"B7 existing quid lines"},0]
[null,null,null,null,null,null,null,null,null,null,null,null,null,null,null,5]
[null,null,null,null,null,null,null,null,null,null,null,null,null,null,null,10]
[null,null,null,null,null,null,null,null,null,null,null,null,null,null,{"$f":"K3","v":"B8 available interventions"},0]
[null,null,null,null,null,null,null,null,null,null,null,null,null,null,null,1]
[null,null,null,null,null,null,null,null,null,null,null,null,null,null,null,3]

{"sheet":"phase B2","index":8,"n_rows":31,"n_cols":16,"rows_kept":31,"cut":false,"hidden":false,"merged":[]}
[null,"phase B2","Score Infectious disease:"]
[]
[null,"Group at risk","B1 size of the group at risk","B2 chance of contamination","B3a the ability to influence","B3b accessability","B4 community acceptance ","B5 clustering of risks","B6 need for information","B7 existing quid lines","B8 available interventions","total score ","ranking order"]
[]
[null,null,null,null,null,null,null,null,null,null,null,{"$f":"SUM(C5:K5)","v":0},{"$f":"IF(COUNTA(C5:K5)=9,RANK(L5,$L$5:$L$24),101)","v":101},null,{"$f":"C3","v":"B1 size of the group at risk"},0]
[null,null,null,null,null,null,null,null,null,null,null,0,101,null,null,3]
[null,null,null,null,null,null,null,null,null,null,null,0,101,null,null,5]
[null,null,null,null,null,null,null,null,null,null,null,0,101,null,{"$f":"D3","v":"B2 chance of contamination"},1]
[null,null,null,null,null,null,null,null,null,null,null,0,101,null,null,3]
[null,null,null,null,null,null,null,null,null,null,null,0,101,null,null,5]
[null,null,null,null,null,null,null,null,null,null,null,0,101,null,{"$f":"E3","v":"B3a the ability to influence"},-9.9]
[null,null,null,null,null,null,null,null,null,null,null,0,101,null,null,3]
[null,null,null,null,null,null,null,null,null,null,null,0,101,null,null,5]
[null,null,null,null,null,null,null,null,null,null,null,0,101,null,{"$f":"F3","v":"B3b accessability"},0]
[null,null,null,null,null,null,null,null,null,null,null,0,101,null,null,3]
[null,null,null,null,null,null,null,null,null,null,null,0,101,null,null,5]
[null,null,null,null,null,null,null,null,null,null,null,0,101,null,{"$f":"G3","v":"B4 community acceptance "},1]
[null,null,null,null,null,null,null,null,null,null,null,0,101,null,null,2]
[null,null,null,null,null,null,null,null,null,null,null,0,101,null,null,3]
[null,null,null,null,null,null,null,null,null,null,null,0,101,null,{"$f":"H3","v":"B5 clustering of risks"},0]
[null,null,null,null,null,null,null,null,null,null,null,0,101,null,null,1]
[null,null,null,null,null,null,null,null,null,null,null,0,101,null,null,3]
[null,null,null,null,null,null,null,null,null,null,null,0,101,null,{"$f":"I3","v":"B6 need for information"},0]
[null,null,null,null,null,null,null,null,null,null,null,0,101,null,null,1]
[null,null,null,null,null,null,null,null,null,null,null,null,null,null,null,3]
[null,null,null,null,null,null,null,null,null,null,null,null,null,null,{"$f":"J3","v":"B7 existing quid lines"},0]
[null,null,null,null,null,null,null,null,null,null,null,null,null,null,null,5]
[null,null,null,null,null,null,null,null,null,null,null,null,null,null,null,10]
[null,null,null,null,null,null,null,null,null,null,null,null,null,null,{"$f":"K3","v":"B8 available interventions"},0]
[null,null,null,null,null,null,null,null,null,null,null,null,null,null,null,1]
[null,null,null,null,null,null,null,null,null,null,null,null,null,null,null,3]

{"sheet":"phase B3","index":9,"n_rows":31,"n_cols":16,"rows_kept":31,"cut":false,"hidden":false,"merged":[]}
[null,"phase B3","Score Infectious disease:"]
[]
[null,"Group at risk","B1 size of the group at risk","B2 chance of contamination","B3a the ability to influence","B3b accessability","B4 community acceptance ","B5 clustering of risks","B6 need for information","B7 existing quid lines","B8 available interventions","total score ","ranking order"]
[]
[null,null,null,null,null,null,null,null,null,null,null,{"$f":"SUM(C5:K5)","v":0},{"$f":"IF(COUNTA(C5:K5)=9,RANK(L5,$L$5:$L$24),101)","v":101},null,{"$f":"C3","v":"B1 size of the group at risk"},0]
[null,null,null,null,null,null,null,null,null,null,null,0,101,null,null,3]
[null,null,null,null,null,null,null,null,null,null,null,0,101,null,null,5]
[null,null,null,null,null,null,null,null,null,null,null,0,101,null,{"$f":"D3","v":"B2 chance of contamination"},1]
[null,null,null,null,null,null,null,null,null,null,null,0,101,null,null,3]
[null,null,null,null,null,null,null,null,null,null,null,0,101,null,null,5]
[null,null,null,null,null,null,null,null,null,null,null,0,101,null,{"$f":"E3","v":"B3a the ability to influence"},-9.9]
[null,null,null,null,null,null,null,null,null,null,null,0,101,null,null,3]
[null,null,null,null,null,null,null,null,null,null,null,0,101,null,null,5]
[null,null,null,null,null,null,null,null,null,null,null,0,101,null,{"$f":"F3","v":"B3b accessability"},0]
[null,null,null,null,null,null,null,null,null,null,null,0,101,null,null,3]
[null,null,null,null,null,null,null,null,null,null,null,0,101,null,null,5]
[null,null,null,null,null,null,null,null,null,null,null,0,101,null,{"$f":"G3","v":"B4 community acceptance "},1]
[null,null,null,null,null,null,null,null,null,null,null,0,101,null,null,2]
[null,null,null,null,null,null,null,null,null,null,null,0,101,null,null,3]
[null,null,null,null,null,null,null,null,null,null,null,0,101,null,{"$f":"H3","v":"B5 clustering of risks"},0]
[null,null,null,null,null,null,null,null,null,null,null,0,101,null,null,1]
[null,null,null,null,null,null,null,null,null,null,null,0,101,null,null,3]
[null,null,null,null,null,null,null,null,null,null,null,0,101,null,{"$f":"I3","v":"B6 need for information"},0]
[null,null,null,null,null,null,null,null,null,null,null,0,101,null,null,1]
[null,null,null,null,null,null,null,null,null,null,null,null,null,null,null,3]
[null,null,null,null,null,null,null,null,null,null,null,null,null,null,{"$f":"J3","v":"B7 existing quid lines"},0]
[null,null,null,null,null,null,null,null,null,null,null,null,null,null,null,5]
[null,null,null,null,null,null,null,null,null,null,null,null,null,null,null,10]
[null,null,null,null,null,null,null,null,null,null,null,null,null,null,{"$f":"K3","v":"B8 available interventions"},0]
[null,null,null,null,null,null,null,null,null,null,null,null,null,null,null,1]
[null,null,null,null,null,null,null,null,null,null,null,null,null,null,null,3]

{"sheet":"phase B4","index":10,"n_rows":31,"n_cols":16,"rows_kept":31,"cut":false,"hidden":false,"merged":[]}
[null,"phase B4","Score Infectious disease:"]
[]
[null,"Group at risk","B1 size of the group at risk","B2 chance of contamination","B3a the ability to influence","B3b accessability","B4 community acceptance ","B5 clustering of risks","B6 need for information","B7 existing quid lines","B8 available interventions","total score ","ranking order"]
[]
[null,null,null,null,null,null,null,null,null,null,null,{"$f":"SUM(C5:K5)","v":0},{"$f":"IF(COUNTA(C5:K5)=9,RANK(L5,$L$5:$L$24),101)","v":101},null,{"$f":"C3","v":"B1 size of the group at risk"},0]
[null,null,null,null,null,null,null,null,null,null,null,0,101,null,null,3]
[null,null,null,null,null,null,null,null,null,null,null,0,101,null,null,5]
[null,null,null,null,null,null,null,null,null,null,null,0,101,null,{"$f":"D3","v":"B2 chance of contamination"},1]
[null,null,null,null,null,null,null,null,null,null,null,0,101,null,null,3]
[null,null,null,null,null,null,null,null,null,null,null,0,101,null,null,5]
[null,null,null,null,null,null,null,null,null,null,null,0,101,null,{"$f":"E3","v":"B3a the ability to influence"},-9.9]
[null,null,null,null,null,null,null,null,null,null,null,0,101,null,null,3]
[null,null,null,null,null,null,null,null,null,null,null,0,101,null,null,5]
[null,null,null,null,null,null,null,null,null,null,null,0,101,null,{"$f":"F3","v":"B3b accessability"},0]
[null,null,null,null,null,null,null,null,null,null,null,0,101,null,null,3]
[null,null,null,null,null,null,null,null,null,null,null,0,101,null,null,5]
[null,null,null,null,null,null,null,null,null,null,null,0,101,null,{"$f":"G3","v":"B4 community acceptance "},1]
[null,null,null,null,null,null,null,null,null,null,null,0,101,null,null,2]
[null,null,null,null,null,null,null,null,null,null,null,0,101,null,null,3]
[null,null,null,null,null,null,null,null,null,null,null,0,101,null,{"$f":"H3","v":"B5 clustering of risks"},0]
[null,null,null,null,null,null,null,null,null,null,null,0,101,null,null,1]
[null,null,null,null,null,null,null,null,null,null,null,0,101,null,null,3]
[null,null,null,null,null,null,null,null,null,null,null,0,101,null,{"$f":"I3","v":"B6 need for information"},0]
[null,null,null,null,null,null,null,null,null,null,null,0,101,null,null,1]
[null,null,null,null,null,null,null,null,null,null,null,null,null,null,null,3]
[null,null,null,null,null,null,null,null,null,null,null,null,null,null,{"$f":"J3","v":"B7 existing quid lines"},0]
[null,null,null,null,null,null,null,null,null,null,null,null,null,null,null,5]
[null,null,null,null,null,null,null,null,null,null,null,null,null,null,null,10]
[null,null,null,null,null,null,null,null,null,null,null,null,null,null,{"$f":"K3","v":"B8 available interventions"},0]
[null,null,null,null,null,null,null,null,null,null,null,null,null,null,null,1]
[null,null,null,null,null,null,null,null,null,null,null,null,null,null,null,3]

{"sheet":"phase B5","index":11,"n_rows":31,"n_cols":16,"rows_kept":31,"cut":false,"hidden":false,"merged":[]}
[null,"phase B5","Score Infectious disease:"]
[]
[null,"Group at risk","B1 size of the group at risk","B2 chance of contamination","B3a the ability to influence","B3b accessability","B4 community acceptance ","B5 clustering of risks","B6 need for information","B7 existing quid lines","B8 available interventions","total score ","ranking order"]
[]
[null,null,null,null,null,null,null,null,null,null,null,{"$f":"SUM(C5:K5)","v":0},{"$f":"IF(COUNTA(C5:K5)=9,RANK(L5,$L$5:$L$24),101)","v":101},null,{"$f":"C3","v":"B1 size of the group at risk"},0]
[null,null,null,null,null,null,null,null,null,null,null,0,101,null,null,3]
[null,null,null,null,null,null,null,null,null,null,null,0,101,null,null,5]
[null,null,null,null,null,null,null,null,null,null,null,0,101,null,{"$f":"D3","v":"B2 chance of contamination"},1]
[null,null,null,null,null,null,null,null,null,null,null,0,101,null,null,3]
[null,null,null,null,null,null,null,null,null,null,null,0,101,null,null,5]
[null,null,null,null,null,null,null,null,null,null,null,0,101,null,{"$f":"E3","v":"B3a the ability to influence"},-9.9]
[null,null,null,null,null,null,null,null,null,null,null,0,101,null,null,3]
[null,null,null,null,null,null,null,null,null,null,null,0,101,null,null,5]
[null,null,null,null,null,null,null,null,null,null,null,0,101,null,{"$f":"F3","v":"B3b accessability"},0]
[null,null,null,null,null,null,null,null,null,null,null,0,101,null,null,3]
[null,null,null,null,null,null,null,null,null,null,null,0,101,null,null,5]
[null,null,null,null,null,null,null,null,null,null,null,0,101,null,{"$f":"G3","v":"B4 community acceptance "},1]
[null,null,null,null,null,null,null,null,null,null,null,0,101,null,null,2]
[null,null,null,null,null,null,null,null,null,null,null,0,101,null,null,3]
[null,null,null,null,null,null,null,null,null,null,null,0,101,null,{"$f":"H3","v":"B5 clustering of risks"},0]
[null,null,null,null,null,null,null,null,null,null,null,0,101,null,null,1]
[null,null,null,null,null,null,null,null,null,null,null,0,101,null,null,3]
[null,null,null,null,null,null,null,null,null,null,null,0,101,null,{"$f":"I3","v":"B6 need for information"},0]
[null,null,null,null,null,null,null,null,null,null,null,0,101,null,null,1]
[null,null,null,null,null,null,null,null,null,null,null,null,null,null,null,3]
[null,null,null,null,null,null,null,null,null,null,null,null,null,null,{"$f":"J3","v":"B7 existing quid lines"},0]
[null,null,null,null,null,null,null,null,null,null,null,null,null,null,null,5]
[null,null,null,null,null,null,null,null,null,null,null,null,null,null,null,10]
[null,null,null,null,null,null,null,null,null,null,null,null,null,null,{"$f":"K3","v":"B8 available interventions"},0]
[null,null,null,null,null,null,null,null,null,null,null,null,null,null,null,1]
[null,null,null,null,null,null,null,null,null,null,null,null,null,null,null,3]

{"sheet":"phase B6","index":12,"n_rows":31,"n_cols":16,"rows_kept":31,"cut":false,"hidden":false,"merged":[]}
[null,"phase B6","Score Infectious disease:"]
[]
[null,"Group at risk","B1 size of the group at risk","B2 chance of contamination","B3a the ability to influence","B3b accessability","B4 community acceptance ","B5 clustering of risks","B6 need for information","B7 existing quid lines","B8 available interventions","total score ","ranking order"]
[]
[null,null,null,null,null,null,null,null,null,null,null,{"$f":"SUM(C5:K5)","v":0},{"$f":"IF(COUNTA(C5:K5)=9,RANK(L5,$L$5:$L$24),101)","v":101},null,null,0]
[null,null,null,null,null,null,null,null,null,null,null,0,101,null,null,3]
[null,null,null,null,null,null,null,null,null,null,null,0,101,null,null,5]
[null,null,null,null,null,null,null,null,null,null,null,0,101,null,{"$f":"D3","v":"B2 chance of contamination"},1]
[null,null,null,null,null,null,null,null,null,null,null,0,101,null,null,3]
[null,null,null,null,null,null,null,null,null,null,null,0,101,null,null,5]
[null,null,null,null,null,null,null,null,null,null,null,0,101,null,{"$f":"E3","v":"B3a the ability to influence"},-9.9]
[null,null,null,null,null,null,null,null,null,null,null,0,101,null,null,3]
[null,null,null,null,null,null,null,null,null,null,null,0,101,null,null,5]
[null,null,null,null,null,null,null,null,null,null,null,0,101,null,{"$f":"F3","v":"B3b accessability"},0]
[null,null,null,null,null,null,null,null,null,null,null,0,101,null,null,3]
[null,null,null,null,null,null,null,null,null,null,null,0,101,null,null,5]
[null,null,null,null,null,null,null,null,null,null,null,0,101,null,{"$f":"G3","v":"B4 community acceptance "},1]
[null,null,null,null,null,null,null,null,null,null,null,0,101,null,null,2]
[null,null,null,null,null,null,null,null,null,null,null,0,101,null,null,3]
[null,null,null,null,null,null,null,null,null,null,null,0,101,null,{"$f":"H3","v":"B5 clustering of risks"},0]
[null,null,null,null,null,null,null,null,null,null,null,0,101,null,null,1]
[null,null,null,null,null,null,null,null,null,null,null,0,101,null,null,3]
[null,null,null,null,null,null,null,null,null,null,null,0,101,null,{"$f":"I3","v":"B6 need for information"},0]
[null,null,null,null,null,null,null,null,null,null,null,0,101,null,null,1]
[null,null,null,null,null,null,null,null,null,null,null,null,null,null,null,3]
[null,null,null,null,null,null,null,null,null,null,null,null,null,null,{"$f":"J3","v":"B7 existing quid lines"},0]
[null,null,null,null,null,null,null,null,null,null,null,null,null,null,null,5]
[null,null,null,null,null,null,null,null,null,null,null,null,null,null,null,10]
[null,null,null,null,null,null,null,null,null,null,null,null,null,null,{"$f":"K3","v":"B8 available interventions"},0]
[null,null,null,null,null,null,null,null,null,null,null,null,null,null,null,1]
[null,null,null,null,null,null,null,null,null,null,null,null,null,null,null,3]

{"sheet":"phase B7","index":13,"n_rows":31,"n_cols":16,"rows_kept":31,"cut":false,"hidden":false,"merged":[]}
[null,"phase B7","Score Infectious disease:"]
[]
[null,"Group at risk","B1 size of the group at risk","B2 chance of contamination","B3a the ability to influence","B3b accessability","B4 community acceptance ","B5 clustering of risks","B6 need for information","B7 existing quid lines","B8 available interventions","total score ","ranking order"]
[]
[null,null,null,null,null,null,null,null,null,null,null,{"$f":"SUM(C5:K5)","v":0},{"$f":"IF(COUNTA(C5:K5)=9,RANK(L5,$L$5:$L$24),101)","v":101},null,{"$f":"C3","v":"B1 size of the group at risk"},0]
[null,null,null,null,null,null,null,null,null,null,null,0,101,null,null,3]
[null,null,null,null,null,null,null,null,null,null,null,0,101,null,null,5]
[null,null,null,null,null,null,null,null,null,null,null,0,101,null,{"$f":"D3","v":"B2 chance of contamination"},1]
[null,null,null,null,null,null,null,null,null,null,null,0,101,null,null,3]
[null,null,null,null,null,null,null,null,null,null,null,0,101,null,null,5]
[null,null,null,null,null,null,null,null,null,null,null,0,101,null,{"$f":"E3","v":"B3a the ability to influence"},-9.9]
[null,null,null,null,null,null,null,null,null,null,null,0,101,null,null,3]
[null,null,null,null,null,null,null,null,null,null,null,0,101,null,null,5]
[null,null,null,null,null,null,null,null,null,null,null,0,101,null,{"$f":"F3","v":"B3b accessability"},0]
[null,null,null,null,null,null,null,null,null,null,null,0,101,null,null,3]
[null,null,null,null,null,null,null,null,null,null,null,0,101,null,null,5]
[null,null,null,null,null,null,null,null,null,null,null,0,101,null,{"$f":"G3","v":"B4 community acceptance "},1]
[null,null,null,null,null,null,null,null,null,null,null,0,101,null,null,2]
[null,null,null,null,null,null,null,null,null,null,null,0,101,null,null,3]
[null,null,null,null,null,null,null,null,null,null,null,0,101,null,{"$f":"H3","v":"B5 clustering of risks"},0]
[null,null,null,null,null,null,null,null,null,null,null,0,101,null,null,1]
[null,null,null,null,null,null,null,null,null,null,null,0,101,null,null,3]
[null,null,null,null,null,null,null,null,null,null,null,0,101,null,{"$f":"I3","v":"B6 need for information"},0]
[null,null,null,null,null,null,null,null,null,null,null,0,101,null,null,1]
[null,null,null,null,null,null,null,null,null,null,null,null,null,null,null,3]
[null,null,null,null,null,null,null,null,null,null,null,null,null,null,{"$f":"J3","v":"B7 existing quid lines"},0]
[null,null,null,null,null,null,null,null,null,null,null,null,null,null,null,5]
[null,null,null,null,null,null,null,null,null,null,null,null,null,null,null,10]
[null,null,null,null,null,null,null,null,null,null,null,null,null,null,{"$f":"K3","v":"B8 available interventions"},0]
[null,null,null,null,null,null,null,null,null,null,null,null,null,null,null,1]
[null,null,null,null,null,null,null,null,null,null,null,null,null,null,null,3]

{"sheet":"phase B8","index":14,"n_rows":31,"n_cols":16,"rows_kept":31,"cut":false,"hidden":false,"merged":[]}
[null,"phase B8","Score Infectious disease:"]
[]
[null,"Group at risk","B1 size of the group at risk","B2 chance of contamination","B3a the ability to influence","B3b accessability","B4 community acceptance ","B5 clustering of risks","B6 need for information","B7 existing quid lines","B8 available interventions","total score ","ranking order"]
[]
[null,null,null,null,null,null,null,null,null,null,null,{"$f":"SUM(C5:K5)","v":0},{"$f":"IF(COUNTA(C5:K5)=9,RANK(L5,$L$5:$L$24),101)","v":101},null,{"$f":"C3","v":"B1 size of the group at risk"},0]
[null,null,null,null,null,null,null,null,null,null,null,0,101,null,null,3]
[null,null,null,null,null,null,null,null,null,null,null,0,101,null,null,5]
[null,null,null,null,null,null,null,null,null,null,null,0,101,null,{"$f":"D3","v":"B2 chance of contamination"},1]
[null,null,null,null,null,null,null,null,null,null,null,0,101,null,null,3]
[null,null,null,null,null,null,null,null,null,null,null,0,101,null,null,5]
[null,null,null,null,null,null,null,null,null,null,null,0,101,null,{"$f":"E3","v":"B3a the ability to influence"},-9.9]
[null,null,null,null,null,null,null,null,null,null,null,0,101,null,null,3]
[null,null,null,null,null,null,null,null,null,null,null,0,101,null,null,5]
[null,null,null,null,null,null,null,null,null,null,null,0,101,null,{"$f":"F3","v":"B3b accessability"},0]
[null,null,null,null,null,null,null,null,null,null,null,0,101,null,null,3]
[null,null,null,null,null,null,null,null,null,null,null,0,101,null,null,5]
[null,null,null,null,null,null,null,null,null,null,null,0,101,null,{"$f":"G3","v":"B4 community acceptance "},1]
[null,null,null,null,null,null,null,null,null,null,null,0,101,null,null,2]
[null,null,null,null,null,null,null,null,null,null,null,0,101,null,null,3]
[null,null,null,null,null,null,null,null,null,null,null,0,101,null,{"$f":"H3","v":"B5 clustering of risks"},0]
[null,null,null,null,null,null,null,null,null,null,null,0,101,null,null,1]
[null,null,null,null,null,null,null,null,null,null,null,0,101,null,null,3]
[null,null,null,null,null,null,null,null,null,null,null,0,101,null,{"$f":"I3","v":"B6 need for information"},0]
[null,null,null,null,null,null,null,null,null,null,null,0,101,null,null,1]
[null,null,null,null,null,null,null,null,null,null,null,null,null,null,null,3]
[null,null,null,null,null,null,null,null,null,null,null,null,null,null,{"$f":"J3","v":"B7 existing quid lines"},0]
[null,null,null,null,null,null,null,null,null,null,null,null,null,null,null,5]
[null,null,null,null,null,null,null,null,null,null,null,null,null,null,null,10]
[null,null,null,null,null,null,null,null,null,null,null,null,null,null,{"$f":"K3","v":"B8 available interventions"},0]
[null,null,null,null,null,null,null,null,null,null,null,null,null,null,null,1]
[null,null,null,null,null,null,null,null,null,null,null,null,null,null,null,3]

{"sheet":"phase B9","index":15,"n_rows":31,"n_cols":16,"rows_kept":31,"cut":false,"hidden":false,"merged":[]}
[null,"phase B9","Score Infectious disease:"]
[]
[null,"Group at risk","B1 size of the group at risk","B2 chance of contamination","B3a the ability to influence","B3b accessability","B4 community acceptance ","B5 clustering of risks","B6 need for information","B7 existing quid lines","B8 available interventions","total score ","ranking order"]
[]
[null,null,null,null,null,null,null,null,null,null,null,{"$f":"SUM(C5:K5)","v":0},{"$f":"IF(COUNTA(C5:K5)=9,RANK(L5,$L$5:$L$24),101)","v":101},null,{"$f":"C3","v":"B1 size of the group at risk"},0]
[null,null,null,null,null,null,null,null,null,null,null,0,101,null,null,3]
[null,null,null,null,null,null,null,null,null,null,null,0,101,null,null,5]
[null,null,null,null,null,null,null,null,null,null,null,0,101,null,{"$f":"D3","v":"B2 chance of contamination"},1]
[null,null,null,null,null,null,null,null,null,null,null,0,101,null,null,3]
[null,null,null,null,null,null,null,null,null,null,null,0,101,null,null,5]
[null,null,null,null,null,null,null,null,null,null,null,0,101,null,{"$f":"E3","v":"B3a the ability to influence"},-9.9]
[null,null,null,null,null,null,null,null,null,null,null,0,101,null,null,3]
[null,null,null,null,null,null,null,null,null,null,null,0,101,null,null,5]
[null,null,null,null,null,null,null,null,null,null,null,0,101,null,{"$f":"F3","v":"B3b accessability"},0]
[null,null,null,null,null,null,null,null,null,null,null,0,101,null,null,3]
[null,null,null,null,null,null,null,null,null,null,null,0,101,null,null,5]
[null,null,null,null,null,null,null,null,null,null,null,0,101,null,{"$f":"G3","v":"B4 community acceptance "},1]
[null,null,null,null,null,null,null,null,null,null,null,0,101,null,null,2]
[null,null,null,null,null,null,null,null,null,null,null,0,101,null,null,3]
[null,null,null,null,null,null,null,null,null,null,null,0,101,null,{"$f":"H3","v":"B5 clustering of risks"},0]
[null,null,null,null,null,null,null,null,null,null,null,0,101,null,null,1]
[null,null,null,null,null,null,null,null,null,null,null,0,101,null,null,3]
[null,null,null,null,null,null,null,null,null,null,null,0,101,null,{"$f":"I3","v":"B6 need for information"},0]
[null,null,null,null,null,null,null,null,null,null,null,0,101,null,null,1]
[null,null,null,null,null,null,null,null,null,null,null,null,null,null,null,3]
[null,null,null,null,null,null,null,null,null,null,null,null,null,null,{"$f":"J3","v":"B7 existing quid lines"},0]
[null,null,null,null,null,null,null,null,null,null,null,null,null,null,null,5]
[null,null,null,null,null,null,null,null,null,null,null,null,null,null,null,10]
[null,null,null,null,null,null,null,null,null,null,null,null,null,null,{"$f":"K3","v":"B8 available interventions"},0]
[null,null,null,null,null,null,null,null,null,null,null,null,null,null,null,1]
[null,null,null,null,null,null,null,null,null,null,null,null,null,null,null,3]

{"sheet":"phase B10","index":16,"n_rows":31,"n_cols":16,"rows_kept":31,"cut":false,"hidden":false,"merged":[]}
[null,"phase B10","Score Infectious disease:"]
[]
[null,"Group at risk","B1 size of the group at risk","B2 chance of contamination","B3a the ability to influence","B3b accessability","B4 community acceptance ","B5 clustering of risks","B6 need for information","B7 existing quid lines","B8 available interventions","total score ","ranking order"]
[]
[null,null,null,null,null,null,null,null,null,null,null,{"$f":"SUM(C5:K5)","v":0},{"$f":"IF(COUNTA(C5:K5)=9,RANK(L5,$L$5:$L$24),101)","v":101},null,{"$f":"C3","v":"B1 size of the group at risk"},0]
[null,null,null,null,null,null,null,null,null,null,null,0,101,null,null,3]
[null,null,null,null,null,null,null,null,null,null,null,0,101,null,null,5]
[null,null,null,null,null,null,null,null,null,null,null,0,101,null,{"$f":"D3","v":"B2 chance of contamination"},1]
[null,null,null,null,null,null,null,null,null,null,null,0,101,null,null,3]
[null,null,null,null,null,null,null,null,null,null,null,0,101,null,null,5]
[null,null,null,null,null,null,null,null,null,null,null,0,101,null,{"$f":"E3","v":"B3a the ability to influence"},-9.9]
[null,null,null,null,null,null,null,null,null,null,null,0,101,null,null,3]
[null,null,null,null,null,null,null,null,null,null,null,0,101,null,null,5]
[null,null,null,null,null,null,null,null,null,null,null,0,101,null,{"$f":"F3","v":"B3b accessability"},0]
[null,null,null,null,null,null,null,null,null,null,null,0,101,null,null,3]
[null,null,null,null,null,null,null,null,null,null,null,0,101,null,null,5]
[null,null,null,null,null,null,null,null,null,null,null,0,101,null,{"$f":"G3","v":"B4 community acceptance "},1]
[null,null,null,null,null,null,null,null,null,null,null,0,101,null,null,2]
[null,null,null,null,null,null,null,null,null,null,null,0,101,null,null,3]
[null,null,null,null,null,null,null,null,null,null,null,0,101,null,{"$f":"H3","v":"B5 clustering of risks"},0]
[null,null,null,null,null,null,null,null,null,null,null,0,101,null,null,1]
[null,null,null,null,null,null,null,null,null,null,null,0,101,null,null,3]
[null,null,null,null,null,null,null,null,null,null,null,0,101,null,{"$f":"I3","v":"B6 need for information"},0]
[null,null,null,null,null,null,null,null,null,null,null,0,101,null,null,1]
[null,null,null,null,null,null,null,null,null,null,null,null,null,null,null,3]
[null,null,null,null,null,null,null,null,null,null,null,null,null,null,{"$f":"J3","v":"B7 existing quid lines"},0]
[null,null,null,null,null,null,null,null,null,null,null,null,null,null,null,5]
[null,null,null,null,null,null,null,null,null,null,null,null,null,null,null,10]
[null,null,null,null,null,null,null,null,null,null,null,null,null,null,{"$f":"K3","v":"B8 available interventions"},0]
[null,null,null,null,null,null,null,null,null,null,null,null,null,null,null,1]
[null,null,null,null,null,null,null,null,null,null,null,null,null,null,null,3]

{"sheet":"phase B11","index":17,"n_rows":31,"n_cols":16,"rows_kept":31,"cut":false,"hidden":false,"merged":[]}
[null,"phase B11","Score Infectious disease:"]
[]
[null,"Group at risk","B1 size of the group at risk","B2 chance of contamination","B3a the ability to influence","B3b accessability","B4 community acceptance ","B5 clustering of risks","B6 need for information","B7 existing quid lines","B8 available interventions","total score ","ranking order"]
[]
[null,null,null,null,null,null,null,null,null,null,null,{"$f":"SUM(C5:K5)","v":0},{"$f":"IF(COUNTA(C5:K5)=9,RANK(L5,$L$5:$L$24),101)","v":101},null,{"$f":"C3","v":"B1 size of the group at risk"},0]
[null,null,null,null,null,null,null,null,null,null,null,0,101,null,null,3]
[null,null,null,null,null,null,null,null,null,null,null,0,101,null,null,5]
[null,null,null,null,null,null,null,null,null,null,null,0,101,null,{"$f":"D3","v":"B2 chance of contamination"},1]
[null,null,null,null,null,null,null,null,null,null,null,0,101,null,null,3]
[null,null,null,null,null,null,null,null,null,null,null,0,101,null,null,5]
[null,null,null,null,null,null,null,null,null,null,null,0,101,null,{"$f":"E3","v":"B3a the ability to influence"},-9.9]
[null,null,null,null,null,null,null,null,null,null,null,0,101,null,null,3]
[null,null,null,null,null,null,null,null,null,null,null,0,101,null,null,5]
[null,null,null,null,null,null,null,null,null,null,null,0,101,null,{"$f":"F3","v":"B3b accessability"},0]
[null,null,null,null,null,null,null,null,null,null,null,0,101,null,null,3]
[null,null,null,null,null,null,null,null,null,null,null,0,101,null,null,5]
[null,null,null,null,null,null,null,null,null,null,null,0,101,null,{"$f":"G3","v":"B4 community acceptance "},1]
[null,null,null,null,null,null,null,null,null,null,null,0,101,null,null,2]
[null,null,null,null,null,null,null,null,null,null,null,0,101,null,null,3]
[null,null,null,null,null,null,null,null,null,null,null,0,101,null,{"$f":"H3","v":"B5 clustering of risks"},0]
[null,null,null,null,null,null,null,null,null,null,null,0,101,null,null,1]
[null,null,null,null,null,null,null,null,null,null,null,0,101,null,null,3]
[null,null,null,null,null,null,null,null,null,null,null,0,101,null,{"$f":"I3","v":"B6 need for information"},0]
[null,null,null,null,null,null,null,null,null,null,null,0,101,null,null,1]
[null,null,null,null,null,null,null,null,null,null,null,null,null,null,null,3]
[null,null,null,null,null,null,null,null,null,null,null,null,null,null,{"$f":"J3","v":"B7 existing quid lines"},0]
[null,null,null,null,null,null,null,null,null,null,null,null,null,null,null,5]
[null,null,null,null,null,null,null,null,null,null,null,null,null,null,null,10]
[null,null,null,null,null,null,null,null,null,null,null,null,null,null,{"$f":"K3","v":"B8 available interventions"},0]
[null,null,null,null,null,null,null,null,null,null,null,null,null,null,null,1]
[null,null,null,null,null,null,null,null,null,null,null,null,null,null,null,3]

{"sheet":"phase B12","index":18,"n_rows":31,"n_cols":16,"rows_kept":31,"cut":false,"hidden":false,"merged":[]}
[null,"phase B12","Score Infectious disease:"]
[]
[null,"Group at risk","B1 size of the group at risk","B2 chance of contamination","B3a the ability to influence","B3b accessability","B4 community acceptance ","B5 clustering of risks","B6 need for information","B7 existing quid lines","B8 available interventions","total score ","ranking order"]
[]
[null,null,null,null,null,null,null,null,null,null,null,{"$f":"SUM(C5:K5)","v":0},{"$f":"IF(COUNTA(C5:K5)=9,RANK(L5,$L$5:$L$24),101)","v":101},null,{"$f":"C3","v":"B1 size of the group at risk"},0]
[null,null,null,null,null,null,null,null,null,null,null,0,101,null,null,3]
[null,null,null,null,null,null,null,null,null,null,null,0,101,null,null,5]
[null,null,null,null,null,null,null,null,null,null,null,0,101,null,{"$f":"D3","v":"B2 chance of contamination"},1]
[null,null,null,null,null,null,null,null,null,null,null,0,101,null,null,3]
[null,null,null,null,null,null,null,null,null,null,null,0,101,null,null,5]
[null,null,null,null,null,null,null,null,null,null,null,0,101,null,{"$f":"E3","v":"B3a the ability to influence"},-9.9]
[null,null,null,null,null,null,null,null,null,null,null,0,101,null,null,3]
[null,null,null,null,null,null,null,null,null,null,null,0,101,null,null,5]
[null,null,null,null,null,null,null,null,null,null,null,0,101,null,{"$f":"F3","v":"B3b accessability"},0]
[null,null,null,null,null,null,null,null,null,null,null,0,101,null,null,3]
[null,null,null,null,null,null,null,null,null,null,null,0,101,null,null,5]
[null,null,null,null,null,null,null,null,null,null,null,0,101,null,{"$f":"G3","v":"B4 community acceptance "},1]
[null,null,null,null,null,null,null,null,null,null,null,0,101,null,null,2]
[null,null,null,null,null,null,null,null,null,null,null,0,101,null,null,3]
[null,null,null,null,null,null,null,null,null,null,null,0,101,null,{"$f":"H3","v":"B5 clustering of risks"},0]
[null,null,null,null,null,null,null,null,null,null,null,0,101,null,null,1]
[null,null,null,null,null,null,null,null,null,null,null,0,101,null,null,3]
[null,null,null,null,null,null,null,null,null,null,null,0,101,null,{"$f":"I3","v":"B6 need for information"},0]
[null,null,null,null,null,null,null,null,null,null,null,0,101,null,null,1]
[null,null,null,null,null,null,null,null,null,null,null,null,null,null,null,3]
[null,null,null,null,null,null,null,null,null,null,null,null,null,null,{"$f":"J3","v":"B7 existing quid lines"},0]
[null,null,null,null,null,null,null,null,null,null,null,null,null,null,null,5]
[null,null,null,null,null,null,null,null,null,null,null,null,null,null,null,10]
[null,null,null,null,null,null,null,null,null,null,null,null,null,null,{"$f":"K3","v":"B8 available interventions"},0]
[null,null,null,null,null,null,null,null,null,null,null,null,null,null,null,1]
[null,null,null,null,null,null,null,null,null,null,null,null,null,null,null,3]

{"sheet":"phase B13","index":19,"n_rows":31,"n_cols":16,"rows_kept":31,"cut":false,"hidden":false,"merged":[]}
[null,"phase B13","Score Infectious disease:"]
[]
[null,"Group at risk","B1 size of the group at risk","B2 chance of contamination","B3a the ability to influence","B3b accessability","B4 community acceptance ","B5 clustering of risks","B6 need for information","B7 existing quid lines","B8 available interventions","total score ","ranking order"]
[]
[null,null,null,null,null,null,null,null,null,null,null,{"$f":"SUM(C5:K5)","v":0},{"$f":"IF(COUNTA(C5:K5)=9,RANK(L5,$L$5:$L$24),101)","v":101},null,{"$f":"C3","v":"B1 size of the group at risk"},0]
[null,null,null,null,null,null,null,null,null,null,null,0,101,null,null,3]
[null,null,null,null,null,null,null,null,null,null,null,0,101,null,null,5]
[null,null,null,null,null,null,null,null,null,null,null,0,101,null,{"$f":"D3","v":"B2 chance of contamination"},1]
[null,null,null,null,null,null,null,null,null,null,null,0,101,null,null,3]
[null,null,null,null,null,null,null,null,null,null,null,0,101,null,null,5]
[null,null,null,null,null,null,null,null,null,null,null,0,101,null,{"$f":"E3","v":"B3a the ability to influence"},-9.9]
[null,null,null,null,null,null,null,null,null,null,null,0,101,null,null,3]
[null,null,null,null,null,null,null,null,null,null,null,0,101,null,null,5]
[null,null,null,null,null,null,null,null,null,null,null,0,101,null,{"$f":"F3","v":"B3b accessability"},0]
[null,null,null,null,null,null,null,null,null,null,null,0,101,null,null,3]
[null,null,null,null,null,null,null,null,null,null,null,0,101,null,null,5]
[null,null,null,null,null,null,null,null,null,null,null,0,101,null,{"$f":"G3","v":"B4 community acceptance "},1]
[null,null,null,null,null,null,null,null,null,null,null,0,101,null,null,2]
[null,null,null,null,null,null,null,null,null,null,null,0,101,null,null,3]
[null,null,null,null,null,null,null,null,null,null,null,0,101,null,{"$f":"H3","v":"B5 clustering of risks"},0]
[null,null,null,null,null,null,null,null,null,null,null,0,101,null,null,1]
[null,null,null,null,null,null,null,null,null,null,null,0,101,null,null,3]
[null,null,null,null,null,null,null,null,null,null,null,0,101,null,{"$f":"I3","v":"B6 need for information"},0]
[null,null,null,null,null,null,null,null,null,null,null,0,101,null,null,1]
[null,null,null,null,null,null,null,null,null,null,null,null,null,null,null,3]
[null,null,null,null,null,null,null,null,null,null,null,null,null,null,{"$f":"J3","v":"B7 existing quid lines"},0]
[null,null,null,null,null,null,null,null,null,null,null,null,null,null,null,5]
[null,null,null,null,null,null,null,null,null,null,null,null,null,null,null,10]
[null,null,null,null,null,null,null,null,null,null,null,null,null,null,{"$f":"K3","v":"B8 available interventions"},0]
[null,null,null,null,null,null,null,null,null,null,null,null,null,null,null,1]
[null,null,null,null,null,null,null,null,null,null,null,null,null,null,null,3]

{"sheet":"phase B14","index":20,"n_rows":31,"n_cols":16,"rows_kept":31,"cut":false,"hidden":false,"merged":[]}
[null,"phase B14","Score Infectious disease:"]
[]
[null,"Group at risk","B1 size of the group at risk","B2 chance of contamination","B3a the ability to influence","B3b accessability","B4 community acceptance ","B5 clustering of risks","B6 need for information","B7 existing quid lines","B8 available interventions","total score ","ranking order"]
[]
[null,null,null,null,null,null,null,null,null,null,null,{"$f":"SUM(C5:K5)","v":0},{"$f":"IF(COUNTA(C5:K5)=9,RANK(L5,$L$5:$L$24),101)","v":101},null,{"$f":"C3","v":"B1 size of the group at risk"},0]
[null,null,null,null,null,null,null,null,null,null,null,0,101,null,null,3]
[null,null,null,null,null,null,null,null,null,null,null,0,101,null,null,5]
[null,null,null,null,null,null,null,null,null,null,null,0,101,null,{"$f":"D3","v":"B2 chance of contamination"},1]
[null,null,null,null,null,null,null,null,null,null,null,0,101,null,null,3]
[null,null,null,null,null,null,null,null,null,null,null,0,101,null,null,5]
[null,null,null,null,null,null,null,null,null,null,null,0,101,null,{"$f":"E3","v":"B3a the ability to influence"},-9.9]
[null,null,null,null,null,null,null,null,null,null,null,0,101,null,null,3]
[null,null,null,null,null,null,null,null,null,null,null,0,101,null,null,5]
[null,null,null,null,null,null,null,null,null,null,null,0,101,null,{"$f":"F3","v":"B3b accessability"},0]
[null,null,null,null,null,null,null,null,null,null,null,0,101,null,null,3]
[null,null,null,null,null,null,null,null,null,null,null,0,101,null,null,5]
[null,null,null,null,null,null,null,null,null,null,null,0,101,null,{"$f":"G3","v":"B4 community acceptance "},1]
[null,null,null,null,null,null,null,null,null,null,null,0,101,null,null,2]
[null,null,null,null,null,null,null,null,null,null,null,0,101,null,null,3]
[null,null,null,null,null,null,null,null,null,null,null,0,101,null,{"$f":"H3","v":"B5 clustering of risks"},0]
[null,null,null,null,null,null,null,null,null,null,null,0,101,null,null,1]
[null,null,null,null,null,null,null,null,null,null,null,0,101,null,null,3]
[null,null,null,null,null,null,null,null,null,null,null,0,101,null,{"$f":"I3","v":"B6 need for information"},0]
[null,null,null,null,null,null,null,null,null,null,null,0,101,null,null,1]
[null,null,null,null,null,null,null,null,null,null,null,null,null,null,null,3]
[null,null,null,null,null,null,null,null,null,null,null,null,null,null,{"$f":"J3","v":"B7 existing quid lines"},0]
[null,null,null,null,null,null,null,null,null,null,null,null,null,null,null,5]
[null,null,null,null,null,null,null,null,null,null,null,null,null,null,null,10]
[null,null,null,null,null,null,null,null,null,null,null,null,null,null,{"$f":"K3","v":"B8 available interventions"},0]
[null,null,null,null,null,null,null,null,null,null,null,null,null,null,null,1]
[null,null,null,null,null,null,null,null,null,null,null,null,null,null,null,3]

{"sheet":"phase B15","index":21,"n_rows":31,"n_cols":16,"rows_kept":31,"cut":false,"hidden":false,"merged":[]}
[null,"phase B15","Score Infectious disease:"]
[]
[null,"Group at risk","B1 size of the group at risk","B2 chance of contamination","B3a the ability to influence","B3b accessability","B4 community acceptance ","B5 clustering of risks","B6 need for information","B7 existing quid lines","B8 available interventions","total score ","ranking order"]
[]
[null,null,null,null,null,null,null,null,null,null,null,{"$f":"SUM(C5:K5)","v":0},{"$f":"IF(COUNTA(C5:K5)=9,RANK(L5,$L$5:$L$24),101)","v":101},null,{"$f":"C3","v":"B1 size of the group at risk"},0]
[null,null,null,null,null,null,null,null,null,null,null,0,101,null,null,3]
[null,null,null,null,null,null,null,null,null,null,null,0,101,null,null,5]
[null,null,null,null,null,null,null,null,null,null,null,0,101,null,{"$f":"D3","v":"B2 chance of contamination"},1]
[null,null,null,null,null,null,null,null,null,null,null,0,101,null,null,3]
[null,null,null,null,null,null,null,null,null,null,null,0,101,null,null,5]
[null,null,null,null,null,null,null,null,null,null,null,0,101,null,{"$f":"E3","v":"B3a the ability to influence"},-9.9]
[null,null,null,null,null,null,null,null,null,null,null,0,101,null,null,3]
[null,null,null,null,null,null,null,null,null,null,null,0,101,null,null,5]
[null,null,null,null,null,null,null,null,null,null,null,0,101,null,{"$f":"F3","v":"B3b accessability"},0]
[null,null,null,null,null,null,null,null,null,null,null,0,101,null,null,3]
[null,null,null,null,null,null,null,null,null,null,null,0,101,null,null,5]
[null,null,null,null,null,null,null,null,null,null,null,0,101,null,{"$f":"G3","v":"B4 community acceptance "},1]
[null,null,null,null,null,null,null,null,null,null,null,0,101,null,null,2]
[null,null,null,null,null,null,null,null,null,null,null,0,101,null,null,3]
[null,null,null,null,null,null,null,null,null,null,null,0,101,null,{"$f":"H3","v":"B5 clustering of risks"},0]
[null,null,null,null,null,null,null,null,null,null,null,0,101,null,null,1]
[null,null,null,null,null,null,null,null,null,null,null,0,101,null,null,3]
[null,null,null,null,null,null,null,null,null,null,null,0,101,null,{"$f":"I3","v":"B6 need for information"},0]
[null,null,null,null,null,null,null,null,null,null,null,0,101,null,null,1]
[null,null,null,null,null,null,null,null,null,null,null,null,null,null,null,3]
[null,null,null,null,null,null,null,null,null,null,null,null,null,null,{"$f":"J3","v":"B7 existing quid lines"},0]
[null,null,null,null,null,null,null,null,null,null,null,null,null,null,null,5]
[null,null,null,null,null,null,null,null,null,null,null,null,null,null,null,10]
[null,null,null,null,null,null,null,null,null,null,null,null,null,null,{"$f":"K3","v":"B8 available interventions"},0]
[null,null,null,null,null,null,null,null,null,null,null,null,null,null,null,1]
[null,null,null,null,null,null,null,null,null,null,null,null,null,null,null,3]

{"sheet":"phase B16","index":22,"n_rows":31,"n_cols":16,"rows_kept":31,"cut":false,"hidden":false,"merged":[]}
[null,"phase B16","Score Infectious disease:"]
[]
[null,"Group at risk","B1 size of the group at risk","B2 chance of contamination","B3a the ability to influence","B3b accessability","B4 community acceptance ","B5 clustering of risks","B6 need for information","B7 existing quid lines","B8 available interventions","total score ","ranking order"]
[]
[null,null,null,null,null,null,null,null,null,null,null,{"$f":"SUM(C5:K5)","v":0},{"$f":"IF(COUNTA(C5:K5)=9,RANK(L5,$L$5:$L$24),101)","v":101},null,{"$f":"C3","v":"B1 size of the group at risk"},0]
[null,null,null,null,null,null,null,null,null,null,null,0,101,null,null,3]
[null,null,null,null,null,null,null,null,null,null,null,0,101,null,null,5]
[null,null,null,null,null,null,null,null,null,null,null,0,101,null,{"$f":"D3","v":"B2 chance of contamination"},1]
[null,null,null,null,null,null,null,null,null,null,null,0,101,null,null,3]
[null,null,null,null,null,null,null,null,null,null,null,0,101,null,null,5]
[null,null,null,null,null,null,null,null,null,null,null,0,101,null,{"$f":"E3","v":"B3a the ability to influence"},-9.9]
[null,null,null,null,null,null,null,null,null,null,null,0,101,null,null,3]
[null,null,null,null,null,null,null,null,null,null,null,0,101,null,null,5]
[null,null,null,null,null,null,null,null,null,null,null,0,101,null,{"$f":"F3","v":"B3b accessability"},0]
[null,null,null,null,null,null,null,null,null,null,null,0,101,null,null,3]
[null,null,null,null,null,null,null,null,null,null,null,0,101,null,null,5]
[null,null,null,null,null,null,null,null,null,null,null,0,101,null,{"$f":"G3","v":"B4 community acceptance "},1]
[null,null,null,null,null,null,null,null,null,null,null,0,101,null,null,2]
[null,null,null,null,null,null,null,null,null,null,null,0,101,null,null,3]
[null,null,null,null,null,null,null,null,null,null,null,0,101,null,{"$f":"H3","v":"B5 clustering of risks"},0]
[null,null,null,null,null,null,null,null,null,null,null,0,101,null,null,1]
[null,null,null,null,null,null,null,null,null,null,null,0,101,null,null,3]
[null,null,null,null,null,null,null,null,null,null,null,0,101,null,{"$f":"I3","v":"B6 need for information"},0]
[null,null,null,null,null,null,null,null,null,null,null,0,101,null,null,1]
[null,null,null,null,null,null,null,null,null,null,null,null,null,null,null,3]
[null,null,null,null,null,null,null,null,null,null,null,null,null,null,{"$f":"J3","v":"B7 existing quid lines"},0]
[null,null,null,null,null,null,null,null,null,null,null,null,null,null,null,5]
[null,null,null,null,null,null,null,null,null,null,null,null,null,null,null,10]
[null,null,null,null,null,null,null,null,null,null,null,null,null,null,{"$f":"K3","v":"B8 available interventions"},0]
[null,null,null,null,null,null,null,null,null,null,null,null,null,null,null,1]
[null,null,null,null,null,null,null,null,null,null,null,null,null,null,null,3]

{"sheet":"phase B17","index":23,"n_rows":31,"n_cols":16,"rows_kept":31,"cut":false,"hidden":false,"merged":[]}
[null,"phase B17","Score Infectious disease:"]
[]
[null,"Group at risk","B1 size of the group at risk","B2 chance of contamination","B3a the ability to influence","B3b accessability","B4 community acceptance ","B5 clustering of risks","B6 need for information","B7 existing quid lines","B8 available interventions","total score ","ranking order"]
[]
[null,null,null,null,null,null,null,null,null,null,null,{"$f":"SUM(C5:K5)","v":0},{"$f":"IF(COUNTA(C5:K5)=9,RANK(L5,$L$5:$L$24),101)","v":101},null,{"$f":"C3","v":"B1 size of the group at risk"},0]
[null,null,null,null,null,null,null,null,null,null,null,0,101,null,null,3]
[null,null,null,null,null,null,null,null,null,null,null,0,101,null,null,5]
[null,null,null,null,null,null,null,null,null,null,null,0,101,null,{"$f":"D3","v":"B2 chance of contamination"},1]
[null,null,null,null,null,null,null,null,null,null,null,0,101,null,null,3]
[null,null,null,null,null,null,null,null,null,null,null,0,101,null,null,5]
[null,null,null,null,null,null,null,null,null,null,null,0,101,null,{"$f":"E3","v":"B3a the ability to influence"},-9.9]
[null,null,null,null,null,null,null,null,null,null,null,0,101,null,null,3]
[null,null,null,null,null,null,null,null,null,null,null,0,101,null,null,5]
[null,null,null,null,null,null,null,null,null,null,null,0,101,null,{"$f":"F3","v":"B3b accessability"},0]
[null,null,null,null,null,null,null,null,null,null,null,0,101,null,null,3]
[null,null,null,null,null,null,null,null,null,null,null,0,101,null,null,5]
[null,null,null,null,null,null,null,null,null,null,null,0,101,null,{"$f":"G3","v":"B4 community acceptance "},1]
[null,null,null,null,null,null,null,null,null,null,null,0,101,null,null,2]
[null,null,null,null,null,null,null,null,null,null,null,0,101,null,null,3]
[null,null,null,null,null,null,null,null,null,null,null,0,101,null,{"$f":"H3","v":"B5 clustering of risks"},0]
[null,null,null,null,null,null,null,null,null,null,null,0,101,null,null,1]
[null,null,null,null,null,null,null,null,null,null,null,0,101,null,null,3]
[null,null,null,null,null,null,null,null,null,null,null,0,101,null,{"$f":"I3","v":"B6 need for information"},0]
[null,null,null,null,null,null,null,null,null,null,null,0,101,null,null,1]
[null,null,null,null,null,null,null,null,null,null,null,null,null,null,null,3]
[null,null,null,null,null,null,null,null,null,null,null,null,null,null,{"$f":"J3","v":"B7 existing quid lines"},0]
[null,null,null,null,null,null,null,null,null,null,null,null,null,null,null,5]
[null,null,null,null,null,null,null,null,null,null,null,null,null,null,null,10]
[null,null,null,null,null,null,null,null,null,null,null,null,null,null,{"$f":"K3","v":"B8 available interventions"},0]
[null,null,null,null,null,null,null,null,null,null,null,null,null,null,null,1]
[null,null,null,null,null,null,null,null,null,null,null,null,null,null,null,3]

{"sheet":"phase B18","index":24,"n_rows":31,"n_cols":16,"rows_kept":31,"cut":false,"hidden":false,"merged":[]}
[null,"phase B18","Score Infectious disease:"]
[]
[null,"Group at risk","B1 size of the group at risk","B2 chance of contamination","B3a the ability to influence","B3b accessability","B4 community acceptance ","B5 clustering of risks","B6 need for information","B7 existing quid lines","B8 available interventions","total score ","ranking order"]
[]
[null,null,null,null,null,null,null,null,null,null,null,{"$f":"SUM(C5:K5)","v":0},{"$f":"IF(COUNTA(C5:K5)=9,RANK(L5,$L$5:$L$24),101)","v":101},null,{"$f":"C3","v":"B1 size of the group at risk"},0]
[null,null,null,null,null,null,null,null,null,null,null,0,101,null,null,3]
[null,null,null,null,null,null,null,null,null,null,null,0,101,null,null,5]
[null,null,null,null,null,null,null,null,null,null,null,0,101,null,{"$f":"D3","v":"B2 chance of contamination"},1]
[null,null,null,null,null,null,null,null,null,null,null,0,101,null,null,3]
[null,null,null,null,null,null,null,null,null,null,null,0,101,null,null,5]
[null,null,null,null,null,null,null,null,null,null,null,0,101,null,{"$f":"E3","v":"B3a the ability to influence"},-9.9]
[null,null,null,null,null,null,null,null,null,null,null,0,101,null,null,3]
[null,null,null,null,null,null,null,null,null,null,null,0,101,null,null,5]
[null,null,null,null,null,null,null,null,null,null,null,0,101,null,{"$f":"F3","v":"B3b accessability"},0]
[null,null,null,null,null,null,null,null,null,null,null,0,101,null,null,3]
[null,null,null,null,null,null,null,null,null,null,null,0,101,null,null,5]
[null,null,null,null,null,null,null,null,null,null,null,0,101,null,{"$f":"G3","v":"B4 community acceptance "},1]
[null,null,null,null,null,null,null,null,null,null,null,0,101,null,null,2]
[null,null,null,null,null,null,null,null,null,null,null,0,101,null,null,3]
[null,null,null,null,null,null,null,null,null,null,null,0,101,null,{"$f":"H3","v":"B5 clustering of risks"},0]
[null,null,null,null,null,null,null,null,null,null,null,0,101,null,null,1]
[null,null,null,null,null,null,null,null,null,null,null,0,101,null,null,3]
[null,null,null,null,null,null,null,null,null,null,null,0,101,null,{"$f":"I3","v":"B6 need for information"},0]
[null,null,null,null,null,null,null,null,null,null,null,0,101,null,null,1]
[null,null,null,null,null,null,null,null,null,null,null,null,null,null,null,3]
[null,null,null,null,null,null,null,null,null,null,null,null,null,null,{"$f":"J3","v":"B7 existing quid lines"},0]
[null,null,null,null,null,null,null,null,null,null,null,null,null,null,null,5]
[null,null,null,null,null,null,null,null,null,null,null,null,null,null,null,10]
[null,null,null,null,null,null,null,null,null,null,null,null,null,null,{"$f":"K3","v":"B8 available interventions"},0]
[null,null,null,null,null,null,null,null,null,null,null,null,null,null,null,1]
[null,null,null,null,null,null,null,null,null,null,null,null,null,null,null,3]

{"sheet":"phase B19","index":25,"n_rows":31,"n_cols":16,"rows_kept":31,"cut":false,"hidden":false,"merged":[]}
[null,"phase B19","Score Infectious disease:"]
[]
[null,"Group at risk","B1 size of the group at risk","B2 chance of contamination","B3a the ability to influence","B3b accessability","B4 community acceptance ","B5 clustering of risks","B6 need for information","B7 existing quid lines","B8 available interventions","total score ","ranking order"]
[]
[null,null,null,null,null,null,null,null,null,null,null,{"$f":"SUM(C5:K5)","v":0},{"$f":"IF(COUNTA(C5:K5)=9,RANK(L5,$L$5:$L$24),101)","v":101},null,{"$f":"C3","v":"B1 size of the group at risk"},0]
[null,null,null,null,null,null,null,null,null,null,null,0,101,null,null,3]
[null,null,null,null,null,null,null,null,null,null,null,0,101,null,null,5]
[null,null,null,null,null,null,null,null,null,null,null,0,101,null,{"$f":"D3","v":"B2 chance of contamination"},1]
[null,null,null,null,null,null,null,null,null,null,null,0,101,null,null,3]
[null,null,null,null,null,null,null,null,null,null,null,0,101,null,null,5]
[null,null,null,null,null,null,null,null,null,null,null,0,101,null,{"$f":"E3","v":"B3a the ability to influence"},-9.9]
[null,null,null,null,null,null,null,null,null,null,null,0,101,null,null,3]
[null,null,null,null,null,null,null,null,null,null,null,0,101,null,null,5]
[null,null,null,null,null,null,null,null,null,null,null,0,101,null,{"$f":"F3","v":"B3b accessability"},0]
[null,null,null,null,null,null,null,null,null,null,null,0,101,null,null,3]
[null,null,null,null,null,null,null,null,null,null,null,0,101,null,null,5]
[null,null,null,null,null,null,null,null,null,null,null,0,101,null,{"$f":"G3","v":"B4 community acceptance "},1]
[null,null,null,null,null,null,null,null,null,null,null,0,101,null,null,2]
[null,null,null,null,null,null,null,null,null,null,null,0,101,null,null,3]
[null,null,null,null,null,null,null,null,null,null,null,0,101,null,{"$f":"H3","v":"B5 clustering of risks"},0]
[null,null,null,null,null,null,null,null,null,null,null,0,101,null,null,1]
[null,null,null,null,null,null,null,null,null,null,null,0,101,null,null,3]
[null,null,null,null,null,null,null,null,null,null,null,0,101,null,{"$f":"I3","v":"B6 need for information"},0]
[null,null,null,null,null,null,null,null,null,null,null,0,101,null,null,1]
[null,null,null,null,null,null,null,null,null,null,null,null,null,null,null,3]
[null,null,null,null,null,null,null,null,null,null,null,null,null,null,{"$f":"J3","v":"B7 existing quid lines"},0]
[null,null,null,null,null,null,null,null,null,null,null,null,null,null,null,5]
[null,null,null,null,null,null,null,null,null,null,null,null,null,null,null,10]
[null,null,null,null,null,null,null,null,null,null,null,null,null,null,{"$f":"K3","v":"B8 available interventions"},0]
[null,null,null,null,null,null,null,null,null,null,null,null,null,null,null,1]
[null,null,null,null,null,null,null,null,null,null,null,null,null,null,null,3]

{"sheet":"phase B20","index":26,"n_rows":31,"n_cols":16,"rows_kept":31,"cut":false,"hidden":false,"merged":[]}
[null,"phase B20","Score Infectious disease:"]
[]
[null,"Group at risk","B1 size of the group at risk","B2 chance of contamination","B3a the ability to influence","B3b accessability","B4 community acceptance ","B5 clustering of risks","B6 need for information","B7 existing quid lines","B8 available interventions","total score ","ranking order"]
[]
[null,null,null,null,null,null,null,null,null,null,null,{"$f":"SUM(C5:K5)","v":0},{"$f":"IF(COUNTA(C5:K5)=9,RANK(L5,$L$5:$L$24),101)","v":101},null,{"$f":"C3","v":"B1 size of the group at risk"},0]
[null,null,null,null,null,null,null,null,null,null,null,0,101,null,null,3]
[null,null,null,null,null,null,null,null,null,null,null,0,101,null,null,5]
[null,null,null,null,null,null,null,null,null,null,null,0,101,null,{"$f":"D3","v":"B2 chance of contamination"},1]
[null,null,null,null,null,null,null,null,null,null,null,0,101,null,null,3]
[null,null,null,null,null,null,null,null,null,null,null,0,101,null,null,5]
[null,null,null,null,null,null,null,null,null,null,null,0,101,null,{"$f":"E3","v":"B3a the ability to influence"},-9.9]
[null,null,null,null,null,null,null,null,null,null,null,0,101,null,null,3]
[null,null,null,null,null,null,null,null,null,null,null,0,101,null,null,5]
[null,null,null,null,null,null,null,null,null,null,null,0,101,null,{"$f":"F3","v":"B3b accessability"},0]
[null,null,null,null,null,null,null,null,null,null,null,0,101,null,null,3]
[null,null,null,null,null,null,null,null,null,null,null,0,101,null,null,5]
[null,null,null,null,null,null,null,null,null,null,null,0,101,null,{"$f":"G3","v":"B4 community acceptance "},1]
[null,null,null,null,null,null,null,null,null,null,null,0,101,null,null,2]
[null,null,null,null,null,null,null,null,null,null,null,0,101,null,null,3]
[null,null,null,null,null,null,null,null,null,null,null,0,101,null,{"$f":"H3","v":"B5 clustering of risks"},0]
[null,null,null,null,null,null,null,null,null,null,null,0,101,null,null,1]
[null,null,null,null,null,null,null,null,null,null,null,0,101,null,null,3]
[null,null,null,null,null,null,null,null,null,null,null,0,101,null,{"$f":"I3","v":"B6 need for information"},0]
[null,null,null,null,null,null,null,null,null,null,null,0,101,null,null,1]
[null,null,null,null,null,null,null,null,null,null,null,null,null,null,null,3]
[null,null,null,null,null,null,null,null,null,null,null,null,null,null,{"$f":"J3","v":"B7 existing quid lines"},0]
[null,null,null,null,null,null,null,null,null,null,null,null,null,null,null,5]
[null,null,null,null,null,null,null,null,null,null,null,null,null,null,null,10]
[null,null,null,null,null,null,null,null,null,null,null,null,null,null,{"$f":"K3","v":"B8 available interventions"},0]
[null,null,null,null,null,null,null,null,null,null,null,null,null,null,null,1]
[null,null,null,null,null,null,null,null,null,null,null,null,null,null,null,3]

{"sheet":"explanation phase C","index":27,"n_rows":0,"n_cols":0,"rows_kept":0,"cut":false,"hidden":false,"merged":[]}

{"sheet":"phase C1","index":28,"n_rows":15,"n_cols":11,"rows_kept":15,"cut":false,"hidden":false,"merged":[]}
["phase C1","Infectious disease:",null,null,null,null,null,null,"Group at risk:"]
[]
[null,"Intervention","C1 proven effectiveness","C2 potential health benefits","C3 feasibility","C4 fitting with policy","Total score","ranking order"]
[]
[null,null,null,null,null,null,{"$f":"SUM(C5:F5)","v":0},{"$f":"IF(COUNTA(C5:F5)=4,RANK(G5,$G$5:$G$14),101)","v":101},null,{"$f":"C3","v":"C1 proven effectiveness"},0]
[null,null,null,null,null,null,{"$f":"SUM(C6:F6)","v":0},{"$f":"IF(COUNTA(C6:F6)=4,RANK(G6,$G$5:$G$14),101)","v":101},null,null,3]
[null,null,null,null,null,null,0,101,null,null,5]
[null,null,null,null,null,null,0,101,null,{"$f":"D3","v":"C2 potential health benefits"},1]
[null,null,null,null,null,null,0,101,null,null,3]
[null,null,null,null,null,null,0,101,null,null,5]
[null,null,null,null,null,null,0,101,null,{"$f":"E3","v":"C3 feasibility"},0]
[null,null,null,null,null,null,0,101,null,null,3]
[null,null,null,null,null,null,0,101,null,null,5]
[null,null,null,null,null,null,0,101,null,{"$f":"F3","v":"C4 fitting with policy"},0]
[null,null,null,null,null,null,null,null,null,null,3]

{"sheet":"phase C2","index":29,"n_rows":15,"n_cols":11,"rows_kept":15,"cut":false,"hidden":false,"merged":[]}
["phase C2","Infectious disease:",null,null,null,null,null,null,"Group at risk:"]
[]
[null,"Intervention","C1 proven effectiveness","C2 potential health benefits","C3 feasibility","C4 fitting with policy","Total score","ranking order"]
[]
[null,null,null,null,null,null,{"$f":"SUM(C5:F5)","v":0},{"$f":"IF(COUNTA(C5:F5)=4,RANK(G5,$G$5:$G$14),101)","v":101},null,{"$f":"C3","v":"C1 proven effectiveness"},0]
[null,null,null,null,null,null,{"$f":"SUM(C6:F6)","v":0},{"$f":"IF(COUNTA(C6:F6)=4,RANK(G6,$G$5:$G$14),101)","v":101},null,null,3]
[null,null,null,null,null,null,0,101,null,null,5]
[null,null,null,null,null,null,0,101,null,{"$f":"D3","v":"C2 potential health benefits"},1]
[null,null,null,null,null,null,0,101,null,null,3]
[null,null,null,null,null,null,0,101,null,null,5]
[null,null,null,null,null,null,0,101,null,{"$f":"E3","v":"C3 feasibility"},0]
[null,null,null,null,null,null,0,101,null,null,3]
[null,null,null,null,null,null,0,101,null,null,5]
[null,null,null,null,null,null,0,101,null,{"$f":"F3","v":"C4 fitting with policy"},0]
[null,null,null,null,null,null,null,null,null,null,3]

{"sheet":"phase C3","index":30,"n_rows":15,"n_cols":11,"rows_kept":15,"cut":false,"hidden":false,"merged":[]}
["phase C3","Infectious disease:",null,null,null,null,null,null,"Group at risk:"]
[]
[null,"Intervention","C1 proven effectiveness","C2 potential health benefits","C3 feasibility","C4 fitting with policy","Total score","ranking order"]
[]
[null,null,null,null,null,null,{"$f":"SUM(C5:F5)","v":0},{"$f":"IF(COUNTA(C5:F5)=4,RANK(G5,$G$5:$G$14),101)","v":101},null,{"$f":"C3","v":"C1 proven effectiveness"},0]
[null,null,null,null,null,null,{"$f":"SUM(C6:F6)","v":0},{"$f":"IF(COUNTA(C6:F6)=4,RANK(G6,$G$5:$G$14),101)","v":101},null,null,3]
[null,null,null,null,null,null,0,101,null,null,5]
[null,null,null,null,null,null,0,101,null,{"$f":"D3","v":"C2 potential health benefits"},1]
[null,null,null,null,null,null,0,101,null,null,3]
[null,null,null,null,null,null,0,101,null,null,5]
[null,null,null,null,null,null,0,101,null,{"$f":"E3","v":"C3 feasibility"},0]
[null,null,null,null,null,null,0,101,null,null,3]
[null,null,null,null,null,null,0,101,null,null,5]
[null,null,null,null,null,null,0,101,null,{"$f":"F3","v":"C4 fitting with policy"},0]
[null,null,null,null,null,null,null,null,null,null,3]

{"sheet":"phase C4","index":31,"n_rows":15,"n_cols":11,"rows_kept":15,"cut":false,"hidden":false,"merged":[]}
["phase C4","Infectious disease:",null,null,null,null,null,null,"Group at risk:"]
[]
[null,"Intervention","C1 proven effectiveness","C2 potential health benefits","C3 feasibility","C4 fitting with policy","Total score","ranking order"]
[]
[null,null,null,null,null,null,{"$f":"SUM(C5:F5)","v":0},{"$f":"IF(COUNTA(C5:F5)=4,RANK(G5,$G$5:$G$14),101)","v":101},null,{"$f":"C3","v":"C1 proven effectiveness"},0]
[null,null,null,null,null,null,{"$f":"SUM(C6:F6)","v":0},{"$f":"IF(COUNTA(C6:F6)=4,RANK(G6,$G$5:$G$14),101)","v":101},null,null,3]
[null,null,null,null,null,null,0,101,null,null,5]
[null,null,null,null,null,null,0,101,null,{"$f":"D3","v":"C2 potential health benefits"},1]
[null,null,null,null,null,null,0,101,null,null,3]
[null,null,null,null,null,null,0,101,null,null,5]
[null,null,null,null,null,null,0,101,null,{"$f":"E3","v":"C3 feasibility"},0]
[null,null,null,null,null,null,0,101,null,null,3]
[null,null,null,null,null,null,0,101,null,null,5]
[null,null,null,null,null,null,0,101,null,{"$f":"F3","v":"C4 fitting with policy"},0]
[null,null,null,null,null,null,null,null,null,null,3]

{"sheet":"phase C5","index":32,"n_rows":15,"n_cols":11,"rows_kept":15,"cut":false,"hidden":false,"merged":[]}
["phase C5","Infectious disease:",null,null,null,null,null,null,"Group at risk:"]
[]
[null,"Intervention","C1 proven effectiveness","C2 potential health benefits","C3 feasibility","C4 fitting with policy","Total score","ranking order"]
[]
[null,null,null,null,null,null,{"$f":"SUM(C5:F5)","v":0},{"$f":"IF(COUNTA(C5:F5)=4,RANK(G5,$G$5:$G$14),101)","v":101},null,{"$f":"C3","v":"C1 proven effectiveness"},0]
[null,null,null,null,null,null,{"$f":"SUM(C6:F6)","v":0},{"$f":"IF(COUNTA(C6:F6)=4,RANK(G6,$G$5:$G$14),101)","v":101},null,null,3]
[null,null,null,null,null,null,0,101,null,null,5]
[null,null,null,null,null,null,0,101,null,{"$f":"D3","v":"C2 potential health benefits"},1]
[null,null,null,null,null,null,0,101,null,null,3]
[null,null,null,null,null,null,0,101,null,null,5]
[null,null,null,null,null,null,0,101,null,{"$f":"E3","v":"C3 feasibility"},0]
[null,null,null,null,null,null,0,101,null,null,3]
[null,null,null,null,null,null,0,101,null,null,5]
[null,null,null,null,null,null,0,101,null,{"$f":"F3","v":"C4 fitting with policy"},0]
[null,null,null,null,null,null,null,null,null,null,3]

{"sheet":"phase C6","index":33,"n_rows":15,"n_cols":11,"rows_kept":15,"cut":false,"hidden":false,"merged":[]}
["phase C6","Infectious disease:",null,null,null,null,null,null,"Group at risk:"]
[]
[null,"Intervention","C1 proven effectiveness","C2 potential health benefits","C3 feasibility","C4 fitting with policy","Total score","ranking order"]
[]
[null,null,null,null,null,null,{"$f":"SUM(C5:F5)","v":0},{"$f":"IF(COUNTA(C5:F5)=4,RANK(G5,$G$5:$G$14),101)","v":101},null,{"$f":"C3","v":"C1 proven effectiveness"},0]
[null,null,null,null,null,null,{"$f":"SUM(C6:F6)","v":0},{"$f":"IF(COUNTA(C6:F6)=4,RANK(G6,$G$5:$G$14),101)","v":101},null,null,3]
[null,null,null,null,null,null,0,101,null,null,5]
[null,null,null,null,null,null,0,101,null,{"$f":"D3","v":"C2 potential health benefits"},1]
[null,null,null,null,null,null,0,101,null,null,3]
[null,null,null,null,null,null,0,101,null,null,5]
[null,null,null,null,null,null,0,101,null,{"$f":"E3","v":"C3 feasibility"},0]
[null,null,null,null,null,null,0,101,null,null,3]
[null,null,null,null,null,null,0,101,null,null,5]
[null,null,null,null,null,null,0,101,null,{"$f":"F3","v":"C4 fitting with policy"},0]
[null,null,null,null,null,null,null,null,null,null,3]

{"sheet":"phase C7","index":34,"n_rows":15,"n_cols":11,"rows_kept":15,"cut":false,"hidden":false,"merged":[]}
["phase C7","Infectious disease:",null,null,null,null,null,null,"Group at risk:"]
[]
[null,"Intervention","C1 proven effectiveness","C2 potential health benefits","C3 feasibility","C4 fitting with policy","Total score","ranking order"]
[]
[null,null,null,null,null,null,{"$f":"SUM(C5:F5)","v":0},{"$f":"IF(COUNTA(C5:F5)=4,RANK(G5,$G$5:$G$14),101)","v":101},null,{"$f":"C3","v":"C1 proven effectiveness"},0]
[null,null,null,null,null,null,{"$f":"SUM(C6:F6)","v":0},{"$f":"IF(COUNTA(C6:F6)=4,RANK(G6,$G$5:$G$14),101)","v":101},null,null,3]
[null,null,null,null,null,null,0,101,null,null,5]
[null,null,null,null,null,null,0,101,null,{"$f":"D3","v":"C2 potential health benefits"},1]
[null,null,null,null,null,null,0,101,null,null,3]
[null,null,null,null,null,null,0,101,null,null,5]
[null,null,null,null,null,null,0,101,null,{"$f":"E3","v":"C3 feasibility"},0]
[null,null,null,null,null,null,0,101,null,null,3]
[null,null,null,null,null,null,0,101,null,null,5]
[null,null,null,null,null,null,0,101,null,{"$f":"F3","v":"C4 fitting with policy"},0]
[null,null,null,null,null,null,null,null,null,null,3]

{"sheet":"phase C8","index":35,"n_rows":15,"n_cols":11,"rows_kept":15,"cut":false,"hidden":false,"merged":[]}
["phase C8","Infectious disease:",null,null,null,null,null,null,"Group at risk:"]
[]
[null,"Intervention","C1 proven effectiveness","C2 potential health benefits","C3 feasibility","C4 fitting with policy","Total score","ranking order"]
[]
[null,null,null,null,null,null,{"$f":"SUM(C5:F5)","v":0},{"$f":"IF(COUNTA(C5:F5)=4,RANK(G5,$G$5:$G$14),101)","v":101},null,{"$f":"C3","v":"C1 proven effectiveness"},0]
[null,null,null,null,null,null,{"$f":"SUM(C6:F6)","v":0},{"$f":"IF(COUNTA(C6:F6)=4,RANK(G6,$G$5:$G$14),101)","v":101},null,null,3]
[null,null,null,null,null,null,0,101,null,null,5]
[null,null,null,null,null,null,0,101,null,{"$f":"D3","v":"C2 potential health benefits"},1]
[null,null,null,null,null,null,0,101,null,null,3]
[null,null,null,null,null,null,0,101,null,null,5]
[null,null,null,null,null,null,0,101,null,{"$f":"E3","v":"C3 feasibility"},0]
[null,null,null,null,null,null,0,101,null,null,3]
[null,null,null,null,null,null,0,101,null,null,5]
[null,null,null,null,null,null,0,101,null,{"$f":"F3","v":"C4 fitting with policy"},0]
[null,null,null,null,null,null,null,null,null,null,3]

{"sheet":"phase C9","index":36,"n_rows":15,"n_cols":11,"rows_kept":15,"cut":false,"hidden":false,"merged":[]}
["phase C9","Infectious disease:",null,null,null,null,null,null,"Group at risk:"]
[]
[null,"Intervention","C1 proven effectiveness","C2 potential health benefits","C3 feasibility","C4 fitting with policy","Total score","ranking order"]
[]
[null,null,null,null,null,null,{"$f":"SUM(C5:F5)","v":0},{"$f":"IF(COUNTA(C5:F5)=4,RANK(G5,$G$5:$G$14),101)","v":101},null,{"$f":"C3","v":"C1 proven effectiveness"},0]
[null,null,null,null,null,null,{"$f":"SUM(C6:F6)","v":0},{"$f":"IF(COUNTA(C6:F6)=4,RANK(G6,$G$5:$G$14),101)","v":101},null,null,3]
[null,null,null,null,null,null,0,101,null,null,5]
[null,null,null,null,null,null,0,101,null,{"$f":"D3","v":"C2 potential health benefits"},1]
[null,null,null,null,null,null,0,101,null,null,3]
[null,null,null,null,null,null,0,101,null,null,5]
[null,null,null,null,null,null,0,101,null,{"$f":"E3","v":"C3 feasibility"},0]
[null,null,null,null,null,null,0,101,null,null,3]
[null,null,null,null,null,null,0,101,null,null,5]
[null,null,null,null,null,null,0,101,null,{"$f":"F3","v":"C4 fitting with policy"},0]
[null,null,null,null,null,null,null,null,null,null,3]

{"sheet":"phase C10","index":37,"n_rows":15,"n_cols":11,"rows_kept":15,"cut":false,"hidden":false,"merged":[]}
["phase C10","Infectious disease:",null,null,null,null,null,null,"Group at risk:"]
[]
[null,"Intervention","C1 proven effectiveness","C2 potential health benefits","C3 feasibility","C4 fitting with policy","Total score","ranking order"]
[]
[null,null,null,null,null,null,{"$f":"SUM(C5:F5)","v":0},{"$f":"IF(COUNTA(C5:F5)=4,RANK(G5,$G$5:$G$14),101)","v":101},null,{"$f":"C3","v":"C1 proven effectiveness"},0]
[null,null,null,null,null,null,{"$f":"SUM(C6:F6)","v":0},{"$f":"IF(COUNTA(C6:F6)=4,RANK(G6,$G$5:$G$14),101)","v":101},null,null,3]
[null,null,null,null,null,null,0,101,null,null,5]
[null,null,null,null,null,null,0,101,null,{"$f":"D3","v":"C2 potential health benefits"},1]
[null,null,null,null,null,null,0,101,null,null,3]
[null,null,null,null,null,null,0,101,null,null,5]
[null,null,null,null,null,null,0,101,null,{"$f":"E3","v":"C3 feasibility"},0]
[null,null,null,null,null,null,0,101,null,null,3]
[null,null,null,null,null,null,0,101,null,null,5]
[null,null,null,null,null,null,0,101,null,{"$f":"F3","v":"C4 fitting with policy"},0]
[null,null,null,null,null,null,null,null,null,null,3]

{"sheet":"phase C11","index":38,"n_rows":15,"n_cols":11,"rows_kept":15,"cut":false,"hidden":false,"merged":[]}
["phase C11","Infectious disease:",null,null,null,null,null,null,"Group at risk:"]
[]
[null,"Intervention","C1 proven effectiveness","C2 potential health benefits","C3 feasibility","C4 fitting with policy","Total score","ranking order"]
[]
[null,null,null,null,null,null,{"$f":"SUM(C5:F5)","v":0},{"$f":"IF(COUNTA(C5:F5)=4,RANK(G5,$G$5:$G$14),101)","v":101},null,{"$f":"C3","v":"C1 proven effectiveness"},0]
[null,null,null,null,null,null,{"$f":"SUM(C6:F6)","v":0},{"$f":"IF(COUNTA(C6:F6)=4,RANK(G6,$G$5:$G$14),101)","v":101},null,null,3]
[null,null,null,null,null,null,0,101,null,null,5]
[null,null,null,null,null,null,0,101,null,{"$f":"D3","v":"C2 potential health benefits"},1]
[null,null,null,null,null,null,0,101,null,null,3]
[null,null,null,null,null,null,0,101,null,null,5]
[null,null,null,null,null,null,0,101,null,{"$f":"E3","v":"C3 feasibility"},0]
[null,null,null,null,null,null,0,101,null,null,3]
[null,null,null,null,null,null,0,101,null,null,5]
[null,null,null,null,null,null,0,101,null,{"$f":"F3","v":"C4 fitting with policy"},0]
[null,null,null,null,null,null,null,null,null,null,3]

{"sheet":"phase C12","index":39,"n_rows":15,"n_cols":11,"rows_kept":15,"cut":false,"hidden":false,"merged":[]}
["phase C12","Infectious disease:",null,null,null,null,null,null,"Group at risk:"]
[]
[null,"Intervention","C1 proven effectiveness","C2 potential health benefits","C3 feasibility","C4 fitting with policy","Total score","ranking order"]
[]
[null,null,null,null,null,null,{"$f":"SUM(C5:F5)","v":0},{"$f":"IF(COUNTA(C5:F5)=4,RANK(G5,$G$5:$G$14),101)","v":101},null,{"$f":"C3","v":"C1 proven effectiveness"},0]
[null,null,null,null,null,null,{"$f":"SUM(C6:F6)","v":0},{"$f":"IF(COUNTA(C6:F6)=4,RANK(G6,$G$5:$G$14),101)","v":101},null,null,3]
[null,null,null,null,null,null,0,101,null,null,5]
[null,null,null,null,null,null,0,101,null,{"$f":"D3","v":"C2 potential health benefits"},1]
[null,null,null,null,null,null,0,101,null,null,3]
[null,null,null,null,null,null,0,101,null,null,5]
[null,null,null,null,null,null,0,101,null,{"$f":"E3","v":"C3 feasibility"},0]
[null,null,null,null,null,null,0,101,null,null,3]
[null,null,null,null,null,null,0,101,null,null,5]
[null,null,null,null,null,null,0,101,null,{"$f":"F3","v":"C4 fitting with policy"},0]
[null,null,null,null,null,null,null,null,null,null,3]

{"sheet":"phase C13","index":40,"n_rows":15,"n_cols":11,"rows_kept":15,"cut":false,"hidden":false,"merged":[]}
["phase C13","Infectious disease:",null,null,null,null,null,null,"Group at risk:"]
[]
[null,"Intervention","C1 proven effectiveness","C2 potential health benefits","C3 feasibility","C4 fitting with policy","Total score","ranking order"]
[]
[null,null,null,null,null,null,{"$f":"SUM(C5:F5)","v":0},{"$f":"IF(COUNTA(C5:F5)=4,RANK(G5,$G$5:$G$14),101)","v":101},null,{"$f":"C3","v":"C1 proven effectiveness"},0]
[null,null,null,null,null,null,{"$f":"SUM(C6:F6)","v":0},{"$f":"IF(COUNTA(C6:F6)=4,RANK(G6,$G$5:$G$14),101)","v":101},null,null,3]
[null,null,null,null,null,null,0,101,null,null,5]
[null,null,null,null,null,null,0,101,null,{"$f":"D3","v":"C2 potential health benefits"},1]
[null,null,null,null,null,null,0,101,null,null,3]
[null,null,null,null,null,null,0,101,null,null,5]
[null,null,null,null,null,null,0,101,null,{"$f":"E3","v":"C3 feasibility"},0]
[null,null,null,null,null,null,0,101,null,null,3]
[null,null,null,null,null,null,0,101,null,null,5]
[null,null,null,null,null,null,0,101,null,{"$f":"F3","v":"C4 fitting with policy"},0]
[null,null,null,null,null,null,null,null,null,null,3]

{"sheet":"phase C14","index":41,"n_rows":15,"n_cols":11,"rows_kept":15,"cut":false,"hidden":false,"merged":[]}
["phase C14","Infectious disease:",null,null,null,null,null,null,"Group at risk:"]
[]
[null,"Intervention","C1 proven effectiveness","C2 potential health benefits","C3 feasibility","C4 fitting with policy","Total score","ranking order"]
[]
[null,null,null,null,null,null,{"$f":"SUM(C5:F5)","v":0},{"$f":"IF(COUNTA(C5:F5)=4,RANK(G5,$G$5:$G$14),101)","v":101},null,{"$f":"C3","v":"C1 proven effectiveness"},0]
[null,null,null,null,null,null,{"$f":"SUM(C6:F6)","v":0},{"$f":"IF(COUNTA(C6:F6)=4,RANK(G6,$G$5:$G$14),101)","v":101},null,null,3]
[null,null,null,null,null,null,0,101,null,null,5]
[null,null,null,null,null,null,0,101,null,{"$f":"D3","v":"C2 potential health benefits"},1]
[null,null,null,null,null,null,0,101,null,null,3]
[null,null,null,null,null,null,0,101,null,null,5]
[null,null,null,null,null,null,0,101,null,{"$f":"E3","v":"C3 feasibility"},0]
[null,null,null,null,null,null,0,101,null,null,3]
[null,null,null,null,null,null,0,101,null,null,5]
[null,null,null,null,null,null,0,101,null,{"$f":"F3","v":"C4 fitting with policy"},0]
[null,null,null,null,null,null,null,null,null,null,3]

{"sheet":"phase C15","index":42,"n_rows":15,"n_cols":11,"rows_kept":15,"cut":false,"hidden":false,"merged":[]}
["phase C15","Infectious disease:",null,null,null,null,null,null,"Group at risk:"]
[]
[null,"Intervention","C1 proven effectiveness","C2 potential health benefits","C3 feasibility","C4 fitting with policy","Total score","ranking order"]
[]
[null,null,null,null,null,null,{"$f":"SUM(C5:F5)","v":0},{"$f":"IF(COUNTA(C5:F5)=4,RANK(G5,$G$5:$G$14),101)","v":101},null,{"$f":"C3","v":"C1 proven effectiveness"},0]
[null,null,null,null,null,null,{"$f":"SUM(C6:F6)","v":0},{"$f":"IF(COUNTA(C6:F6)=4,RANK(G6,$G$5:$G$14),101)","v":101},null,null,3]
[null,null,null,null,null,null,0,101,null,null,5]
[null,null,null,null,null,null,0,101,null,{"$f":"D3","v":"C2 potential health benefits"},1]
[null,null,null,null,null,null,0,101,null,null,3]
[null,null,null,null,null,null,0,101,null,null,5]
[null,null,null,null,null,null,0,101,null,{"$f":"E3","v":"C3 feasibility"},0]
[null,null,null,null,null,null,0,101,null,null,3]
[null,null,null,null,null,null,0,101,null,null,5]
[null,null,null,null,null,null,0,101,null,{"$f":"F3","v":"C4 fitting with policy"},0]
[null,null,null,null,null,null,null,null,null,null,3]

{"sheet":"phase C16","index":43,"n_rows":15,"n_cols":11,"rows_kept":15,"cut":false,"hidden":false,"merged":[]}
["phase C16","Infectious disease:",null,null,null,null,null,null,"Group at risk:"]
[]
[null,"Intervention","C1 proven effectiveness","C2 potential health benefits","C3 feasibility","C4 fitting with policy","Total score","ranking order"]
[]
[null,null,null,null,null,null,{"$f":"SUM(C5:F5)","v":0},{"$f":"IF(COUNTA(C5:F5)=4,RANK(G5,$G$5:$G$14),101)","v":101},null,{"$f":"C3","v":"C1 proven effectiveness"},0]
[null,null,null,null,null,null,{"$f":"SUM(C6:F6)","v":0},{"$f":"IF(COUNTA(C6:F6)=4,RANK(G6,$G$5:$G$14),101)","v":101},null,null,3]
[null,null,null,null,null,null,0,101,null,null,5]
[null,null,null,null,null,null,0,101,null,{"$f":"D3","v":"C2 potential health benefits"},1]
[null,null,null,null,null,null,0,101,null,null,3]
[null,null,null,null,null,null,0,101,null,null,5]
[null,null,null,null,null,null,0,101,null,{"$f":"E3","v":"C3 feasibility"},0]
[null,null,null,null,null,null,0,101,null,null,3]
[null,null,null,null,null,null,0,101,null,null,5]
[null,null,null,null,null,null,0,101,null,{"$f":"F3","v":"C4 fitting with policy"},0]
[null,null,null,null,null,null,null,null,null,null,3]

{"sheet":"phase C17","index":44,"n_rows":15,"n_cols":11,"rows_kept":15,"cut":false,"hidden":false,"merged":[]}
["phase C17","Infectious disease:",null,null,null,null,null,null,"Group at risk:"]
[]
[null,"Intervention","C1 proven effectiveness","C2 potential health benefits","C3 feasibility","C4 fitting with policy","Total score","ranking order"]
[]
[null,null,null,null,null,null,{"$f":"SUM(C5:F5)","v":0},{"$f":"IF(COUNTA(C5:F5)=4,RANK(G5,$G$5:$G$14),101)","v":101},null,{"$f":"C3","v":"C1 proven effectiveness"},0]
[null,null,null,null,null,null,{"$f":"SUM(C6:F6)","v":0},{"$f":"IF(COUNTA(C6:F6)=4,RANK(G6,$G$5:$G$14),101)","v":101},null,null,3]
[null,null,null,null,null,null,0,101,null,null,5]
[null,null,null,null,null,null,0,101,null,{"$f":"D3","v":"C2 potential health benefits"},1]
[null,null,null,null,null,null,0,101,null,null,3]
[null,null,null,null,null,null,0,101,null,null,5]
[null,null,null,null,null,null,0,101,null,{"$f":"E3","v":"C3 feasibility"},0]
[null,null,null,null,null,null,0,101,null,null,3]
[null,null,null,null,null,null,0,101,null,null,5]
[null,null,null,null,null,null,0,101,null,{"$f":"F3","v":"C4 fitting with policy"},0]
[null,null,null,null,null,null,null,null,null,null,3]

{"sheet":"phase C18","index":45,"n_rows":15,"n_cols":11,"rows_kept":15,"cut":false,"hidden":false,"merged":[]}
["phase C18","Infectious disease:",null,null,null,null,null,null,"Group at risk:"]
[]
[null,"Intervention","C1 proven effectiveness","C2 potential health benefits","C3 feasibility","C4 fitting with policy","Total score","ranking order"]
[]
[null,null,null,null,null,null,{"$f":"SUM(C5:F5)","v":0},{"$f":"IF(COUNTA(C5:F5)=4,RANK(G5,$G$5:$G$14),101)","v":101},null,{"$f":"C3","v":"C1 proven effectiveness"},0]
[null,null,null,null,null,null,{"$f":"SUM(C6:F6)","v":0},{"$f":"IF(COUNTA(C6:F6)=4,RANK(G6,$G$5:$G$14),101)","v":101},null,null,3]
[null,null,null,null,null,null,0,101,null,null,5]
[null,null,null,null,null,null,0,101,null,{"$f":"D3","v":"C2 potential health benefits"},1]
[null,null,null,null,null,null,0,101,null,null,3]
[null,null,null,null,null,null,0,101,null,null,5]
[null,null,null,null,null,null,0,101,null,{"$f":"E3","v":"C3 feasibility"},0]
[null,null,null,null,null,null,0,101,null,null,3]
[null,null,null,null,null,null,0,101,null,null,5]
[null,null,null,null,null,null,0,101,null,{"$f":"F3","v":"C4 fitting with policy"},0]
[null,null,null,null,null,null,null,null,null,null,3]

{"sheet":"phase C19","index":46,"n_rows":15,"n_cols":11,"rows_kept":15,"cut":false,"hidden":false,"merged":[]}
["phase C19","Infectious disease:",null,null,null,null,null,null,"Group at risk:"]
[]
[null,"Intervention","C1 proven effectiveness","C2 potential health benefits","C3 feasibility","C4 fitting with policy","Total score","ranking order"]
[]
[null,null,null,null,null,null,{"$f":"SUM(C5:F5)","v":0},{"$f":"IF(COUNTA(C5:F5)=4,RANK(G5,$G$5:$G$14),101)","v":101},null,{"$f":"C3","v":"C1 proven effectiveness"},0]
[null,null,null,null,null,null,{"$f":"SUM(C6:F6)","v":0},{"$f":"IF(COUNTA(C6:F6)=4,RANK(G6,$G$5:$G$14),101)","v":101},null,null,3]
[null,null,null,null,null,null,0,101,null,null,5]
[null,null,null,null,null,null,0,101,null,{"$f":"D3","v":"C2 potential health benefits"},1]
[null,null,null,null,null,null,0,101,null,null,3]
[null,null,null,null,null,null,0,101,null,null,5]
[null,null,null,null,null,null,0,101,null,{"$f":"E3","v":"C3 feasibility"},0]
[null,null,null,null,null,null,0,101,null,null,3]
[null,null,null,null,null,null,0,101,null,null,5]
[null,null,null,null,null,null,0,101,null,{"$f":"F3","v":"C4 fitting with policy"},0]
[null,null,null,null,null,null,null,null,null,null,3]

{"sheet":"phase C20","index":47,"n_rows":15,"n_cols":11,"rows_kept":15,"cut":false,"hidden":false,"merged":[]}
["phase C20","Infectious disease:",null,null,null,null,null,null,"Group at risk:"]
[]
[null,"Intervention","C1 proven effectiveness","C2 potential health benefits","C3 feasibility","C4 fitting with policy","Total score","ranking order"]
[]
[null,null,null,null,null,null,{"$f":"SUM(C5:F5)","v":0},{"$f":"IF(COUNTA(C5:F5)=4,RANK(G5,$G$5:$G$14),101)","v":101},null,{"$f":"C3","v":"C1 proven effectiveness"},0]
[null,null,null,null,null,null,{"$f":"SUM(C6:F6)","v":0},{"$f":"IF(COUNTA(C6:F6)=4,RANK(G6,$G$5:$G$14),101)","v":101},null,null,3]
[null,null,null,null,null,null,0,101,null,null,5]
[null,null,null,null,null,null,0,101,null,{"$f":"D3","v":"C2 potential health benefits"},1]
[null,null,null,null,null,null,0,101,null,null,3]
[null,null,null,null,null,null,0,101,null,null,5]
[null,null,null,null,null,null,0,101,null,{"$f":"E3","v":"C3 feasibility"},0]
[null,null,null,null,null,null,0,101,null,null,3]
[null,null,null,null,null,null,0,101,null,null,5]
[null,null,null,null,null,null,0,101,null,{"$f":"F3","v":"C4 fitting with policy"},0]
[null,null,null,null,null,null,null,null,null,null,3]

{"sheet":"Blad1","index":48,"n_rows":0,"n_cols":0,"rows_kept":0,"cut":false,"hidden":false,"merged":[]}